BEGIN:VCALENDAR
VERSION:2.0
PRODID:-//Glen Lake Chamber of Commerce - ECPv6.15.19//NONSGML v1.0//EN
CALSCALE:GREGORIAN
METHOD:PUBLISH
X-WR-CALNAME:Glen Lake Chamber of Commerce
X-ORIGINAL-URL:https://www.visitglenarbor.com
X-WR-CALDESC:Events for Glen Lake Chamber of Commerce
REFRESH-INTERVAL;VALUE=DURATION:PT1H
X-Robots-Tag:noindex
X-PUBLISHED-TTL:PT1H
BEGIN:VTIMEZONE
TZID:America/Detroit
BEGIN:DAYLIGHT
TZOFFSETFROM:-0500
TZOFFSETTO:-0400
TZNAME:EDT
DTSTART:20150308T070000
END:DAYLIGHT
BEGIN:STANDARD
TZOFFSETFROM:-0400
TZOFFSETTO:-0500
TZNAME:EST
DTSTART:20151101T060000
END:STANDARD
BEGIN:DAYLIGHT
TZOFFSETFROM:-0500
TZOFFSETTO:-0400
TZNAME:EDT
DTSTART:20160313T070000
END:DAYLIGHT
BEGIN:STANDARD
TZOFFSETFROM:-0400
TZOFFSETTO:-0500
TZNAME:EST
DTSTART:20161106T060000
END:STANDARD
BEGIN:DAYLIGHT
TZOFFSETFROM:-0500
TZOFFSETTO:-0400
TZNAME:EDT
DTSTART:20170312T070000
END:DAYLIGHT
BEGIN:STANDARD
TZOFFSETFROM:-0400
TZOFFSETTO:-0500
TZNAME:EST
DTSTART:20171105T060000
END:STANDARD
END:VTIMEZONE
BEGIN:VEVENT
DTSTART;TZID=America/Detroit:20160216T173000
DTEND;TZID=America/Detroit:20160216T190000
DTSTAMP:20260419T145317
CREATED:20160129T200850Z
LAST-MODIFIED:20200309T054720Z
UID:10002611-1455643800-1455649200@www.visitglenarbor.com
SUMMARY:Glen Lake Chamber Member Meeting - Feb. 2016
DESCRIPTION:Notice: Originally set for the 9th\, we rescheduled to the 16th\, due to the Winter Storm\nTuesday\, February 16th\, 2016\nPlease join us for the February Glen Lake Chamber Members Meeting. It will be graciously hosted at The Yarn Shop\, downtown Glen Arbor. \nSchedule\n5:30pm | Social \n6:15pm | Meeting  \nWe hope to see you there! \nMembers and others\, feel free to attend\, bring a colleague or friend! ALL are welcome to attend.
URL:https://www.visitglenarbor.com/event/glen-lake-chamber-member-meeting-feb-2016/
LOCATION:The Yarn Shop\, 5873 S Lake St.\, Glen Arbor\, MI\, 49636\, United States
CATEGORIES:Chamber Events,Local Business Event
END:VEVENT
END:VCALENDAR