BEGIN:VCALENDAR
VERSION:2.0
PRODID:-//Glen Lake Chamber of Commerce - ECPv6.15.19//NONSGML v1.0//EN
CALSCALE:GREGORIAN
METHOD:PUBLISH
X-WR-CALNAME:Glen Lake Chamber of Commerce
X-ORIGINAL-URL:https://www.visitglenarbor.com
X-WR-CALDESC:Events for Glen Lake Chamber of Commerce
REFRESH-INTERVAL;VALUE=DURATION:PT1H
X-Robots-Tag:noindex
X-PUBLISHED-TTL:PT1H
BEGIN:VTIMEZONE
TZID:America/Detroit
BEGIN:DAYLIGHT
TZOFFSETFROM:-0500
TZOFFSETTO:-0400
TZNAME:EDT
DTSTART:20180311T070000
END:DAYLIGHT
BEGIN:STANDARD
TZOFFSETFROM:-0400
TZOFFSETTO:-0500
TZNAME:EST
DTSTART:20181104T060000
END:STANDARD
BEGIN:DAYLIGHT
TZOFFSETFROM:-0500
TZOFFSETTO:-0400
TZNAME:EDT
DTSTART:20190310T070000
END:DAYLIGHT
BEGIN:STANDARD
TZOFFSETFROM:-0400
TZOFFSETTO:-0500
TZNAME:EST
DTSTART:20191103T060000
END:STANDARD
BEGIN:DAYLIGHT
TZOFFSETFROM:-0500
TZOFFSETTO:-0400
TZNAME:EDT
DTSTART:20200308T070000
END:DAYLIGHT
BEGIN:STANDARD
TZOFFSETFROM:-0400
TZOFFSETTO:-0500
TZNAME:EST
DTSTART:20201101T060000
END:STANDARD
BEGIN:DAYLIGHT
TZOFFSETFROM:-0500
TZOFFSETTO:-0400
TZNAME:EDT
DTSTART:20210314T070000
END:DAYLIGHT
BEGIN:STANDARD
TZOFFSETFROM:-0400
TZOFFSETTO:-0500
TZNAME:EST
DTSTART:20211107T060000
END:STANDARD
BEGIN:DAYLIGHT
TZOFFSETFROM:-0500
TZOFFSETTO:-0400
TZNAME:EDT
DTSTART:20220313T070000
END:DAYLIGHT
BEGIN:STANDARD
TZOFFSETFROM:-0400
TZOFFSETTO:-0500
TZNAME:EST
DTSTART:20221106T060000
END:STANDARD
BEGIN:DAYLIGHT
TZOFFSETFROM:-0500
TZOFFSETTO:-0400
TZNAME:EDT
DTSTART:20230312T070000
END:DAYLIGHT
BEGIN:STANDARD
TZOFFSETFROM:-0400
TZOFFSETTO:-0500
TZNAME:EST
DTSTART:20231105T060000
END:STANDARD
BEGIN:DAYLIGHT
TZOFFSETFROM:-0500
TZOFFSETTO:-0400
TZNAME:EDT
DTSTART:20240310T070000
END:DAYLIGHT
BEGIN:STANDARD
TZOFFSETFROM:-0400
TZOFFSETTO:-0500
TZNAME:EST
DTSTART:20241103T060000
END:STANDARD
END:VTIMEZONE
BEGIN:VEVENT
DTSTART;VALUE=DATE:20231025
DTEND;VALUE=DATE:20231028
DTSTAMP:20260420T002100
CREATED:20230814T234709Z
LAST-MODIFIED:20230814T234729Z
UID:10005254-1698192000-1698451199@www.visitglenarbor.com
SUMMARY:Northwest Michigan Housing Summit
DESCRIPTION:The 9th annual Northwest Michigan Housing Summit\, hosted by Housing North\, will be held at the Park Place Hotel in Traverse City\, Michigan\, on October 25-27th\, 2023. The event will gather experts\, advocates\, and policymakers to discuss and exchange information about innovative housing solutions and tools.  \nAn early bird rate of $175 is available until September 15\, giving you a chance to save on registration fees. Secure your spot now\, register today by Clicking here! This year’s Summit will feature: \nScholarships for Local Advocates\, Students\, and Community Members: Housing North believes in inclusivity and providing opportunities for everyone to participate in the Summit. As such\, we are offering scholarships to local advocates\, students\, and interested community members\, ensuring a diverse range of perspectives and voices are heard during our discussions and workshops. Click here if you’re interested in a scholarship to attend the Summit. \nLegislative Happy Hour: An exclusive opportunity to engage with policymakers and influence housing policy in our region and state. We are proud to have extended invitations to over 16 legislators from our area\, alongside local commissioners. However\, space is limited for this unique networking event\, with only 80 spots available. Be sure to register early to secure your place at the Legislative Happy Hour and make meaningful connections with influential decision-makers. \nAn amazing location: the Housing Summit will be held at an amazing spot for networking\, building lasting connections\, and enjoying your surroundings at the Park Place Hotel in downtown Traverse City close to many projects\, shops\, and restaurants. \nLEARN MORE / REGISTER 
URL:https://www.visitglenarbor.com/event/northwest-michigan-housing-summit/
LOCATION:The Park Place Hotel\, 300 East State Street\, Traverse City\, MI\, 49684
CATEGORIES:Community Events,Education
ORGANIZER;CN="Housing North":MAILTO:info@housingnorth.org
END:VEVENT
BEGIN:VEVENT
DTSTART;TZID=America/Detroit:20190407T113000
DTEND;TZID=America/Detroit:20190407T113000
DTSTAMP:20260420T002100
CREATED:20190325T213609Z
LAST-MODIFIED:20200309T054921Z
UID:10003227-1554636600-1554636600@www.visitglenarbor.com
SUMMARY:Traverse City Chocolate Festival
DESCRIPTION:Sunday\, April 7\, 2019 from 11:30 AM–2:00 PM and 2:30–5:00 PM\nAt: The Park Place Hotel\n300 East State Street\, Traverse City\, MI 49684 \nAdmission: $20 Adults\, $11 12-yrs-old and under* \n*No additional ticketing fees. \nA DECADE means a lot of things in our lives. In Traverse City in 2019\, it means 10 YEARS OF CHOCOLATE!! It’s fun to change things up “every now and then.” This anniversary of the largest chocolate festival in Michigan is no exception. The most exciting change is that the Festival has a new venue – the Grandview Conference rooms at the Park Place Hotel. It also means that there will be a new layout\, on-line ticketing\, great parking\, and a celebration of the history of chocolate in Traverse City. \nWhat is the same? It brings together under one roof the largest assemblage of chocolatiers from around the state and the region. It is a great weekend get-away or Sunday diversion. And it is still raising awareness for\nthe Northwest Food Coalition. What other surprises are in store? Stay connected through Face Book or the web site and see. Tickets are on sale now\, through the web site. Tickets available in advance or at the door.\nPurchasing tickets early is recommended\, as the event has been a sell-out. Gift idea: treat a friend for Easter or Mother’s Day\, or just because. Be able to say: “We were there for the 10th Anniversary!” \nThe Northwest Food Coalition serves over 60 food pantries\, meal sites and baby pantries in Antrim\, Benzie\, Grand Traverse\, Kalkaska\, Leelanau & Wexford counties. \nFor Information\, contact: Barbara Disborough\, “The Chocolate Lady” Chocolate Lady Productions\, LLC\nEmail: chocolady@aye.net  231-421-5562 \nwww.TCChocolateFestival.com\nhttps://www.facebook.com/TCChocolateFestival
URL:https://www.visitglenarbor.com/event/traverse-city-chocolate-festival/
LOCATION:The Park Place Hotel\, 300 East State Street\, Traverse City\, MI\, 49684
CATEGORIES:Community Events,Recreation,Wine/Beer or Tasting Event
ATTACH;FMTTYPE=image/jpeg:https://www.visitglenarbor.com/wp-content/uploads/2020/03/baked-chocolate-close-up-533326-e1553535655322.jpg
ORGANIZER;CN="Chocolate Lady Productions%2C LLC":MAILTO:chocolady@aye.net
END:VEVENT
END:VCALENDAR