BEGIN:VCALENDAR
VERSION:2.0
PRODID:-//Glen Lake Chamber of Commerce - ECPv6.15.19//NONSGML v1.0//EN
CALSCALE:GREGORIAN
METHOD:PUBLISH
X-WR-CALNAME:Glen Lake Chamber of Commerce
X-ORIGINAL-URL:https://www.visitglenarbor.com
X-WR-CALDESC:Events for Glen Lake Chamber of Commerce
REFRESH-INTERVAL;VALUE=DURATION:PT1H
X-Robots-Tag:noindex
X-PUBLISHED-TTL:PT1H
BEGIN:VTIMEZONE
TZID:America/Detroit
BEGIN:DAYLIGHT
TZOFFSETFROM:-0500
TZOFFSETTO:-0400
TZNAME:EDT
DTSTART:20140309T070000
END:DAYLIGHT
BEGIN:STANDARD
TZOFFSETFROM:-0400
TZOFFSETTO:-0500
TZNAME:EST
DTSTART:20141102T060000
END:STANDARD
BEGIN:DAYLIGHT
TZOFFSETFROM:-0500
TZOFFSETTO:-0400
TZNAME:EDT
DTSTART:20150308T070000
END:DAYLIGHT
BEGIN:STANDARD
TZOFFSETFROM:-0400
TZOFFSETTO:-0500
TZNAME:EST
DTSTART:20151101T060000
END:STANDARD
BEGIN:DAYLIGHT
TZOFFSETFROM:-0500
TZOFFSETTO:-0400
TZNAME:EDT
DTSTART:20160313T070000
END:DAYLIGHT
BEGIN:STANDARD
TZOFFSETFROM:-0400
TZOFFSETTO:-0500
TZNAME:EST
DTSTART:20161106T060000
END:STANDARD
BEGIN:DAYLIGHT
TZOFFSETFROM:-0500
TZOFFSETTO:-0400
TZNAME:EDT
DTSTART:20170312T070000
END:DAYLIGHT
BEGIN:STANDARD
TZOFFSETFROM:-0400
TZOFFSETTO:-0500
TZNAME:EST
DTSTART:20171105T060000
END:STANDARD
BEGIN:DAYLIGHT
TZOFFSETFROM:-0500
TZOFFSETTO:-0400
TZNAME:EDT
DTSTART:20180311T070000
END:DAYLIGHT
BEGIN:STANDARD
TZOFFSETFROM:-0400
TZOFFSETTO:-0500
TZNAME:EST
DTSTART:20181104T060000
END:STANDARD
BEGIN:DAYLIGHT
TZOFFSETFROM:-0500
TZOFFSETTO:-0400
TZNAME:EDT
DTSTART:20190310T070000
END:DAYLIGHT
BEGIN:STANDARD
TZOFFSETFROM:-0400
TZOFFSETTO:-0500
TZNAME:EST
DTSTART:20191103T060000
END:STANDARD
BEGIN:DAYLIGHT
TZOFFSETFROM:-0500
TZOFFSETTO:-0400
TZNAME:EDT
DTSTART:20200308T070000
END:DAYLIGHT
BEGIN:STANDARD
TZOFFSETFROM:-0400
TZOFFSETTO:-0500
TZNAME:EST
DTSTART:20201101T060000
END:STANDARD
BEGIN:DAYLIGHT
TZOFFSETFROM:-0500
TZOFFSETTO:-0400
TZNAME:EDT
DTSTART:20210314T070000
END:DAYLIGHT
BEGIN:STANDARD
TZOFFSETFROM:-0400
TZOFFSETTO:-0500
TZNAME:EST
DTSTART:20211107T060000
END:STANDARD
BEGIN:DAYLIGHT
TZOFFSETFROM:-0500
TZOFFSETTO:-0400
TZNAME:EDT
DTSTART:20220313T070000
END:DAYLIGHT
BEGIN:STANDARD
TZOFFSETFROM:-0400
TZOFFSETTO:-0500
TZNAME:EST
DTSTART:20221106T060000
END:STANDARD
BEGIN:DAYLIGHT
TZOFFSETFROM:-0500
TZOFFSETTO:-0400
TZNAME:EDT
DTSTART:20230312T070000
END:DAYLIGHT
BEGIN:STANDARD
TZOFFSETFROM:-0400
TZOFFSETTO:-0500
TZNAME:EST
DTSTART:20231105T060000
END:STANDARD
END:VTIMEZONE
BEGIN:VEVENT
DTSTART;TZID=America/Detroit:20220905T120000
DTEND;TZID=America/Detroit:20220905T123000
DTSTAMP:20260423T045248
CREATED:20220901T134334Z
LAST-MODIFIED:20220901T134354Z
UID:10004686-1662379200-1662381000@www.visitglenarbor.com
SUMMARY:Narrows Labor Day Bridge Walk
DESCRIPTION:Labor Day Bridge Walk to take place at the Narrows\, over Big Glen and Little Glen Lake in Glen Arbor on Labor Day\, September 5\, 2022 at 12 Noon. The Walk will begin with a fly over by Bruce Jacobs\, Weather permitting. Certificates will be given out. Tee Shirts Available.  \nThis event is Sponsored by EACC. The Empire Area Community Centerenhances the quality of life of those in the greater Empire area through the promotion of community activities and involvement. EMPIRE AREA COMMUNITY CENTER (EACC) (A Michigan Registered 501 (C) 3 Public Charity).
URL:https://www.visitglenarbor.com/event/narrows-labor-day-bridge-walk-22/
LOCATION:The Narrows Bridge\, 8137 S Glen Lake Rd\, Glen Arbor
CATEGORIES:Community Events,Kids + Family Friendly,Recreation
ATTACH;FMTTYPE=image/jpeg:https://www.visitglenarbor.com/wp-content/uploads/2022/09/labor-day-bridge-walk-the-narrows-glen-lake-graphic.jpg
ORGANIZER;CN="Empire Area Community Center":MAILTO:empireareacommunitycenter@gmail.com
END:VEVENT
BEGIN:VEVENT
DTSTART;TZID=America/Detroit:20210906T120000
DTEND;TZID=America/Detroit:20210906T123000
DTSTAMP:20260423T045248
CREATED:20210831T121554Z
LAST-MODIFIED:20210831T212323Z
UID:10004340-1630929600-1630931400@www.visitglenarbor.com
SUMMARY:Labor Day Bridge Walk
DESCRIPTION:A tradition that began between the Glen Lakes in 1995\, join the community on The Narrows Bridge for a .3 mile walk – “for one and for all!” at NOON on Monday\, Sept. 6th\, 2021. Sorry\, there it will be no T-shirts or snacks available this year ~ Please wear your T-shirts from years past! \nWalkers meet at the north side of the Narrows bridge by the Marina — 8137 S. Glen Lake Road. \nThis event is organized by the EACC (Empire Area Community Center)
URL:https://www.visitglenarbor.com/event/labor-day-bridge-walk-2021/
LOCATION:The Narrows Bridge\, 8137 S Glen Lake Rd\, Glen Arbor
CATEGORIES:Community Events,Kids + Family Friendly,Recreation
ATTACH;FMTTYPE=image/jpeg:https://www.visitglenarbor.com/wp-content/uploads/2020/03/unnamed-3-scaled.jpg
END:VEVENT
BEGIN:VEVENT
DTSTART;TZID=America/Detroit:20200217T080000
DTEND;TZID=America/Detroit:20200217T170000
DTSTAMP:20260423T045248
CREATED:20200217T234348Z
LAST-MODIFIED:20200309T055038Z
UID:10004247-1581926400-1581958800@www.visitglenarbor.com
SUMMARY:25th Glen Lake Labor Day Bridge Walk
DESCRIPTION:EMPIRE AREA COMMUNITY CENTER \n25th Annual Glen Lake Labor Day Bridge Walk\nA tradition that began here in 1995\, join the community on The Narrows Bridge for a .3 mile walk – “for one and for all!” at NOON on Monday\, Sept. 7th\, 2020.  Certificates will be given upon completion of the bridge walk.  T-shirts will be available and refreshments too! Meet at the north side of the Narrows bridge — 8137 S. Glen Lake Road.\n\nInformation: Jo Anne jbeareyogi@hotmail.com and 231-631-4316
URL:https://www.visitglenarbor.com/event/25th-glen-lake-labor-day-bridge-walk/
LOCATION:The Narrows Bridge\, 8137 S Glen Lake Rd\, Glen Arbor
CATEGORIES:Community Events,Kids + Family Friendly,Recreation
ATTACH;FMTTYPE=image/jpeg:https://www.visitglenarbor.com/wp-content/uploads/2020/03/labor-day-bridge-walk_glen-arbor_glen-lake.jpg
ORGANIZER;CN="Empire Area Community Center":MAILTO:empireareacommunitycenter@gmail.com
END:VEVENT
BEGIN:VEVENT
DTSTART;TZID=America/Detroit:20190902T120000
DTEND;TZID=America/Detroit:20190902T120000
DTSTAMP:20260423T045248
CREATED:20190818T062727Z
LAST-MODIFIED:20190818T062727Z
UID:10004128-1567425600-1567425600@www.visitglenarbor.com
SUMMARY:Labor Day Bridge Walk
DESCRIPTION: \n\n\n\n\n\n\n\n\n\n\n\n\n\n\n \n\n\n\n\n\n\n\n\n\n\n\n\n\n\nEMPIRE AREA COMMUNITY CENTER \n24th Annual Labor Day Glen Lake Bridge Walk\n\n\n\n\n\n\n\n\n\n\n\n\n\n\n\n\n\n\n\n\n\n\n\n\n\n\n\n\n\n\n. . . at the Narrows. . . \nNoon\, Monday\nSeptember 2\, 2019\nPilot Bruce Jacobs will start the race\nfrom the air!\n\n\n\n\n\n\n\n\n\n\n\n\n\n\n\n\n\n\n\n\nJoin us to continue a tradition that began in 1995.  \nThe Narrows Bridge Walk is a .3 mile walk – for one and for all! \nThis year is the second year that the Empire Area Community Center\nis the walk-sponsor.  Thanks to organizers: Yogi Beare (Empire)\,\nBill Thompson (Glen Arbor)\, and Tom Plasman of Empire.\n\n\n\n\n\n\n\n\n\n\n\n\nCertificates will be given upon completion of the bridge walk.  \nT-shirts will be available and refreshments too! \nMeet us at the Narrows\, north side of the bridge — 8137 S. Glen Lake Road. \n\nInformation: Jo Anne jbeareyogi@hotmail.com\n231-631-4316
URL:https://www.visitglenarbor.com/event/labor-day-bridge-walk/
LOCATION:The Narrows Bridge\, 8137 S Glen Lake Rd\, Glen Arbor
ATTACH;FMTTYPE=:
END:VEVENT
BEGIN:VEVENT
DTSTART;TZID=America/Detroit:20150907T120000
DTEND;TZID=America/Detroit:20150907T120000
DTSTAMP:20260423T045248
CREATED:20150822T184611Z
LAST-MODIFIED:20200309T055007Z
UID:10002412-1441627200-1441627200@www.visitglenarbor.com
SUMMARY:Labor Day Bridge Walk
DESCRIPTION:Glen Lake | Labor Day Bridge Walk\nLabor Day Monday at 12 noon\nSince 1995\, Glen Arborites close out the summer season with the annual Labor Day Bridge walk. The walk goes .3 miles across the Narrows Bridge\, that passes over the two Glen Lakes. \nBefore and after the ceremonial walk\, find plenty of recreation and things to do for the whole family. Kayak the Crystal River\, Paddleboard or rent a boat on the Glen Lakes\, Hike a trail\, Visit the park\, grab a bite to eat and shop around Glen Arbor.  >Browse more “Things to Do” \nThis year\, Glen Arbor Bridge walkers can buy a commemorative T-shirt for $15. They can be purchased in advance of the walk at the Dune Dogs wagon in Glen Arbor or at Roman Jones\, 11679 S. Lacore Road in Empire. Proceeds from all T-shirt sales go to a Glen Lake Cub Scout Troop. \n\n#glenlake #GlenArbor #laborday #thingstodo #vacation #familyfriendly #upnorth #puremichigan #shopsmall
URL:https://www.visitglenarbor.com/event/glen-lake-labor-day-bridge-walk/
LOCATION:The Narrows Bridge\, 8137 S Glen Lake Rd\, Glen Arbor
CATEGORIES:Community Events,Recreation
ATTACH;FMTTYPE=image/jpeg:https://www.visitglenarbor.com/wp-content/uploads/2020/03/unnamed-3-scaled.jpg
END:VEVENT
END:VCALENDAR