BEGIN:VCALENDAR
VERSION:2.0
PRODID:-//Glen Lake Chamber of Commerce - ECPv6.15.19//NONSGML v1.0//EN
CALSCALE:GREGORIAN
METHOD:PUBLISH
X-WR-CALNAME:Glen Lake Chamber of Commerce
X-ORIGINAL-URL:https://www.visitglenarbor.com
X-WR-CALDESC:Events for Glen Lake Chamber of Commerce
REFRESH-INTERVAL;VALUE=DURATION:PT1H
X-Robots-Tag:noindex
X-PUBLISHED-TTL:PT1H
BEGIN:VTIMEZONE
TZID:America/Detroit
BEGIN:DAYLIGHT
TZOFFSETFROM:-0500
TZOFFSETTO:-0400
TZNAME:EDT
DTSTART:20130310T070000
END:DAYLIGHT
BEGIN:STANDARD
TZOFFSETFROM:-0400
TZOFFSETTO:-0500
TZNAME:EST
DTSTART:20131103T060000
END:STANDARD
BEGIN:DAYLIGHT
TZOFFSETFROM:-0500
TZOFFSETTO:-0400
TZNAME:EDT
DTSTART:20140309T070000
END:DAYLIGHT
BEGIN:STANDARD
TZOFFSETFROM:-0400
TZOFFSETTO:-0500
TZNAME:EST
DTSTART:20141102T060000
END:STANDARD
BEGIN:DAYLIGHT
TZOFFSETFROM:-0500
TZOFFSETTO:-0400
TZNAME:EDT
DTSTART:20150308T070000
END:DAYLIGHT
BEGIN:STANDARD
TZOFFSETFROM:-0400
TZOFFSETTO:-0500
TZNAME:EST
DTSTART:20151101T060000
END:STANDARD
BEGIN:DAYLIGHT
TZOFFSETFROM:-0500
TZOFFSETTO:-0400
TZNAME:EDT
DTSTART:20160313T070000
END:DAYLIGHT
BEGIN:STANDARD
TZOFFSETFROM:-0400
TZOFFSETTO:-0500
TZNAME:EST
DTSTART:20161106T060000
END:STANDARD
BEGIN:DAYLIGHT
TZOFFSETFROM:-0500
TZOFFSETTO:-0400
TZNAME:EDT
DTSTART:20170312T070000
END:DAYLIGHT
BEGIN:STANDARD
TZOFFSETFROM:-0400
TZOFFSETTO:-0500
TZNAME:EST
DTSTART:20171105T060000
END:STANDARD
BEGIN:DAYLIGHT
TZOFFSETFROM:-0500
TZOFFSETTO:-0400
TZNAME:EDT
DTSTART:20180311T070000
END:DAYLIGHT
BEGIN:STANDARD
TZOFFSETFROM:-0400
TZOFFSETTO:-0500
TZNAME:EST
DTSTART:20181104T060000
END:STANDARD
END:VTIMEZONE
BEGIN:VEVENT
DTSTART;TZID=America/Detroit:20170817T190000
DTEND;TZID=America/Detroit:20170817T210000
DTSTAMP:20260422T190650
CREATED:20170510T202804Z
LAST-MODIFIED:20200309T054817Z
UID:10002882-1502996400-1503003600@www.visitglenarbor.com
SUMMARY:Music on the Mountain - Jazz North at The Homestead
DESCRIPTION:The music and energy will be so inspiring you’ll have a hard time sitting still. Jazz North is a “little” big band combining the best acoustic and electric jamz for all genres. \nThe horn section gels with the rhythm section to perform everything from funk to swing to rhythm and blues. You’ll also hear some Latin\, bebop\, and rock. This seven piece band also throws in plenty of fresh original arrangements for a mix that’s delightful for listening and dancing! The experienced core musicians have played together for many years\, creating a tight musical camaraderie that demonstrates their love for music and inspiring anyone with a toe to tap. \n\nThe concert begins at 7pm. Transportation via chair lift or six-passenger golf cart begins at 6pm. Cash bar and snacks are available for purchase. Coolers are not permitted.\nIn the event of inclement weather\, the concert will be held in Mountain Flowers Lodge. \nTickets are $15 in advance\, $20 at the door. \nTo purchase tickets\, call 231.334.5100 or visit mynorthtickets.com
URL:https://www.visitglenarbor.com/event/music-on-the-mountain-jazz-north-at-the-homestead/
LOCATION:The Homestead\, 1 Wood Ridge Rd\, Glen Arbor\, MI\, 49636\, United States
CATEGORIES:Music
ATTACH;FMTTYPE=image/png:https://www.visitglenarbor.com/wp-content/uploads/2020/03/jazz_north_hr_banner.png
ORGANIZER;CN="The Homestead":MAILTO:jamie@thehomesteadresort.com
END:VEVENT
BEGIN:VEVENT
DTSTART;TZID=America/Detroit:20170803T190000
DTEND;TZID=America/Detroit:20170803T210000
DTSTAMP:20260422T190650
CREATED:20170510T202350Z
LAST-MODIFIED:20200309T054816Z
UID:10002881-1501786800-1501794000@www.visitglenarbor.com
SUMMARY:Music on the Mountain - Jill Jack at The Homestead
DESCRIPTION:Jill Jack’s magical connection to her audience is the result of her generous artistry. By combining her gifts as a conceptual visionary with a warm gathering of musical influences\, Jill touches that secret heart of ours with her melodies and lyrics. In her hometown of Detroit\, Jill needs no further explanation. She’s been lauded in equal measure to her talents: Since 1997 she’s won over 37 Detroit Music Awards. in every conceivable category that applies to a singer-songwriter. Much of this provincial success is due to her charming stage presence and emotive songwriting. It’s simply called connecting\, and it’s the bounty of a true songwriter open to all of life: her own defeats\, victories\, hopes dashed\, dreams fulfilled\, her muse\, her loneliness\, her misplaced love and her romantic successes. \nYou get all of Jill Jack in a performance — her blend of folk and rock traditions\, her open humor\, her fine band. Jill harbors little of her process from her audience — each performance is about opening a window and shining a light into her songwriting\, leading inevitably to the intense relationship with her fans. Her career is founded on folk’s best idea — that there’s a shared knowing between artist and audience\, a conversation that flows both ways during a show. Plus she’s a strong woman who’s won over the toughest town in a man’s world — she’s a bandleader\, the principal songwriter in a large group bearing her own name\, an employer and automatic arbiter of musician’s issues. \n\nThe concert begins at 7pm. Transportation via chair lift or six-passenger golf cart begins at 6pm. Cash bar and snacks are available for purchase. Coolers are not permitted.\nIn the event of inclement weather\, the concert will be held in Mountain Flowers Lodge. \nTickets are $15 in advance\, $20 at the door. \nTo purchase tickets\, call 231.334.5100 or visit mynorthtickets.com
URL:https://www.visitglenarbor.com/event/music-on-the-mountain-jill-jack-at-the-homestead/
LOCATION:The Homestead\, 1 Wood Ridge Rd\, Glen Arbor\, MI\, 49636\, United States
CATEGORIES:Music
ATTACH;FMTTYPE=image/jpeg:https://www.visitglenarbor.com/wp-content/uploads/2020/03/jill_jack_hr_banner-1.jpg
ORGANIZER;CN="The Homestead":MAILTO:jamie@thehomesteadresort.com
END:VEVENT
BEGIN:VEVENT
DTSTART;TZID=America/Detroit:20170720T190000
DTEND;TZID=America/Detroit:20170720T210000
DTSTAMP:20260422T190650
CREATED:20170510T202027Z
LAST-MODIFIED:20170510T202027Z
UID:10002880-1500577200-1500584400@www.visitglenarbor.com
SUMMARY:Music on the Mountain - Bugs Beddow & The Good Stuff at The Homestead
DESCRIPTION:Bugs Beddow & the Good Stuff serve up the best rock & soul music from the last four decades – you know\, the Good Stuff! With Bugs on trombone\, Motown legend Jose Hamilton on vocals\, The Dougie on guitar\, Rick Thompson on percussion\, and Steven Backus on bass\, you have a band to remember. From Bruno Mars to Stevie Wonder\, Bon Jovi to the Temptations\, you’ll enjoy the best mix of feel good\, toe tapping music there is. \n\nThe concert begins at 7pm. Transportation via chair lift or six-passenger golf cart begins at 6pm. Cash bar and snacks are available for purchase. Coolers are not permitted.\nIn the event of inclement weather\, the concert will be held in Mountain Flowers Lodge. \nTickets are $15 in advance\, $20 at the door. \nTo purchase tickets\, call 231.334.5100 or visit mynorthtickets.com
URL:https://www.visitglenarbor.com/event/music-on-the-mountain-bugs-beddow-the-good-stuff-at-the-homestead/
LOCATION:The Homestead\, 1 Wood Ridge Rd\, Glen Arbor\, MI\, 49636\, United States
CATEGORIES:Music
ATTACH;FMTTYPE=:
ORGANIZER;CN="The Homestead":MAILTO:jamie@thehomesteadresort.com
END:VEVENT
BEGIN:VEVENT
DTSTART;TZID=America/Detroit:20170713T190000
DTEND;TZID=America/Detroit:20170713T210000
DTSTAMP:20260422T190650
CREATED:20170510T201407Z
LAST-MODIFIED:20200309T054815Z
UID:10002879-1499972400-1499979600@www.visitglenarbor.com
SUMMARY:Music on the Mountain - Andre Villoch at The Homestead
DESCRIPTION:The Homestead is proud to welcome back a longtime friend and favorite\, Andre Villoch. Famed for his dynamic vocal range and vivacious onstage wit and charm\, Andre is authentic\, soulful and gritty. He’s known for his lyrical prowess by delivering satisfying melodies about life\, love and the allure of music. With roots in opera\, pop\, gospel\, bluegrass and folk\, his songs bear the mark of rich heritage of musical inspiration. \nA mainstay on the Michigan folk and Indie circuit\, Andre made the state of Maine his new home for a few years; we’re thrilled to have him back in the mitten! \n\nThe concert begins at 7pm. Transportation via chair lift or six-passenger golf cart begins at 6pm. Cash bar and snacks are available for purchase. Coolers are not permitted.\nIn the event of inclement weather\, the concert will be held in Mountain Flowers Lodge. \nTickets are $15 in advance\, $20 at the door. \nTo purchase tickets\, call 231.334.5100 or visit mynorthtickets.com
URL:https://www.visitglenarbor.com/event/music-on-the-mountain-andre-villoch-at-the-homestead/
LOCATION:The Homestead\, 1 Wood Ridge Rd\, Glen Arbor\, MI\, 49636\, United States
CATEGORIES:Music
ATTACH;FMTTYPE=image/jpeg:https://www.visitglenarbor.com/wp-content/uploads/2020/03/andre_villoch.jpg
ORGANIZER;CN="The Homestead":MAILTO:jamie@thehomesteadresort.com
END:VEVENT
BEGIN:VEVENT
DTSTART;TZID=America/Detroit:20170622T190000
DTEND;TZID=America/Detroit:20170622T210000
DTSTAMP:20260422T190650
CREATED:20170510T192612Z
LAST-MODIFIED:20200309T054815Z
UID:10002878-1498158000-1498165200@www.visitglenarbor.com
SUMMARY:Music on the Mountain - Blackthorn at The Homestead
DESCRIPTION:Blackthorn welcomes you to the rich tapestry of Celtic music. \nTraditional songs of emigration\, sea shanties\, lively jigs and reels\, and ancient airs combine with some of Ireland’s best contemporary songs for a musical experience that captures the history and legend of Ireland and its people. \nWhat makes a Blackthorn show unique is the variety of tunes\, tempos and textures. Each member of the band plays multiple instruments\, including wooden flute\, accordion\, tin whistle\, five string banjo\, cittern\, bones and more. These instruments complement the lead vocal of Belfast native Richard McMullan and the band’s tight blend of four part harmony. \nBlackthorn has played throughout the Great Lakes region since 1984. Based in Detroit\, they can be found regularly at O’Mara’s Pub and Restaurant in Berkley. Other venues include concert halls\, universities and festivals\, including main stage appearances at the prestigious Michigan Irish Festival and world renowned Milwaukee Irish Fest. \n\nThe concert begins at 7pm. Transportation via chair lift or six-passenger golf cart begins at 6pm. Cash bar and snacks are available for purchase. Coolers are not permitted.\nIn the event of inclement weather\, the concert will be held in Mountain Flowers Lodge. \nTickets are $15 in advance\, $20 at the door. \nTo purchase tickets\, call 231.334.5100 or visit mynorthtickets.com
URL:https://www.visitglenarbor.com/event/music-on-the-mountain-blackthorn-at-the-homestead/
LOCATION:The Homestead\, 1 Wood Ridge Rd\, Glen Arbor\, MI\, 49636\, United States
CATEGORIES:Music
ATTACH;FMTTYPE=image/png:https://www.visitglenarbor.com/wp-content/uploads/2020/03/blackthorn.png
ORGANIZER;CN="The Homestead":MAILTO:jamie@thehomesteadresort.com
END:VEVENT
BEGIN:VEVENT
DTSTART;TZID=America/Detroit:20170205T120000
DTEND;TZID=America/Detroit:20170205T140000
DTSTAMP:20260422T190650
CREATED:20161216T220648Z
LAST-MODIFIED:20200309T054803Z
UID:10002825-1486296000-1486303200@www.visitglenarbor.com
SUMMARY:Cooking Demonstration: Gluten Free Dinner
DESCRIPTION:Nonna’s at The Homestead \nFor those who enjoy gluten-free dining options\, Chef John Piombo of Nonna’s will offer a cooking demonstration of a delicious gluten-free dinner. Back by popular demand\, Chef Piombo’s cooking demonstrations provide a special opportunity for culinary enthusiasts to learn new skills\, and\, of course\, savor a tasting! Please call 231.334.5222 to reserve your spot.
URL:https://www.visitglenarbor.com/event/cooking-demonstration-gluten-free-dinner/
LOCATION:The Homestead\, 1 Wood Ridge Rd\, Glen Arbor\, MI\, 49636\, United States
CATEGORIES:Community Events,Food/Dining Event,Local Business Event
ATTACH;FMTTYPE=image/jpeg:https://www.visitglenarbor.com/wp-content/uploads/2020/03/nonnas_chef_cooking-1-2.jpg
ORGANIZER;CN="The Homestead":MAILTO:jamie@thehomesteadresort.com
END:VEVENT
BEGIN:VEVENT
DTSTART;TZID=America/Detroit:20161223T170000
DTEND;TZID=America/Detroit:20161223T210000
DTSTAMP:20260422T190650
CREATED:20161215T223625Z
LAST-MODIFIED:20200309T054759Z
UID:10002818-1482512400-1482526800@www.visitglenarbor.com
SUMMARY:Feast of Seven Fishes
DESCRIPTION:Nonna’s at The Homestead \nCelebrated around the world on Christmas Eve\, the Feast of Seven Fishes is known as La Vigilia\, Italian for “The Vigil” in wait of the midnight Christmas birth. A Southern Italian tradition\, the menu consists of fish and pasta with a fasting from meat for the Roman Catholic holiday. The numerology represents the seven sacraments and seven days of creation. Chef Piombo offers his interpretation of this celebrated meal albeit one week early\, putting history and tradition together on one table with his favorite seven fishes. \nAdvance reservations required.  Call 231.334.5222.
URL:https://www.visitglenarbor.com/event/feast-of-seven-fishes/
LOCATION:The Homestead\, 1 Wood Ridge Rd\, Glen Arbor\, MI\, 49636\, United States
CATEGORIES:Food/Dining Event
ATTACH;FMTTYPE=image/jpeg:https://www.visitglenarbor.com/wp-content/uploads/2020/03/nonna_s_chef_piombo.jpg
ORGANIZER;CN="The Homestead":MAILTO:jamie@thehomesteadresort.com
END:VEVENT
BEGIN:VEVENT
DTSTART;TZID=America/Detroit:20161026T180000
DTEND;TZID=America/Detroit:20161026T200000
DTSTAMP:20260422T190650
CREATED:20161011T233828Z
LAST-MODIFIED:20200309T054755Z
UID:10002808-1477504800-1477512000@www.visitglenarbor.com
SUMMARY:Cocktails and signing with Antoine Laurain\, author of The Red Notebook
DESCRIPTION:Cottage Book Shop is pleased to welcome Antoine Laurain\, the author of several of our favorite books\, The Red Notebook and The President’s Hat. Please join us for an evening of cocktails\, hors d’oeuvres and books. We will be at Camp Firefly in the Homestead. ($20 for hors d’ouvres\, cash bar) Antoine will be traveling to our area to tell us about and sign his new book French Rhapsody (Gallic Press $14.95\, due October 11) which combines his trademark charm with a satirical take on modern France.\nMiddle-aged doctor Alain Massoulier has received a life-changing letter thirty-three years too late. Lost in the Paris postal system for decades\, the letter from Polydor\, dated 1983\, offers a recording contract to The Holograms\, in which Alain played lead guitar. Back then The Holograms had believed in their cutting-edge sound. However\, the music industry remained indifferent\, and eventually the band split up\, each going their own way. Alain is overcome by nostalgia\, and is tempted to track down the members of the group. But in a world where everything and everyone has changed . . . where will his quest take him?\nAntoine Laurain is a Parisian screenwriter\, antiques collector and the author of six novels\, three of which are available in English. The President’s Hat was a 2013 ABA Indies Introduce choice. Don’t miss this fun event. Prepaid reservations can be made by calling 231-334-4223.
URL:https://www.visitglenarbor.com/event/cocktails-and-signing-with-antoine-laurain-author-of-the-red-notebook/
LOCATION:The Homestead\, 1 Wood Ridge Rd\, Glen Arbor\, MI\, 49636\, United States
CATEGORIES:Local Business Event
ATTACH;FMTTYPE=image/jpeg:https://www.visitglenarbor.com/wp-content/uploads/2020/03/IMG_6777.jpg
ORGANIZER;CN="Cottage Book Shop":MAILTO:info@cottagebooks.com
END:VEVENT
BEGIN:VEVENT
DTSTART;TZID=America/Detroit:20160818T190000
DTEND;TZID=America/Detroit:20160818T210000
DTSTAMP:20260422T190650
CREATED:20160607T162652Z
LAST-MODIFIED:20200309T054733Z
UID:10002683-1471546800-1471554000@www.visitglenarbor.com
SUMMARY:Music on the Mountain - Crossroads Band
DESCRIPTION:Crossroads is an all family band that performs jazz\, funk\, and contemporary music. Although Paul\, the band’s lead percussionist\, always had visions of a family band\, he never dreamed it would develop into what it has.  Joined by teenage sons Alex\, lead guitarist and Steven\, bass and vocalist and youngest John who serves up vocals and guitar.  Their sister Mary is the keyboardist and often uses it to mimic other instruments such as strings\, steel drums and horns.  Mom\, Mary is the band manager.  Both Paul and Mary are proud of their band and enjoy satisfaction with not only seeing their children grow musically\, but also with seeing the joy that they bring to the audience. \nTickets are $15 in advance\, $20 at the door \nTo purchase tickets\, call 231.334.5100 or visit mynorthtickets.com
URL:https://www.visitglenarbor.com/event/music-on-the-mountain-crossroads-band/
LOCATION:The Homestead\, 1 Wood Ridge Rd\, Glen Arbor\, MI\, 49636\, United States
CATEGORIES:Music,Recreation
ORGANIZER;CN="The Homestead":MAILTO:jamie@thehomesteadresort.com
END:VEVENT
BEGIN:VEVENT
DTSTART;TZID=America/Detroit:20160804T190000
DTEND;TZID=America/Detroit:20160804T210000
DTSTAMP:20260422T190650
CREATED:20160607T162609Z
LAST-MODIFIED:20200309T054733Z
UID:10002681-1470337200-1470344400@www.visitglenarbor.com
SUMMARY:Music on the Mountain - Levi Britton
DESCRIPTION:Levi Britton is an indie/folk/rock artist who hails from Traverse City\, MI.  Growing up around music sparked his drive to make it his profession. At age 20 Levi moved to Chicago\, playing down in the subways\, Potbelly restaurants\, and any gig he could find.  Eventually Britton co-founded his band\, Down the Line that went on to release 5 albums\, and toured the country for ten years with artists such as The Gin Blossoms\, Pat Benatar\, Peter Frampton\, America\, Keith Anderson\, Lighthouse\, and others. \nIn 2011\, Levi and DTL band mate Dan Myers formed Stolen Silver\, releasing two albums—most recently in June 2014.  Stolen Silver has recently been touring with actor Gary Sinise and The Lieutenant Dan Band\, playing stadiums and military bases in support of U.S. troops and their families. \nIn addition to playing with Stolen Silver\, 2014 launched Levi’s solo career at a whole new level.  After years of fans clamoring for a solo project\, Levi hit the studio to record all new\, original music.  His first solo record\, “Inside” is set to be released in mid-2015. \nTickets are $15 in advance\, $20 at the door \nTo purchase tickets\, call 231.334.5100 or visit mynorthtickets.com
URL:https://www.visitglenarbor.com/event/music-on-the-mountain-levi-britton/
LOCATION:The Homestead\, 1 Wood Ridge Rd\, Glen Arbor\, MI\, 49636\, United States
CATEGORIES:Music,Recreation
ORGANIZER;CN="The Homestead":MAILTO:jamie@thehomesteadresort.com
END:VEVENT
BEGIN:VEVENT
DTSTART;TZID=America/Detroit:20160721T190000
DTEND;TZID=America/Detroit:20160721T210000
DTSTAMP:20260422T190650
CREATED:20160607T162215Z
LAST-MODIFIED:20200309T054733Z
UID:10002680-1469127600-1469134800@www.visitglenarbor.com
SUMMARY:Music on the Mountain - Bugs Beddow and the Good Stuff
DESCRIPTION:Bugs Beddow & the Good Stuff supply the best rock & soul music from the last four decades…you know…the Good Stuff!  With Bugs on trombone\, flute and vocals; Jose Hamilton\, a true Motown legend and the tightest back up rhythm section and you have Bugs Beddow and the Good Stuff. From Bruno Mars to Stevie Wonder\, Bon Jovi to the Temptations\, you’ll enjoy the best mix of feel good\, toe tapping music there is. \nTickets are $15 in advance\, $20 at the door \nTo purchase tickets\, call 231.334.5100 or visit mynorthtickets.com
URL:https://www.visitglenarbor.com/event/music-on-the-mountain-bugs-beddow-the-good-stuff/
LOCATION:The Homestead\, 1 Wood Ridge Rd\, Glen Arbor\, MI\, 49636\, United States
CATEGORIES:Music,Recreation
ORGANIZER;CN="The Homestead":MAILTO:jamie@thehomesteadresort.com
END:VEVENT
BEGIN:VEVENT
DTSTART;TZID=America/Detroit:20160707T190000
DTEND;TZID=America/Detroit:20160707T210000
DTSTAMP:20260422T190650
CREATED:20160607T161900Z
LAST-MODIFIED:20160607T161900Z
UID:10002679-1467918000-1467925200@www.visitglenarbor.com
SUMMARY:Music on the Mountain - Jill Jack
DESCRIPTION:Jill Jack’s magical connection to her audience is the result of her generous artistry. By combining her gifts as a conceptual visionary with a warm gathering of musical influences\, Jill touches that secret heart of ours with her melodies and lyrics. In her hometown of Detroit\, Jill needs no further explanation. She’s been lauded in equal measure to her talents: Since 1997 she’s won 37 Detroit Music Awards (see full list) in every conceivable category that applies to a singer-songwriter. Much of this provincial success is due to her charming stage presence and emotive songwriting. It’s simply called connecting\, and it’s the bounty of a true songwriter open to all of life: her own defeats\, victories\, hopes dashed\, dreams fulfilled\, her muse\, her loneliness\, her misplaced love and her romantic successes. \nYou get all of Jill Jack in a performance — her blend of folk and rock traditions\, her open humor\, her fine band. Jill harbors little of her process from her audience — each performance is about opening a window and shining a light into her songwriting\, leading inevitably to the intense relationship with her fans. Her career is founded on folk’s best idea — that there’s a shared knowing between artist and audience\, a conversation that flows both ways during a show. Plus she’s a strong woman who’s won over the toughest town in a man’s world — she’s a bandleader\, the principal songwriter in a large group bearing her own name\, an employer and automatic arbiter of musician’s issues. \nTickets are $15 in advance\, $20 at the door \nTo purchase tickets\, call 231.334.5100 or visit mynorthtickets.com
URL:https://www.visitglenarbor.com/event/music-on-the-mountain-jill-jack-2/
LOCATION:The Homestead\, 1 Wood Ridge Rd\, Glen Arbor\, MI\, 49636\, United States
ATTACH;FMTTYPE=:
ORGANIZER;CN="The Homestead":MAILTO:jamie@thehomesteadresort.com
END:VEVENT
BEGIN:VEVENT
DTSTART;TZID=America/Detroit:20160623T190000
DTEND;TZID=America/Detroit:20160623T210000
DTSTAMP:20260422T190650
CREATED:20160602T230411Z
LAST-MODIFIED:20200309T054733Z
UID:10002678-1466708400-1466715600@www.visitglenarbor.com
SUMMARY:Music on the Mountain – Peter\, Paul and Mary Remembered
DESCRIPTION:Reviving many beloved hits such as “Puff the Magic Dragon\, If I Had a Hammer\, Blowin’ in the Wind\,” and a host of others\, these seasoned musicians offer a walk down memory lane. Lawrence “Doc” Probes\, Donna Lea Wilson\, Jim Hawley and bass player\, Dave Swan\, have recreated the arrangements of the famous trio that dominated the folk scene during the 1960’s and 70’s. This is a spectacular show that mixes humor\, music and nostalgia. \nTickets are $15 in advance\, $20 at the door \nTo purchase tickets\, call 231.334.5100 or visit mynorthtickets.com
URL:https://www.visitglenarbor.com/event/music-on-the-mountain-peter-paul-and-mary-remembered/
LOCATION:The Homestead\, 1 Wood Ridge Rd\, Glen Arbor\, MI\, 49636\, United States
CATEGORIES:Music,Recreation
ATTACH;FMTTYPE=image/jpeg:https://www.visitglenarbor.com/wp-content/uploads/2020/03/TOM-Concert3x5-e1583948676198.jpg
ORGANIZER;CN="The Homestead":MAILTO:jamie@thehomesteadresort.com
END:VEVENT
BEGIN:VEVENT
DTSTART;TZID=America/Detroit:20160226T130000
DTEND;TZID=America/Detroit:20160226T200000
DTSTAMP:20260422T190650
CREATED:20160214T023518Z
LAST-MODIFIED:20200309T054725Z
UID:10002643-1456491600-1456516800@www.visitglenarbor.com
SUMMARY:Z-93 Hum Z Ski Day at The Homestead
DESCRIPTION:Join the folks from radio station Z-93 Ski Day at The Homestead.  They bring the notorious Hummer for the live remote and play the stations music while you shoosh down the slopes between 2pm – 5pm.  What a great way for local kids and families enjoy an afternoon and evening!  Note: transportation via BATA bus is available from Glen Lake School to The Homestead for just $1.50 per one way. \nSpecial Z-93 pricing: \n\nLift tickets $9 per person\nRental equipment $9 per person\nBeppi’s 12″ cheese pizza and pop $9
URL:https://www.visitglenarbor.com/event/z-93-hum-z-ski-day-at-the-homestead/
LOCATION:The Homestead\, 1 Wood Ridge Rd\, Glen Arbor\, MI\, 49636\, United States
CATEGORIES:Local Business Event,Recreation
ATTACH;FMTTYPE=image/jpeg:https://www.visitglenarbor.com/wp-content/uploads/2020/03/kids-bonfire.jpg
ORGANIZER;CN="The Homestead":MAILTO:jamie@thehomesteadresort.com
END:VEVENT
BEGIN:VEVENT
DTSTART;VALUE=DATE:20160205
DTEND;VALUE=DATE:20160206
DTSTAMP:20260422T190650
CREATED:20160126T220041Z
LAST-MODIFIED:20200309T054720Z
UID:10002610-1454630400-1454716799@www.visitglenarbor.com
SUMMARY:WINTER’S GLOW: FINE ART PHOTOGRAPHY SHOW
DESCRIPTION:Please join us for a fine art photography show & sale benefiting the Glen Arbor Art Association at The Homestead Resort. This invitational exhibit features wine from The Leelanau Peninsula Wine Trail\, micro-brewed local beer & delectable small plates. \nPhotographers: Bob Ashmun\, Steve Loveless\, Leonard Marszalek\, Paul May\, Jeff Rabidoux\, Rodger Skinner\, Meggen Watt.\nAdmission includes a glass of wine or beer\, small plates\, dessert & coffee. $25/person in advance or $30/person at the door. \nEnjoy the company of friends & a little winter warm-up. \nFor reservations call The Homestead at 231-334-5100 by Feb. 4. For more information call the GAAA at 231-334-6112. \nImage: Aurora over Whaleback by Meggen Watt
URL:https://www.visitglenarbor.com/event/winters-glow-fine-art-photography-show/
LOCATION:The Homestead\, 1 Wood Ridge Rd\, Glen Arbor\, MI\, 49636\, United States
CATEGORIES:Community Events,Local Business Event,Recreation
ATTACH;FMTTYPE=image/jpeg:https://www.visitglenarbor.com/wp-content/uploads/2020/03/photo-show-homestead.jpg
END:VEVENT
BEGIN:VEVENT
DTSTART;TZID=America/Detroit:20150722T190000
DTEND;TZID=America/Detroit:20150722T220000
DTSTAMP:20260422T190650
CREATED:20150613T062314Z
LAST-MODIFIED:20200309T054658Z
UID:10002380-1437591600-1437602400@www.visitglenarbor.com
SUMMARY:Jeff Haas Quintet/Jazz
DESCRIPTION:Well known to many local jazz enthusiasts\, Jeff Haas is heard weekly on Classical IPR New Jazz Archive and at other venues that feature his trio\, quartet and quintet.  The Quintet will perform at the top of the ski hill in the spectacular setting of Sleeping Bear Bay.  Familiar and new jazz tunes will fill the air as the sun sets over Lake Michigan. Jeff Haas comes from a musical family. His father\, pianist Karl Haas\, was his first teacher and was well known throughout Michigan. No carry-in food\, drink or chairs please.
URL:https://www.visitglenarbor.com/event/jeff-haas-quintetjazz/
LOCATION:The Homestead\, 1 Wood Ridge Rd\, Glen Arbor\, MI\, 49636\, United States
CATEGORIES:Community Events
END:VEVENT
BEGIN:VEVENT
DTSTART;TZID=America/Detroit:20140717T190000
DTEND;TZID=America/Detroit:20140717T210000
DTSTAMP:20260422T190650
CREATED:20140707T185911Z
LAST-MODIFIED:20200309T054618Z
UID:10002390-1405623600-1405630800@www.visitglenarbor.com
SUMMARY:Music on the Mountain at The Homestad - Kyle Jennings
DESCRIPTION:Good friends\, a great view\, and some incredible live music await you during The Homestead’s 2014 Music on the Mountain Summer Concert Series. \n \nAmerican singer/songwriter Kyle Jennings arrived on the music scene in 2004 when his album “Shine” was released with Dark Horse Records in Nashville. Out of the box\, Jennings’ music made an aggressive first impression likely due to cross-genre rock influences of his early youth\, such as Journey\, Bon Jovi\, Bruce Springsteen\, and Tom Petty and the Heartbreakers. A gritty mix of Americana\, Rock\, Country\, and Blues marble Jennings’ musical style. \nTickets: $15 in advance; $20 at the event.  Call 231.334.5100 to reserve. \nTransportation to the top of Bay Mountain begins at 6 p.m.  In the event of inclement weather\, concerts will be held inside Mountain Flowers Lodge.
URL:https://www.visitglenarbor.com/event/music-on-the-mountain-at-the-homestad-kyle-jennings/
LOCATION:The Homestead\, 1 Wood Ridge Rd\, Glen Arbor\, MI\, 49636\, United States
CATEGORIES:Local Business Event
ORGANIZER;CN="The Homestead":MAILTO:jamie@thehomesteadresort.com
END:VEVENT
END:VCALENDAR