BEGIN:VCALENDAR
VERSION:2.0
PRODID:-//Glen Lake Chamber of Commerce - ECPv6.15.19//NONSGML v1.0//EN
CALSCALE:GREGORIAN
METHOD:PUBLISH
X-WR-CALNAME:Glen Lake Chamber of Commerce
X-ORIGINAL-URL:https://www.visitglenarbor.com
X-WR-CALDESC:Events for Glen Lake Chamber of Commerce
REFRESH-INTERVAL;VALUE=DURATION:PT1H
X-Robots-Tag:noindex
X-PUBLISHED-TTL:PT1H
BEGIN:VTIMEZONE
TZID:America/Detroit
BEGIN:DAYLIGHT
TZOFFSETFROM:-0500
TZOFFSETTO:-0400
TZNAME:EDT
DTSTART:20130310T070000
END:DAYLIGHT
BEGIN:STANDARD
TZOFFSETFROM:-0400
TZOFFSETTO:-0500
TZNAME:EST
DTSTART:20131103T060000
END:STANDARD
BEGIN:DAYLIGHT
TZOFFSETFROM:-0500
TZOFFSETTO:-0400
TZNAME:EDT
DTSTART:20140309T070000
END:DAYLIGHT
BEGIN:STANDARD
TZOFFSETFROM:-0400
TZOFFSETTO:-0500
TZNAME:EST
DTSTART:20141102T060000
END:STANDARD
BEGIN:DAYLIGHT
TZOFFSETFROM:-0500
TZOFFSETTO:-0400
TZNAME:EDT
DTSTART:20150308T070000
END:DAYLIGHT
BEGIN:STANDARD
TZOFFSETFROM:-0400
TZOFFSETTO:-0500
TZNAME:EST
DTSTART:20151101T060000
END:STANDARD
BEGIN:DAYLIGHT
TZOFFSETFROM:-0500
TZOFFSETTO:-0400
TZNAME:EDT
DTSTART:20160313T070000
END:DAYLIGHT
BEGIN:STANDARD
TZOFFSETFROM:-0400
TZOFFSETTO:-0500
TZNAME:EST
DTSTART:20161106T060000
END:STANDARD
END:VTIMEZONE
BEGIN:VEVENT
DTSTART;TZID=America/Detroit:20150802T200000
DTEND;TZID=America/Detroit:20150802T220000
DTSTAMP:20260422T223245
CREATED:20150613T063830Z
LAST-MODIFIED:20200309T054659Z
UID:10002387-1438545600-1438552800@www.visitglenarbor.com
SUMMARY:Dave Hardin/Americana
DESCRIPTION:Dave Hardin’s music exemplifies the combination of hill music\, bluegrass\, twang\, and flat-top pickin & now known as Americana.  His songs come from observing life & triumphs and hardships.  Dave’s voice is instantly recognizable\, and his style of playing is full and rich\, with notes\, chords and percussion all from his guitar. $15\, children 18 and under are free.                                                                     Rain: Glen Arbor Town Hall
URL:https://www.visitglenarbor.com/event/dave-hardinamericana/
LOCATION:Studio Stage at Lake Street Studios\, 6023 Lake St.\, Glen Arbor\, MI\, 49636\, United States
CATEGORIES:Community Events
ATTACH;FMTTYPE=image/jpeg:https://www.visitglenarbor.com/wp-content/uploads/2020/03/Dave-Hardin.jpg
END:VEVENT
BEGIN:VEVENT
DTSTART;TZID=America/Detroit:20140730T200000
DTEND;TZID=America/Detroit:20140730T220000
DTSTAMP:20260422T223245
CREATED:20140713T193313Z
LAST-MODIFIED:20200309T054619Z
UID:10002301-1406750400-1406757600@www.visitglenarbor.com
SUMMARY:Mantiou Music Festival - FullSet
DESCRIPTION:All accomplished musicians\, FullSet create a unique sound that is energetic\, while true to traditional Irish roots. These six performers have received several “Best New Group Awards” from Irish American News. FullSet instrumentation includes guitars\, fiddle\, button accordian\, bodhran and vocals. Following the success of their debut album “Notes At Liberty\,” FullSet are quickly becoming well known in the Irish music scene.\nRain: Glen Arbor Town Hall
URL:https://www.visitglenarbor.com/event/mantiou-music-festival-fullset/
LOCATION:Studio Stage at Lake Street Studios\, 6023 Lake St.\, Glen Arbor\, MI\, 49636\, United States
CATEGORIES:Community Events
END:VEVENT
END:VCALENDAR