BEGIN:VCALENDAR
VERSION:2.0
PRODID:-//Glen Lake Chamber of Commerce - ECPv6.15.19//NONSGML v1.0//EN
CALSCALE:GREGORIAN
METHOD:PUBLISH
X-ORIGINAL-URL:https://www.visitglenarbor.com
X-WR-CALDESC:Events for Glen Lake Chamber of Commerce
REFRESH-INTERVAL;VALUE=DURATION:PT1H
X-Robots-Tag:noindex
X-PUBLISHED-TTL:PT1H
BEGIN:VTIMEZONE
TZID:America/Detroit
BEGIN:DAYLIGHT
TZOFFSETFROM:-0500
TZOFFSETTO:-0400
TZNAME:EDT
DTSTART:20230312T070000
END:DAYLIGHT
BEGIN:STANDARD
TZOFFSETFROM:-0400
TZOFFSETTO:-0500
TZNAME:EST
DTSTART:20231105T060000
END:STANDARD
BEGIN:DAYLIGHT
TZOFFSETFROM:-0500
TZOFFSETTO:-0400
TZNAME:EDT
DTSTART:20240310T070000
END:DAYLIGHT
BEGIN:STANDARD
TZOFFSETFROM:-0400
TZOFFSETTO:-0500
TZNAME:EST
DTSTART:20241103T060000
END:STANDARD
BEGIN:DAYLIGHT
TZOFFSETFROM:-0500
TZOFFSETTO:-0400
TZNAME:EDT
DTSTART:20250309T070000
END:DAYLIGHT
BEGIN:STANDARD
TZOFFSETFROM:-0400
TZOFFSETTO:-0500
TZNAME:EST
DTSTART:20251102T060000
END:STANDARD
BEGIN:DAYLIGHT
TZOFFSETFROM:-0500
TZOFFSETTO:-0400
TZNAME:EDT
DTSTART:20260308T070000
END:DAYLIGHT
BEGIN:STANDARD
TZOFFSETFROM:-0400
TZOFFSETTO:-0500
TZNAME:EST
DTSTART:20261101T060000
END:STANDARD
END:VTIMEZONE
BEGIN:VEVENT
DTSTART;TZID=America/Detroit:20250523T180000
DTEND;TZID=America/Detroit:20250525T210000
DTSTAMP:20260421T214849
CREATED:20250521T211229Z
LAST-MODIFIED:20250521T211229Z
UID:10007821-1748023200-1748206800@www.visitglenarbor.com
SUMMARY:River Club Glen Arbor - Memorial Day Weekend Music Line-up
DESCRIPTION:River Club Glen Arbor will be featuring live music this holiday weekend!
URL:https://www.visitglenarbor.com/event/river-club-glen-arbor-memorial-day-weekend-music-line-up/2025-05-23/2/
LOCATION:River Club Glen Arbor\, 5963 S. Oak Street\, Glen Arbor\, 49636\, United States
CATEGORIES:Food/Dining Event
ATTACH;FMTTYPE=image/jpeg:https://www.visitglenarbor.com/wp-content/uploads/2025/05/Double_Plate_V2.jpg
END:VEVENT
BEGIN:VEVENT
DTSTART;TZID=America/Detroit:20250523T080000
DTEND;TZID=America/Detroit:20250523T170000
DTSTAMP:20260421T214849
CREATED:20250521T211229Z
LAST-MODIFIED:20250521T211229Z
UID:10007820-1747987200-1748019600@www.visitglenarbor.com
SUMMARY:River Club Glen Arbor - Memorial Day Weekend Music Line-up
DESCRIPTION:River Club Glen Arbor will be featuring live music this holiday weekend!
URL:https://www.visitglenarbor.com/event/river-club-glen-arbor-memorial-day-weekend-music-line-up/2025-05-23/1/
LOCATION:River Club Glen Arbor\, 5963 S. Oak Street\, Glen Arbor\, 49636\, United States
CATEGORIES:Food/Dining Event
ATTACH;FMTTYPE=image/jpeg:https://www.visitglenarbor.com/wp-content/uploads/2025/05/Double_Plate_V2.jpg
END:VEVENT
BEGIN:VEVENT
DTSTART;TZID=America/Detroit:20250509T110000
DTEND;TZID=America/Detroit:20250511T210000
DTSTAMP:20260421T214849
CREATED:20250515T141419Z
LAST-MODIFIED:20250515T141419Z
UID:10007766-1746788400-1746997200@www.visitglenarbor.com
SUMMARY:River Club\, Mother's Day Weekend!
DESCRIPTION:Mother’s Day Weekend – (5/9 – 5/11).\nFree food and golf for Mom all weekend. Plus $1 Bellinis and Mimosas for Mom!
URL:https://www.visitglenarbor.com/event/river-club-mothers-day-weekend/
LOCATION:River Club Glen Arbor\, 5963 S. Oak Street\, Glen Arbor\, 49636\, United States
CATEGORIES:Food/Dining Event
ATTACH;FMTTYPE=image/jpeg:https://www.visitglenarbor.com/wp-content/uploads/2025/04/mothers-2.jpg
END:VEVENT
BEGIN:VEVENT
DTSTART;TZID=America/Detroit:20250502T110000
DTEND;TZID=America/Detroit:20250504T200000
DTSTAMP:20260421T214849
CREATED:20250515T141427Z
LAST-MODIFIED:20250515T141427Z
UID:10007765-1746183600-1746388800@www.visitglenarbor.com
SUMMARY:River Club Cinco de Mayo Weekend
DESCRIPTION:Cinco de Mayo Weekend – (5/2 – 5/4).\nWe’ll celebrate all weekend long\, featuring loads of food and drink specials!
URL:https://www.visitglenarbor.com/event/river-club-cinco-de-mayo-weekend/
LOCATION:River Club Glen Arbor\, 5963 S. Oak Street\, Glen Arbor\, 49636\, United States
CATEGORIES:Food/Dining Event
ATTACH;FMTTYPE=image/jpeg:https://www.visitglenarbor.com/wp-content/uploads/2025/04/cinco-2.jpg
END:VEVENT
BEGIN:VEVENT
DTSTART;TZID=America/Detroit:20240831T190000
DTEND;TZID=America/Detroit:20240831T210000
DTSTAMP:20260421T214849
CREATED:20240717T181412Z
LAST-MODIFIED:20240910T013948Z
UID:10005581-1725130800-1725138000@www.visitglenarbor.com
SUMMARY:River Club Glen Arbor
DESCRIPTION:Enjoy Live Music on the lawn at River Club in Glen Arbor\, every Thursday – Saturday in September. We invite you to check out our website for the performer’s schedule. \nhttps://www.rcglenarbor.com/live-music
URL:https://www.visitglenarbor.com/event/river-club-glen-arbor/2024-08-31/
LOCATION:River Club Glen Arbor\, 5963 S. Oak Street\, Glen Arbor\, 49636\, United States
CATEGORIES:Food/Dining Event,Kids + Family Friendly,Music
ATTACH;FMTTYPE=image/jpeg:https://www.visitglenarbor.com/wp-content/uploads/2024/07/river-club-summer-2024-IMG_8731.jpeg
END:VEVENT
BEGIN:VEVENT
DTSTART;TZID=America/Detroit:20240830T190000
DTEND;TZID=America/Detroit:20240830T210000
DTSTAMP:20260421T214849
CREATED:20240717T181412Z
LAST-MODIFIED:20240910T013948Z
UID:10005580-1725044400-1725051600@www.visitglenarbor.com
SUMMARY:River Club Glen Arbor
DESCRIPTION:Enjoy Live Music on the lawn at River Club in Glen Arbor\, every Thursday – Saturday in September. We invite you to check out our website for the performer’s schedule. \nhttps://www.rcglenarbor.com/live-music
URL:https://www.visitglenarbor.com/event/river-club-glen-arbor/2024-08-30/
LOCATION:River Club Glen Arbor\, 5963 S. Oak Street\, Glen Arbor\, 49636\, United States
CATEGORIES:Food/Dining Event,Kids + Family Friendly,Music
ATTACH;FMTTYPE=image/jpeg:https://www.visitglenarbor.com/wp-content/uploads/2024/07/river-club-summer-2024-IMG_8731.jpeg
END:VEVENT
BEGIN:VEVENT
DTSTART;TZID=America/Detroit:20240829T190000
DTEND;TZID=America/Detroit:20240829T210000
DTSTAMP:20260421T214849
CREATED:20240717T181412Z
LAST-MODIFIED:20240910T013948Z
UID:10005579-1724958000-1724965200@www.visitglenarbor.com
SUMMARY:River Club Glen Arbor
DESCRIPTION:Enjoy Live Music on the lawn at River Club in Glen Arbor\, every Thursday – Saturday in September. We invite you to check out our website for the performer’s schedule. \nhttps://www.rcglenarbor.com/live-music
URL:https://www.visitglenarbor.com/event/river-club-glen-arbor/2024-08-29/
LOCATION:River Club Glen Arbor\, 5963 S. Oak Street\, Glen Arbor\, 49636\, United States
CATEGORIES:Food/Dining Event,Kids + Family Friendly,Music
ATTACH;FMTTYPE=image/jpeg:https://www.visitglenarbor.com/wp-content/uploads/2024/07/river-club-summer-2024-IMG_8731.jpeg
END:VEVENT
BEGIN:VEVENT
DTSTART;TZID=America/Detroit:20240824T190000
DTEND;TZID=America/Detroit:20240824T210000
DTSTAMP:20260421T214849
CREATED:20240717T181412Z
LAST-MODIFIED:20240910T013948Z
UID:10005576-1724526000-1724533200@www.visitglenarbor.com
SUMMARY:River Club Glen Arbor
DESCRIPTION:Enjoy Live Music on the lawn at River Club in Glen Arbor\, every Thursday – Saturday in September. We invite you to check out our website for the performer’s schedule. \nhttps://www.rcglenarbor.com/live-music
URL:https://www.visitglenarbor.com/event/river-club-glen-arbor/2024-08-24/
LOCATION:River Club Glen Arbor\, 5963 S. Oak Street\, Glen Arbor\, 49636\, United States
CATEGORIES:Food/Dining Event,Kids + Family Friendly,Music
ATTACH;FMTTYPE=image/jpeg:https://www.visitglenarbor.com/wp-content/uploads/2024/07/river-club-summer-2024-IMG_8731.jpeg
END:VEVENT
BEGIN:VEVENT
DTSTART;TZID=America/Detroit:20240823T190000
DTEND;TZID=America/Detroit:20240823T210000
DTSTAMP:20260421T214849
CREATED:20240717T181412Z
LAST-MODIFIED:20240910T013948Z
UID:10005575-1724439600-1724446800@www.visitglenarbor.com
SUMMARY:River Club Glen Arbor
DESCRIPTION:Enjoy Live Music on the lawn at River Club in Glen Arbor\, every Thursday – Saturday in September. We invite you to check out our website for the performer’s schedule. \nhttps://www.rcglenarbor.com/live-music
URL:https://www.visitglenarbor.com/event/river-club-glen-arbor/2024-08-23/
LOCATION:River Club Glen Arbor\, 5963 S. Oak Street\, Glen Arbor\, 49636\, United States
CATEGORIES:Food/Dining Event,Kids + Family Friendly,Music
ATTACH;FMTTYPE=image/jpeg:https://www.visitglenarbor.com/wp-content/uploads/2024/07/river-club-summer-2024-IMG_8731.jpeg
END:VEVENT
BEGIN:VEVENT
DTSTART;TZID=America/Detroit:20240822T190000
DTEND;TZID=America/Detroit:20240822T210000
DTSTAMP:20260421T214849
CREATED:20240717T181412Z
LAST-MODIFIED:20240910T013948Z
UID:10005574-1724353200-1724360400@www.visitglenarbor.com
SUMMARY:River Club Glen Arbor
DESCRIPTION:Enjoy Live Music on the lawn at River Club in Glen Arbor\, every Thursday – Saturday in September. We invite you to check out our website for the performer’s schedule. \nhttps://www.rcglenarbor.com/live-music
URL:https://www.visitglenarbor.com/event/river-club-glen-arbor/2024-08-22/
LOCATION:River Club Glen Arbor\, 5963 S. Oak Street\, Glen Arbor\, 49636\, United States
CATEGORIES:Food/Dining Event,Kids + Family Friendly,Music
ATTACH;FMTTYPE=image/jpeg:https://www.visitglenarbor.com/wp-content/uploads/2024/07/river-club-summer-2024-IMG_8731.jpeg
END:VEVENT
BEGIN:VEVENT
DTSTART;TZID=America/Detroit:20240817T190000
DTEND;TZID=America/Detroit:20240817T210000
DTSTAMP:20260421T214849
CREATED:20240717T181412Z
LAST-MODIFIED:20240910T013948Z
UID:10005571-1723921200-1723928400@www.visitglenarbor.com
SUMMARY:River Club Glen Arbor
DESCRIPTION:Enjoy Live Music on the lawn at River Club in Glen Arbor\, every Thursday – Saturday in September. We invite you to check out our website for the performer’s schedule. \nhttps://www.rcglenarbor.com/live-music
URL:https://www.visitglenarbor.com/event/river-club-glen-arbor/2024-08-17/
LOCATION:River Club Glen Arbor\, 5963 S. Oak Street\, Glen Arbor\, 49636\, United States
CATEGORIES:Food/Dining Event,Kids + Family Friendly,Music
ATTACH;FMTTYPE=image/jpeg:https://www.visitglenarbor.com/wp-content/uploads/2024/07/river-club-summer-2024-IMG_8731.jpeg
END:VEVENT
BEGIN:VEVENT
DTSTART;TZID=America/Detroit:20240816T190000
DTEND;TZID=America/Detroit:20240816T210000
DTSTAMP:20260421T214849
CREATED:20240717T181412Z
LAST-MODIFIED:20240910T013948Z
UID:10005570-1723834800-1723842000@www.visitglenarbor.com
SUMMARY:River Club Glen Arbor
DESCRIPTION:Enjoy Live Music on the lawn at River Club in Glen Arbor\, every Thursday – Saturday in September. We invite you to check out our website for the performer’s schedule. \nhttps://www.rcglenarbor.com/live-music
URL:https://www.visitglenarbor.com/event/river-club-glen-arbor/2024-08-16/
LOCATION:River Club Glen Arbor\, 5963 S. Oak Street\, Glen Arbor\, 49636\, United States
CATEGORIES:Food/Dining Event,Kids + Family Friendly,Music
ATTACH;FMTTYPE=image/jpeg:https://www.visitglenarbor.com/wp-content/uploads/2024/07/river-club-summer-2024-IMG_8731.jpeg
END:VEVENT
BEGIN:VEVENT
DTSTART;TZID=America/Detroit:20240815T190000
DTEND;TZID=America/Detroit:20240815T210000
DTSTAMP:20260421T214849
CREATED:20240717T181412Z
LAST-MODIFIED:20240910T013948Z
UID:10005569-1723748400-1723755600@www.visitglenarbor.com
SUMMARY:River Club Glen Arbor
DESCRIPTION:Enjoy Live Music on the lawn at River Club in Glen Arbor\, every Thursday – Saturday in September. We invite you to check out our website for the performer’s schedule. \nhttps://www.rcglenarbor.com/live-music
URL:https://www.visitglenarbor.com/event/river-club-glen-arbor/2024-08-15/
LOCATION:River Club Glen Arbor\, 5963 S. Oak Street\, Glen Arbor\, 49636\, United States
CATEGORIES:Food/Dining Event,Kids + Family Friendly,Music
ATTACH;FMTTYPE=image/jpeg:https://www.visitglenarbor.com/wp-content/uploads/2024/07/river-club-summer-2024-IMG_8731.jpeg
END:VEVENT
BEGIN:VEVENT
DTSTART;TZID=America/Detroit:20240810T190000
DTEND;TZID=America/Detroit:20240810T210000
DTSTAMP:20260421T214849
CREATED:20240717T181412Z
LAST-MODIFIED:20240910T013948Z
UID:10005566-1723316400-1723323600@www.visitglenarbor.com
SUMMARY:River Club Glen Arbor
DESCRIPTION:Enjoy Live Music on the lawn at River Club in Glen Arbor\, every Thursday – Saturday in September. We invite you to check out our website for the performer’s schedule. \nhttps://www.rcglenarbor.com/live-music
URL:https://www.visitglenarbor.com/event/river-club-glen-arbor/2024-08-10/
LOCATION:River Club Glen Arbor\, 5963 S. Oak Street\, Glen Arbor\, 49636\, United States
CATEGORIES:Food/Dining Event,Kids + Family Friendly,Music
ATTACH;FMTTYPE=image/jpeg:https://www.visitglenarbor.com/wp-content/uploads/2024/07/river-club-summer-2024-IMG_8731.jpeg
END:VEVENT
BEGIN:VEVENT
DTSTART;TZID=America/Detroit:20240809T190000
DTEND;TZID=America/Detroit:20240809T210000
DTSTAMP:20260421T214849
CREATED:20240717T181412Z
LAST-MODIFIED:20240910T013948Z
UID:10005565-1723230000-1723237200@www.visitglenarbor.com
SUMMARY:River Club Glen Arbor
DESCRIPTION:Enjoy Live Music on the lawn at River Club in Glen Arbor\, every Thursday – Saturday in September. We invite you to check out our website for the performer’s schedule. \nhttps://www.rcglenarbor.com/live-music
URL:https://www.visitglenarbor.com/event/river-club-glen-arbor/2024-08-09/
LOCATION:River Club Glen Arbor\, 5963 S. Oak Street\, Glen Arbor\, 49636\, United States
CATEGORIES:Food/Dining Event,Kids + Family Friendly,Music
ATTACH;FMTTYPE=image/jpeg:https://www.visitglenarbor.com/wp-content/uploads/2024/07/river-club-summer-2024-IMG_8731.jpeg
END:VEVENT
BEGIN:VEVENT
DTSTART;TZID=America/Detroit:20240808T190000
DTEND;TZID=America/Detroit:20240808T210000
DTSTAMP:20260421T214849
CREATED:20240717T181412Z
LAST-MODIFIED:20240910T013948Z
UID:10005564-1723143600-1723150800@www.visitglenarbor.com
SUMMARY:River Club Glen Arbor
DESCRIPTION:Enjoy Live Music on the lawn at River Club in Glen Arbor\, every Thursday – Saturday in September. We invite you to check out our website for the performer’s schedule. \nhttps://www.rcglenarbor.com/live-music
URL:https://www.visitglenarbor.com/event/river-club-glen-arbor/2024-08-08/
LOCATION:River Club Glen Arbor\, 5963 S. Oak Street\, Glen Arbor\, 49636\, United States
CATEGORIES:Food/Dining Event,Kids + Family Friendly,Music
ATTACH;FMTTYPE=image/jpeg:https://www.visitglenarbor.com/wp-content/uploads/2024/07/river-club-summer-2024-IMG_8731.jpeg
END:VEVENT
BEGIN:VEVENT
DTSTART;TZID=America/Detroit:20240803T190000
DTEND;TZID=America/Detroit:20240803T210000
DTSTAMP:20260421T214849
CREATED:20240717T181412Z
LAST-MODIFIED:20240910T013948Z
UID:10005561-1722711600-1722718800@www.visitglenarbor.com
SUMMARY:River Club Glen Arbor
DESCRIPTION:Enjoy Live Music on the lawn at River Club in Glen Arbor\, every Thursday – Saturday in September. We invite you to check out our website for the performer’s schedule. \nhttps://www.rcglenarbor.com/live-music
URL:https://www.visitglenarbor.com/event/river-club-glen-arbor/2024-08-03/
LOCATION:River Club Glen Arbor\, 5963 S. Oak Street\, Glen Arbor\, 49636\, United States
CATEGORIES:Food/Dining Event,Kids + Family Friendly,Music
ATTACH;FMTTYPE=image/jpeg:https://www.visitglenarbor.com/wp-content/uploads/2024/07/river-club-summer-2024-IMG_8731.jpeg
END:VEVENT
BEGIN:VEVENT
DTSTART;TZID=America/Detroit:20240802T190000
DTEND;TZID=America/Detroit:20240802T210000
DTSTAMP:20260421T214849
CREATED:20240717T181412Z
LAST-MODIFIED:20240910T013948Z
UID:10005560-1722625200-1722632400@www.visitglenarbor.com
SUMMARY:River Club Glen Arbor
DESCRIPTION:Enjoy Live Music on the lawn at River Club in Glen Arbor\, every Thursday – Saturday in September. We invite you to check out our website for the performer’s schedule. \nhttps://www.rcglenarbor.com/live-music
URL:https://www.visitglenarbor.com/event/river-club-glen-arbor/2024-08-02/
LOCATION:River Club Glen Arbor\, 5963 S. Oak Street\, Glen Arbor\, 49636\, United States
CATEGORIES:Food/Dining Event,Kids + Family Friendly,Music
ATTACH;FMTTYPE=image/jpeg:https://www.visitglenarbor.com/wp-content/uploads/2024/07/river-club-summer-2024-IMG_8731.jpeg
END:VEVENT
BEGIN:VEVENT
DTSTART;TZID=America/Detroit:20240801T190000
DTEND;TZID=America/Detroit:20240801T210000
DTSTAMP:20260421T214849
CREATED:20240717T181412Z
LAST-MODIFIED:20240910T013948Z
UID:10005559-1722538800-1722546000@www.visitglenarbor.com
SUMMARY:River Club Glen Arbor
DESCRIPTION:Enjoy Live Music on the lawn at River Club in Glen Arbor\, every Thursday – Saturday in September. We invite you to check out our website for the performer’s schedule. \nhttps://www.rcglenarbor.com/live-music
URL:https://www.visitglenarbor.com/event/river-club-glen-arbor/2024-08-01/
LOCATION:River Club Glen Arbor\, 5963 S. Oak Street\, Glen Arbor\, 49636\, United States
CATEGORIES:Food/Dining Event,Kids + Family Friendly,Music
ATTACH;FMTTYPE=image/jpeg:https://www.visitglenarbor.com/wp-content/uploads/2024/07/river-club-summer-2024-IMG_8731.jpeg
END:VEVENT
BEGIN:VEVENT
DTSTART;TZID=America/Detroit:20240727T190000
DTEND;TZID=America/Detroit:20240727T210000
DTSTAMP:20260421T214849
CREATED:20240717T181412Z
LAST-MODIFIED:20240910T013948Z
UID:10005556-1722106800-1722114000@www.visitglenarbor.com
SUMMARY:River Club Glen Arbor
DESCRIPTION:Enjoy Live Music on the lawn at River Club in Glen Arbor\, every Thursday – Saturday in September. We invite you to check out our website for the performer’s schedule. \nhttps://www.rcglenarbor.com/live-music
URL:https://www.visitglenarbor.com/event/river-club-glen-arbor/2024-07-27/
LOCATION:River Club Glen Arbor\, 5963 S. Oak Street\, Glen Arbor\, 49636\, United States
CATEGORIES:Food/Dining Event,Kids + Family Friendly,Music
ATTACH;FMTTYPE=image/jpeg:https://www.visitglenarbor.com/wp-content/uploads/2024/07/river-club-summer-2024-IMG_8731.jpeg
END:VEVENT
BEGIN:VEVENT
DTSTART;TZID=America/Detroit:20240726T190000
DTEND;TZID=America/Detroit:20240726T210000
DTSTAMP:20260421T214849
CREATED:20240717T181412Z
LAST-MODIFIED:20240910T013948Z
UID:10005555-1722020400-1722027600@www.visitglenarbor.com
SUMMARY:River Club Glen Arbor
DESCRIPTION:Enjoy Live Music on the lawn at River Club in Glen Arbor\, every Thursday – Saturday in September. We invite you to check out our website for the performer’s schedule. \nhttps://www.rcglenarbor.com/live-music
URL:https://www.visitglenarbor.com/event/river-club-glen-arbor/2024-07-26/
LOCATION:River Club Glen Arbor\, 5963 S. Oak Street\, Glen Arbor\, 49636\, United States
CATEGORIES:Food/Dining Event,Kids + Family Friendly,Music
ATTACH;FMTTYPE=image/jpeg:https://www.visitglenarbor.com/wp-content/uploads/2024/07/river-club-summer-2024-IMG_8731.jpeg
END:VEVENT
BEGIN:VEVENT
DTSTART;TZID=America/Detroit:20240725T190000
DTEND;TZID=America/Detroit:20240725T210000
DTSTAMP:20260421T214849
CREATED:20240717T181412Z
LAST-MODIFIED:20240910T013948Z
UID:10005554-1721934000-1721941200@www.visitglenarbor.com
SUMMARY:River Club Glen Arbor
DESCRIPTION:Enjoy Live Music on the lawn at River Club in Glen Arbor\, every Thursday – Saturday in September. We invite you to check out our website for the performer’s schedule. \nhttps://www.rcglenarbor.com/live-music
URL:https://www.visitglenarbor.com/event/river-club-glen-arbor/2024-07-25/
LOCATION:River Club Glen Arbor\, 5963 S. Oak Street\, Glen Arbor\, 49636\, United States
CATEGORIES:Food/Dining Event,Kids + Family Friendly,Music
ATTACH;FMTTYPE=image/jpeg:https://www.visitglenarbor.com/wp-content/uploads/2024/07/river-club-summer-2024-IMG_8731.jpeg
END:VEVENT
BEGIN:VEVENT
DTSTART;TZID=America/Detroit:20240720T190000
DTEND;TZID=America/Detroit:20240720T210000
DTSTAMP:20260421T214849
CREATED:20240717T181412Z
LAST-MODIFIED:20240910T013948Z
UID:10005551-1721502000-1721509200@www.visitglenarbor.com
SUMMARY:River Club Glen Arbor
DESCRIPTION:Enjoy Live Music on the lawn at River Club in Glen Arbor\, every Thursday – Saturday in September. We invite you to check out our website for the performer’s schedule. \nhttps://www.rcglenarbor.com/live-music
URL:https://www.visitglenarbor.com/event/river-club-glen-arbor/2024-07-20/
LOCATION:River Club Glen Arbor\, 5963 S. Oak Street\, Glen Arbor\, 49636\, United States
CATEGORIES:Food/Dining Event,Kids + Family Friendly,Music
ATTACH;FMTTYPE=image/jpeg:https://www.visitglenarbor.com/wp-content/uploads/2024/07/river-club-summer-2024-IMG_8731.jpeg
END:VEVENT
BEGIN:VEVENT
DTSTART;TZID=America/Detroit:20240719T190000
DTEND;TZID=America/Detroit:20240719T210000
DTSTAMP:20260421T214849
CREATED:20240717T181412Z
LAST-MODIFIED:20240910T013948Z
UID:10005550-1721415600-1721422800@www.visitglenarbor.com
SUMMARY:River Club Glen Arbor
DESCRIPTION:Enjoy Live Music on the lawn at River Club in Glen Arbor\, every Thursday – Saturday in September. We invite you to check out our website for the performer’s schedule. \nhttps://www.rcglenarbor.com/live-music
URL:https://www.visitglenarbor.com/event/river-club-glen-arbor/2024-07-19/
LOCATION:River Club Glen Arbor\, 5963 S. Oak Street\, Glen Arbor\, 49636\, United States
CATEGORIES:Food/Dining Event,Kids + Family Friendly,Music
ATTACH;FMTTYPE=image/jpeg:https://www.visitglenarbor.com/wp-content/uploads/2024/07/river-club-summer-2024-IMG_8731.jpeg
END:VEVENT
BEGIN:VEVENT
DTSTART;TZID=America/Detroit:20240718T190000
DTEND;TZID=America/Detroit:20240718T210000
DTSTAMP:20260421T214849
CREATED:20240717T181412Z
LAST-MODIFIED:20240910T013948Z
UID:10005549-1721329200-1721336400@www.visitglenarbor.com
SUMMARY:River Club Glen Arbor
DESCRIPTION:Enjoy Live Music on the lawn at River Club in Glen Arbor\, every Thursday – Saturday in September. We invite you to check out our website for the performer’s schedule. \nhttps://www.rcglenarbor.com/live-music
URL:https://www.visitglenarbor.com/event/river-club-glen-arbor/2024-07-18/
LOCATION:River Club Glen Arbor\, 5963 S. Oak Street\, Glen Arbor\, 49636\, United States
CATEGORIES:Food/Dining Event,Kids + Family Friendly,Music
ATTACH;FMTTYPE=image/jpeg:https://www.visitglenarbor.com/wp-content/uploads/2024/07/river-club-summer-2024-IMG_8731.jpeg
END:VEVENT
BEGIN:VEVENT
DTSTART;TZID=America/Detroit:20240713T190000
DTEND;TZID=America/Detroit:20240713T210000
DTSTAMP:20260421T214849
CREATED:20240717T181412Z
LAST-MODIFIED:20240910T013948Z
UID:10005546-1720897200-1720904400@www.visitglenarbor.com
SUMMARY:River Club Glen Arbor
DESCRIPTION:Enjoy Live Music on the lawn at River Club in Glen Arbor\, every Thursday – Saturday in September. We invite you to check out our website for the performer’s schedule. \nhttps://www.rcglenarbor.com/live-music
URL:https://www.visitglenarbor.com/event/river-club-glen-arbor/2024-07-13/
LOCATION:River Club Glen Arbor\, 5963 S. Oak Street\, Glen Arbor\, 49636\, United States
CATEGORIES:Food/Dining Event,Kids + Family Friendly,Music
ATTACH;FMTTYPE=image/jpeg:https://www.visitglenarbor.com/wp-content/uploads/2024/07/river-club-summer-2024-IMG_8731.jpeg
END:VEVENT
BEGIN:VEVENT
DTSTART;TZID=America/Detroit:20240712T190000
DTEND;TZID=America/Detroit:20240712T210000
DTSTAMP:20260421T214849
CREATED:20240717T181412Z
LAST-MODIFIED:20240910T013948Z
UID:10005545-1720810800-1720818000@www.visitglenarbor.com
SUMMARY:River Club Glen Arbor
DESCRIPTION:Enjoy Live Music on the lawn at River Club in Glen Arbor\, every Thursday – Saturday in September. We invite you to check out our website for the performer’s schedule. \nhttps://www.rcglenarbor.com/live-music
URL:https://www.visitglenarbor.com/event/river-club-glen-arbor/2024-07-12/
LOCATION:River Club Glen Arbor\, 5963 S. Oak Street\, Glen Arbor\, 49636\, United States
CATEGORIES:Food/Dining Event,Kids + Family Friendly,Music
ATTACH;FMTTYPE=image/jpeg:https://www.visitglenarbor.com/wp-content/uploads/2024/07/river-club-summer-2024-IMG_8731.jpeg
END:VEVENT
BEGIN:VEVENT
DTSTART;TZID=America/Detroit:20240711T190000
DTEND;TZID=America/Detroit:20240711T210000
DTSTAMP:20260421T214849
CREATED:20240717T181412Z
LAST-MODIFIED:20240910T013948Z
UID:10005544-1720724400-1720731600@www.visitglenarbor.com
SUMMARY:River Club Glen Arbor
DESCRIPTION:Enjoy Live Music on the lawn at River Club in Glen Arbor\, every Thursday – Saturday in September. We invite you to check out our website for the performer’s schedule. \nhttps://www.rcglenarbor.com/live-music
URL:https://www.visitglenarbor.com/event/river-club-glen-arbor/2024-07-11/
LOCATION:River Club Glen Arbor\, 5963 S. Oak Street\, Glen Arbor\, 49636\, United States
CATEGORIES:Food/Dining Event,Kids + Family Friendly,Music
ATTACH;FMTTYPE=image/jpeg:https://www.visitglenarbor.com/wp-content/uploads/2024/07/river-club-summer-2024-IMG_8731.jpeg
END:VEVENT
BEGIN:VEVENT
DTSTART;TZID=America/Detroit:20240706T190000
DTEND;TZID=America/Detroit:20240706T210000
DTSTAMP:20260421T214849
CREATED:20240717T181412Z
LAST-MODIFIED:20240910T013948Z
UID:10005541-1720292400-1720299600@www.visitglenarbor.com
SUMMARY:River Club Glen Arbor
DESCRIPTION:Enjoy Live Music on the lawn at River Club in Glen Arbor\, every Thursday – Saturday in September. We invite you to check out our website for the performer’s schedule. \nhttps://www.rcglenarbor.com/live-music
URL:https://www.visitglenarbor.com/event/river-club-glen-arbor/2024-07-06/
LOCATION:River Club Glen Arbor\, 5963 S. Oak Street\, Glen Arbor\, 49636\, United States
CATEGORIES:Food/Dining Event,Kids + Family Friendly,Music
ATTACH;FMTTYPE=image/jpeg:https://www.visitglenarbor.com/wp-content/uploads/2024/07/river-club-summer-2024-IMG_8731.jpeg
END:VEVENT
BEGIN:VEVENT
DTSTART;TZID=America/Detroit:20240705T190000
DTEND;TZID=America/Detroit:20240705T210000
DTSTAMP:20260421T214849
CREATED:20240717T181412Z
LAST-MODIFIED:20240910T013948Z
UID:10005540-1720206000-1720213200@www.visitglenarbor.com
SUMMARY:River Club Glen Arbor
DESCRIPTION:Enjoy Live Music on the lawn at River Club in Glen Arbor\, every Thursday – Saturday in September. We invite you to check out our website for the performer’s schedule. \nhttps://www.rcglenarbor.com/live-music
URL:https://www.visitglenarbor.com/event/river-club-glen-arbor/2024-07-05/
LOCATION:River Club Glen Arbor\, 5963 S. Oak Street\, Glen Arbor\, 49636\, United States
CATEGORIES:Food/Dining Event,Kids + Family Friendly,Music
ATTACH;FMTTYPE=image/jpeg:https://www.visitglenarbor.com/wp-content/uploads/2024/07/river-club-summer-2024-IMG_8731.jpeg
END:VEVENT
END:VCALENDAR