BEGIN:VCALENDAR
VERSION:2.0
PRODID:-//Glen Lake Chamber of Commerce - ECPv6.15.19//NONSGML v1.0//EN
CALSCALE:GREGORIAN
METHOD:PUBLISH
X-ORIGINAL-URL:https://www.visitglenarbor.com
X-WR-CALDESC:Events for Glen Lake Chamber of Commerce
REFRESH-INTERVAL;VALUE=DURATION:PT1H
X-Robots-Tag:noindex
X-PUBLISHED-TTL:PT1H
BEGIN:VTIMEZONE
TZID:America/Detroit
BEGIN:DAYLIGHT
TZOFFSETFROM:-0500
TZOFFSETTO:-0400
TZNAME:EDT
DTSTART:20170312T070000
END:DAYLIGHT
BEGIN:STANDARD
TZOFFSETFROM:-0400
TZOFFSETTO:-0500
TZNAME:EST
DTSTART:20171105T060000
END:STANDARD
BEGIN:DAYLIGHT
TZOFFSETFROM:-0500
TZOFFSETTO:-0400
TZNAME:EDT
DTSTART:20180311T070000
END:DAYLIGHT
BEGIN:STANDARD
TZOFFSETFROM:-0400
TZOFFSETTO:-0500
TZNAME:EST
DTSTART:20181104T060000
END:STANDARD
BEGIN:DAYLIGHT
TZOFFSETFROM:-0500
TZOFFSETTO:-0400
TZNAME:EDT
DTSTART:20190310T070000
END:DAYLIGHT
BEGIN:STANDARD
TZOFFSETFROM:-0400
TZOFFSETTO:-0500
TZNAME:EST
DTSTART:20191103T060000
END:STANDARD
END:VTIMEZONE
BEGIN:VEVENT
DTSTART;TZID=America/Detroit:20180628T170000
DTEND;TZID=America/Detroit:20180628T190000
DTSTAMP:20260423T005219
CREATED:20180614T230809Z
LAST-MODIFIED:20200309T054854Z
UID:10003079-1530205200-1530212400@www.visitglenarbor.com
SUMMARY:Musicians on the Patio 6/28
DESCRIPTION:Musicians on the Patio at M22 Glen Arbor \nDennis Palmer performing 6/28 from 5-7pm \nDennis has released 4 CDs of original music ranging from Acoustic Blues to Contemporary Folk. With an eclectic style that is both intro-spective and thought provoking – his music has raised comparisons to such Artists as Gordon Lightfoot & Duncan Sheik… Born & raised near Saginaw Michigan – Dennis now lives in Leelanau County among the Places and People that continue to inspire much of his music. \nEvent questions\, call: 231-334-4425
URL:https://www.visitglenarbor.com/event/musicians-on-the-patio-6-28/
LOCATION:M22 Glen Arbor\, Western Ave W Western Ave\, Glen Arbor\, Michigan\, 49636
CATEGORIES:Local Business Event,Music
ATTACH;FMTTYPE=image/jpeg:https://www.visitglenarbor.com/wp-content/uploads/2020/03/Patio-and-Wine-Bar_M22-Stire_Coastal_Glen-Arbor.jpg
END:VEVENT
BEGIN:VEVENT
DTSTART;TZID=America/Detroit:20180626T093000
DTEND;TZID=America/Detroit:20180626T113000
DTSTAMP:20260423T005219
CREATED:20180614T233036Z
LAST-MODIFIED:20200309T054855Z
UID:10003091-1530005400-1530012600@www.visitglenarbor.com
SUMMARY:Sprout Kids Art Station at M22 Glen Arbor
DESCRIPTION:Sprout: Nourishing young minds through art & nature. \nTuesdays in the Summer\, outside at M22 Glen Arbor\, there will be a Kids Art Station from 6/26 – 8/14 from 9:30 – 11:30. Come Create with us! $15 for 3 take-home items. The kids can create\, while you get to shop! \nFor this event info\, you may visit: sproutnatureandart.wordpress.com
URL:https://www.visitglenarbor.com/event/sprout-kids-art-station-at-m22-glen-arbor/
LOCATION:M22 Glen Arbor\, Western Ave W Western Ave\, Glen Arbor\, Michigan\, 49636
CATEGORIES:Art/Gallery/Exhibit,Community Events,Kids + Family Friendly,Local Business Event
ATTACH;FMTTYPE=image/jpeg:https://www.visitglenarbor.com/wp-content/uploads/2020/03/Sprout-Art-Station-at-M22-Glen-Arbor_Summer-2018_Kids_things-to-do-e1529004601967.jpg
END:VEVENT
BEGIN:VEVENT
DTSTART;TZID=America/Detroit:20180508T180000
DTEND;TZID=America/Detroit:20180508T193000
DTSTAMP:20260423T005219
CREATED:20180419T202049Z
LAST-MODIFIED:20200309T054843Z
UID:10003021-1525802400-1525807800@www.visitglenarbor.com
SUMMARY:Chamber Meeting May 8 2018
DESCRIPTION:Glen Lake Chamber of Commerce | Meeting\nLots of changes in store and exciting energy this year. Please join us to learn more about what’s going on in Glen Arbor and with your Glen Lake Chamber of Commerce and how you can participate or support and how we can help you!  \nThe meeting in open to current or interested Members and the greater community. Bring a friend or colleague!  \nThe Wiesen’s will be hosting the meeting Tuesday\, May 8th at 6pm at M-22 Glen Arbor. Drinks and snacks will be provided.  \n\nCo-Hosts include: Connie Kroll from Northland Vacation Rentals & Sue Boucher from The Cottage Book Shop.
URL:https://www.visitglenarbor.com/event/chamber-meeting-may-8-2018/
LOCATION:M22 Glen Arbor\, Western Ave W Western Ave\, Glen Arbor\, Michigan\, 49636
CATEGORIES:Chamber Events
ATTACH;FMTTYPE=image/jpeg:https://www.visitglenarbor.com/wp-content/uploads/2020/03/IMG_7725-e1455728510366.jpg
END:VEVENT
END:VCALENDAR