BEGIN:VCALENDAR
VERSION:2.0
PRODID:-//Glen Lake Chamber of Commerce - ECPv6.15.19//NONSGML v1.0//EN
CALSCALE:GREGORIAN
METHOD:PUBLISH
X-ORIGINAL-URL:https://www.visitglenarbor.com
X-WR-CALDESC:Events for Glen Lake Chamber of Commerce
REFRESH-INTERVAL;VALUE=DURATION:PT1H
X-Robots-Tag:noindex
X-PUBLISHED-TTL:PT1H
BEGIN:VTIMEZONE
TZID:America/Detroit
BEGIN:DAYLIGHT
TZOFFSETFROM:-0500
TZOFFSETTO:-0400
TZNAME:EDT
DTSTART:20170312T070000
END:DAYLIGHT
BEGIN:STANDARD
TZOFFSETFROM:-0400
TZOFFSETTO:-0500
TZNAME:EST
DTSTART:20171105T060000
END:STANDARD
BEGIN:DAYLIGHT
TZOFFSETFROM:-0500
TZOFFSETTO:-0400
TZNAME:EDT
DTSTART:20180311T070000
END:DAYLIGHT
BEGIN:STANDARD
TZOFFSETFROM:-0400
TZOFFSETTO:-0500
TZNAME:EST
DTSTART:20181104T060000
END:STANDARD
BEGIN:DAYLIGHT
TZOFFSETFROM:-0500
TZOFFSETTO:-0400
TZNAME:EDT
DTSTART:20190310T070000
END:DAYLIGHT
BEGIN:STANDARD
TZOFFSETFROM:-0400
TZOFFSETTO:-0500
TZNAME:EST
DTSTART:20191103T060000
END:STANDARD
BEGIN:DAYLIGHT
TZOFFSETFROM:-0500
TZOFFSETTO:-0400
TZNAME:EDT
DTSTART:20200308T070000
END:DAYLIGHT
BEGIN:STANDARD
TZOFFSETFROM:-0400
TZOFFSETTO:-0500
TZNAME:EST
DTSTART:20201101T060000
END:STANDARD
END:VTIMEZONE
BEGIN:VEVENT
DTSTART;TZID=America/Detroit:20190730T100000
DTEND;TZID=America/Detroit:20190730T120000
DTSTAMP:20260423T065113
CREATED:20190522T221334Z
LAST-MODIFIED:20200309T054935Z
UID:10003880-1564480800-1564488000@www.visitglenarbor.com
SUMMARY:Sprout: July 30
DESCRIPTION:Tuesdays at M22 Glen Arbor \nfrom 10am-12pm\, June 25 thru August 13\n\nIntroducing Sprout\, a pop-up art depot for kids of all ages. Kids can create while adults shop and sip in the CRO Recreational District. Each week we will offer activities based on this beautiful area. \nCost: $15 per kid for two make-and-take activities plus a bonus game to play at home. Cash or check\, please. \nDrop in on Tuesdays from 10:00-Noon (or until supplies run out) right outside of the M22 store. No advance notice needed.
URL:https://www.visitglenarbor.com/event/sprout-july-30/
LOCATION:M22 Glen Arbor\, Western Ave W Western Ave\, Glen Arbor\, Michigan\, 49636
CATEGORIES:Art/Gallery/Exhibit,Kids + Family Friendly,Local Business Event
ATTACH;FMTTYPE=image/jpeg:https://www.visitglenarbor.com/wp-content/uploads/2020/03/sprout_kids-things-to-do_Summer-activities_Glen-Arbor-Michigan-e1558548394782.jpg
END:VEVENT
BEGIN:VEVENT
DTSTART;TZID=America/Detroit:20190723T100000
DTEND;TZID=America/Detroit:20190723T120000
DTSTAMP:20260423T065114
CREATED:20190522T221216Z
LAST-MODIFIED:20200309T054935Z
UID:10003878-1563876000-1563883200@www.visitglenarbor.com
SUMMARY:Sprout: July 23
DESCRIPTION:Tuesdays at M22 Glen Arbor \nfrom 10am-12pm\, June 25 thru August 13\n\nIntroducing Sprout\, a pop-up art depot for kids of all ages. Kids can create while adults shop and sip in the CRO Recreational District. Each week we will offer activities based on this beautiful area. \nCost: $15 per kid for two make-and-take activities plus a bonus game to play at home. Cash or check\, please. \nDrop in on Tuesdays from 10:00-Noon (or until supplies run out) right outside of the M22 store. No advance notice needed.
URL:https://www.visitglenarbor.com/event/sprout-july-23/
LOCATION:M22 Glen Arbor\, Western Ave W Western Ave\, Glen Arbor\, Michigan\, 49636
CATEGORIES:Art/Gallery/Exhibit,Kids + Family Friendly,Local Business Event
ATTACH;FMTTYPE=image/jpeg:https://www.visitglenarbor.com/wp-content/uploads/2020/03/sprout_kids-things-to-do_Summer-activities_Glen-Arbor-Michigan-e1558548394782.jpg
END:VEVENT
BEGIN:VEVENT
DTSTART;TZID=America/Detroit:20190716T100000
DTEND;TZID=America/Detroit:20190716T120000
DTSTAMP:20260423T065114
CREATED:20190522T221113Z
LAST-MODIFIED:20200309T054935Z
UID:10003876-1563271200-1563278400@www.visitglenarbor.com
SUMMARY:Sprout: July 16
DESCRIPTION:Tuesdays at M22 Glen Arbor \nfrom 10am-12pm\, June 25 thru August 13\n\nIntroducing Sprout\, a pop-up art depot for kids of all ages. Kids can create while adults shop and sip in the CRO Recreational District. Each week we will offer activities based on this beautiful area. \nCost: $15 per kid for two make-and-take activities plus a bonus game to play at home. Cash or check\, please. \nDrop in on Tuesdays from 10:00-Noon (or until supplies run out) right outside of the M22 store. No advance notice needed.
URL:https://www.visitglenarbor.com/event/sprout-july-16/
LOCATION:M22 Glen Arbor\, Western Ave W Western Ave\, Glen Arbor\, Michigan\, 49636
CATEGORIES:Art/Gallery/Exhibit,Kids + Family Friendly,Local Business Event
ATTACH;FMTTYPE=image/jpeg:https://www.visitglenarbor.com/wp-content/uploads/2020/03/sprout_kids-things-to-do_Summer-activities_Glen-Arbor-Michigan-e1558548394782.jpg
END:VEVENT
BEGIN:VEVENT
DTSTART;TZID=America/Detroit:20190709T100000
DTEND;TZID=America/Detroit:20190709T120000
DTSTAMP:20260423T065114
CREATED:20190522T220957Z
LAST-MODIFIED:20200309T054935Z
UID:10003276-1562666400-1562673600@www.visitglenarbor.com
SUMMARY:Sprout: July 9
DESCRIPTION:Tuesdays at M22 Glen Arbor \nfrom 10am-12pm\, June 25 thru August 13\n\nIntroducing Sprout\, a pop-up art depot for kids of all ages. Kids can create while adults shop and sip in the CRO Recreational District. Each week we will offer activities based on this beautiful area. \nCost: $15 per kid for two make-and-take activities plus a bonus game to play at home. Cash or check\, please. \nDrop in on Tuesdays from 10:00-Noon (or until supplies run out) right outside of the M22 store. No advance notice needed.
URL:https://www.visitglenarbor.com/event/sprout-july-9/
LOCATION:M22 Glen Arbor\, Western Ave W Western Ave\, Glen Arbor\, Michigan\, 49636
CATEGORIES:Art/Gallery/Exhibit,Kids + Family Friendly,Local Business Event
ATTACH;FMTTYPE=image/jpeg:https://www.visitglenarbor.com/wp-content/uploads/2020/03/sprout_kids-things-to-do_Summer-activities_Glen-Arbor-Michigan-e1558548394782.jpg
END:VEVENT
BEGIN:VEVENT
DTSTART;TZID=America/Detroit:20190702T100000
DTEND;TZID=America/Detroit:20190702T120000
DTSTAMP:20260423T065114
CREATED:20190522T220844Z
LAST-MODIFIED:20200309T054935Z
UID:10003275-1562061600-1562068800@www.visitglenarbor.com
SUMMARY:Sprout: July 2nd
DESCRIPTION:Tuesdays at M22 Glen Arbor \nfrom 10am-12pm\, June 25 thru August 13\n\nIntroducing Sprout\, a pop-up art depot for kids of all ages. Kids can create while adults shop and sip in the CRO Recreational District. Each week we will offer activities based on this beautiful area. \nCost: $15 per kid for two make-and-take activities plus a bonus game to play at home. Cash or check\, please. \nDrop in on Tuesdays from 10:00-Noon (or until supplies run out) right outside of the M22 store. No advance notice needed.
URL:https://www.visitglenarbor.com/event/sprout-july-2nd/
LOCATION:M22 Glen Arbor\, Western Ave W Western Ave\, Glen Arbor\, Michigan\, 49636
CATEGORIES:Art/Gallery/Exhibit,Kids + Family Friendly,Local Business Event
ATTACH;FMTTYPE=image/jpeg:https://www.visitglenarbor.com/wp-content/uploads/2020/03/sprout_kids-things-to-do_Summer-activities_Glen-Arbor-Michigan-e1558548394782.jpg
END:VEVENT
BEGIN:VEVENT
DTSTART;TZID=America/Detroit:20190625T100000
DTEND;TZID=America/Detroit:20190625T120000
DTSTAMP:20260423T065114
CREATED:20190522T220727Z
LAST-MODIFIED:20200309T054935Z
UID:10003273-1561456800-1561464000@www.visitglenarbor.com
SUMMARY:Sprout: June 25
DESCRIPTION:Tuesdays at M22 Glen Arbor \nfrom 10am-12pm\, June 25 thru August 13\n\nIntroducing Sprout\, a pop-up art depot for kids of all ages. Kids can create while adults shop and sip in the CRO Recreational District. Each week we will offer activities based on this beautiful area. \nCost: $15 per kid for two make-and-take activities plus a bonus game to play at home. Cash or check\, please. \nDrop in on Tuesdays from 10:00-Noon (or until supplies run out) right outside of the M22 store. No advance notice needed.
URL:https://www.visitglenarbor.com/event/sprout-june-25/
LOCATION:M22 Glen Arbor\, Western Ave W Western Ave\, Glen Arbor\, Michigan\, 49636
CATEGORIES:Art/Gallery/Exhibit,Kids + Family Friendly,Local Business Event
ATTACH;FMTTYPE=image/jpeg:https://www.visitglenarbor.com/wp-content/uploads/2020/03/sprout_kids-things-to-do_Summer-activities_Glen-Arbor-Michigan-e1558548394782.jpg
END:VEVENT
BEGIN:VEVENT
DTSTART;TZID=America/Detroit:20190416T173000
DTEND;TZID=America/Detroit:20190416T183000
DTSTAMP:20260423T065114
CREATED:20190317T220750Z
LAST-MODIFIED:20200309T054921Z
UID:10003225-1555435800-1555439400@www.visitglenarbor.com
SUMMARY:Bylaws Meeting
DESCRIPTION:Open to all Glen Lake Chamber Members\, The primary purpose of this meeting will be to introduce and review the proposed new Chamber bylaws. A vote to adapt the new bylaws will happen at the Spring Dinner meeting. We plan to meet at the M22 Store in Glen Arbor at 5:30pm. Wine will be provided.
URL:https://www.visitglenarbor.com/event/bylaws-meeting-april-16-2019/
LOCATION:M22 Glen Arbor\, Western Ave W Western Ave\, Glen Arbor\, Michigan\, 49636
CATEGORIES:Chamber Events,Wine/Beer or Tasting Event
ATTACH;FMTTYPE=image/jpeg:https://www.visitglenarbor.com/wp-content/uploads/2020/03/book-bindings-composition-desk-891059-e1553455831279.jpg
END:VEVENT
BEGIN:VEVENT
DTSTART;TZID=America/Detroit:20180802T170000
DTEND;TZID=America/Detroit:20180802T190000
DTSTAMP:20260423T065114
CREATED:20180614T232411Z
LAST-MODIFIED:20200309T054855Z
UID:10003089-1533229200-1533236400@www.visitglenarbor.com
SUMMARY:Musicians on the Patio 8/2
DESCRIPTION:Musicians on the Patio at M22 Glen Arbor \nBlake Elliot performing 8/2 from 5-7pm \nBlake Elliott has a recipe for a sweet sound: start with a little folk\, throw in some jazz\, add a touch of funk\, and finish off with a healthy dose of the blues and soul. Coupled with a trademark vintage look and style\, Elliott delivers an eclectic mix of original music that blends the present with the past. \nFor questions\, call: 231-334-4425
URL:https://www.visitglenarbor.com/event/musicians-on-the-patio-8-2/
LOCATION:M22 Glen Arbor\, Western Ave W Western Ave\, Glen Arbor\, Michigan\, 49636
CATEGORIES:Local Business Event,Music
ATTACH;FMTTYPE=image/jpeg:https://www.visitglenarbor.com/wp-content/uploads/2020/03/Patio-and-Wine-Bar_M22-Stire_Coastal_Glen-Arbor.jpg
END:VEVENT
BEGIN:VEVENT
DTSTART;TZID=America/Detroit:20180726T170000
DTEND;TZID=America/Detroit:20180726T190000
DTSTAMP:20260423T065114
CREATED:20180614T232151Z
LAST-MODIFIED:20200309T054855Z
UID:10003087-1532624400-1532631600@www.visitglenarbor.com
SUMMARY:Musicians on the Patio 7/26
DESCRIPTION:Musicians on the Patio at M22 Glen Arbor \nMichael Joseph performing 7/26 from 5-7pm \nA Chicago native with a pop-folk influence\, Michael Joseph has been entertaining crowds for over 10 years. A talented\, multi-genre singer/songwriter\, Michael has a large range and musical library from country\, to pop\, to dance. \nEvent questions\, call: 231-334-4425
URL:https://www.visitglenarbor.com/event/musicians-on-the-patio-7-26/
LOCATION:M22 Glen Arbor\, Western Ave W Western Ave\, Glen Arbor\, Michigan\, 49636
CATEGORIES:Local Business Event,Music
ATTACH;FMTTYPE=image/jpeg:https://www.visitglenarbor.com/wp-content/uploads/2020/03/Patio-and-Wine-Bar_M22-Stire_Coastal_Glen-Arbor.jpg
END:VEVENT
BEGIN:VEVENT
DTSTART;TZID=America/Detroit:20180719T170000
DTEND;TZID=America/Detroit:20180719T190000
DTSTAMP:20260423T065114
CREATED:20180614T231423Z
LAST-MODIFIED:20200309T054855Z
UID:10003085-1532019600-1532026800@www.visitglenarbor.com
SUMMARY:Musicians on the Patio 7/19
DESCRIPTION:Musicians on the Patio at M22 Glen Arbor \nLynn Thompson performing 7/19 from 5-7pm \n12 string flat picker Lynn Thompson’s usual style is captivating\, moving and emotional. Raised in Chicago\, Lynn’s musical influences have been many from Peter Gabriel\, Jethro Tull to the Stanely Brothers. Accompanying the 12 string acoustic guitar is a surprisingly strong and emotional vocal. Together words and music reach the heart\, soul\, spirit and the funny bone. \nEvent questions\, call: 231-334-4425
URL:https://www.visitglenarbor.com/event/musicians-on-the-patio-7-19/
LOCATION:M22 Glen Arbor\, Western Ave W Western Ave\, Glen Arbor\, Michigan\, 49636
CATEGORIES:Local Business Event,Music
ATTACH;FMTTYPE=image/jpeg:https://www.visitglenarbor.com/wp-content/uploads/2020/03/Patio-and-Wine-Bar_M22-Stire_Coastal_Glen-Arbor.jpg
END:VEVENT
BEGIN:VEVENT
DTSTART;TZID=America/Detroit:20180712T170000
DTEND;TZID=America/Detroit:20180712T190000
DTSTAMP:20260423T065114
CREATED:20180614T231211Z
LAST-MODIFIED:20200309T054855Z
UID:10003083-1531414800-1531422000@www.visitglenarbor.com
SUMMARY:Musicians on the Patio 7/12
DESCRIPTION:Musicians on the Patio at M22 Glen Arbor \nKristen Kuiper performing 7/12 from 5-7pm \nKristen Kuiper – a singer/songwriter originally from Grand Rapids\, MI\, but found her way to Nashville\, TN to pursue her dreams. Her music is autobiographical. “I write because I know I’m not the only girl in the world that has dealt with loss\, heartache\, joy\, pain\, love\, and “life”. So if in 3 or 4 minutes I can connect with someone and let them know that they aren’t the only one either\, this struggle is worth it.” \nEvent questions\, call: 231-334-4425
URL:https://www.visitglenarbor.com/event/musicians-on-the-patio-7-12/
LOCATION:M22 Glen Arbor\, Western Ave W Western Ave\, Glen Arbor\, Michigan\, 49636
CATEGORIES:Local Business Event,Music
ATTACH;FMTTYPE=image/jpeg:https://www.visitglenarbor.com/wp-content/uploads/2020/03/Patio-and-Wine-Bar_M22-Stire_Coastal_Glen-Arbor.jpg
END:VEVENT
BEGIN:VEVENT
DTSTART;TZID=America/Detroit:20180705T170000
DTEND;TZID=America/Detroit:20180705T190000
DTSTAMP:20260423T065114
CREATED:20180614T231019Z
LAST-MODIFIED:20200309T054854Z
UID:10003081-1530810000-1530817200@www.visitglenarbor.com
SUMMARY:Musicians on the Patio 7/5
DESCRIPTION:Musicians on the Patio at M22 Glen Arbor \nBlake Elliot performing 7/5 from 5-7pm \nBlake Elliott has a recipe for a sweet sound: start with a little folk\, throw in some jazz\, add a touch of funk\, and finish off with a healthy dose of the blues and soul. Coupled with a trademark vintage look and style\, Elliott delivers an eclectic mix of original music that blends the present with the past. \nEvent questions\, call: 231-334-4425
URL:https://www.visitglenarbor.com/event/musicians-on-the-patio-7-5/
LOCATION:M22 Glen Arbor\, Western Ave W Western Ave\, Glen Arbor\, Michigan\, 49636
CATEGORIES:Local Business Event,Music
ATTACH;FMTTYPE=image/jpeg:https://www.visitglenarbor.com/wp-content/uploads/2020/03/Patio-and-Wine-Bar_M22-Stire_Coastal_Glen-Arbor.jpg
END:VEVENT
BEGIN:VEVENT
DTSTART;TZID=America/Detroit:20180628T170000
DTEND;TZID=America/Detroit:20180628T190000
DTSTAMP:20260423T065114
CREATED:20180614T230809Z
LAST-MODIFIED:20200309T054854Z
UID:10003079-1530205200-1530212400@www.visitglenarbor.com
SUMMARY:Musicians on the Patio 6/28
DESCRIPTION:Musicians on the Patio at M22 Glen Arbor \nDennis Palmer performing 6/28 from 5-7pm \nDennis has released 4 CDs of original music ranging from Acoustic Blues to Contemporary Folk. With an eclectic style that is both intro-spective and thought provoking – his music has raised comparisons to such Artists as Gordon Lightfoot & Duncan Sheik… Born & raised near Saginaw Michigan – Dennis now lives in Leelanau County among the Places and People that continue to inspire much of his music. \nEvent questions\, call: 231-334-4425
URL:https://www.visitglenarbor.com/event/musicians-on-the-patio-6-28/
LOCATION:M22 Glen Arbor\, Western Ave W Western Ave\, Glen Arbor\, Michigan\, 49636
CATEGORIES:Local Business Event,Music
ATTACH;FMTTYPE=image/jpeg:https://www.visitglenarbor.com/wp-content/uploads/2020/03/Patio-and-Wine-Bar_M22-Stire_Coastal_Glen-Arbor.jpg
END:VEVENT
BEGIN:VEVENT
DTSTART;TZID=America/Detroit:20180626T093000
DTEND;TZID=America/Detroit:20180626T113000
DTSTAMP:20260423T065114
CREATED:20180614T233036Z
LAST-MODIFIED:20200309T054855Z
UID:10003091-1530005400-1530012600@www.visitglenarbor.com
SUMMARY:Sprout Kids Art Station at M22 Glen Arbor
DESCRIPTION:Sprout: Nourishing young minds through art & nature. \nTuesdays in the Summer\, outside at M22 Glen Arbor\, there will be a Kids Art Station from 6/26 – 8/14 from 9:30 – 11:30. Come Create with us! $15 for 3 take-home items. The kids can create\, while you get to shop! \nFor this event info\, you may visit: sproutnatureandart.wordpress.com
URL:https://www.visitglenarbor.com/event/sprout-kids-art-station-at-m22-glen-arbor/
LOCATION:M22 Glen Arbor\, Western Ave W Western Ave\, Glen Arbor\, Michigan\, 49636
CATEGORIES:Art/Gallery/Exhibit,Community Events,Kids + Family Friendly,Local Business Event
ATTACH;FMTTYPE=image/jpeg:https://www.visitglenarbor.com/wp-content/uploads/2020/03/Sprout-Art-Station-at-M22-Glen-Arbor_Summer-2018_Kids_things-to-do-e1529004601967.jpg
END:VEVENT
BEGIN:VEVENT
DTSTART;TZID=America/Detroit:20180508T180000
DTEND;TZID=America/Detroit:20180508T193000
DTSTAMP:20260423T065114
CREATED:20180419T202049Z
LAST-MODIFIED:20200309T054843Z
UID:10003021-1525802400-1525807800@www.visitglenarbor.com
SUMMARY:Chamber Meeting May 8 2018
DESCRIPTION:Glen Lake Chamber of Commerce | Meeting\nLots of changes in store and exciting energy this year. Please join us to learn more about what’s going on in Glen Arbor and with your Glen Lake Chamber of Commerce and how you can participate or support and how we can help you!  \nThe meeting in open to current or interested Members and the greater community. Bring a friend or colleague!  \nThe Wiesen’s will be hosting the meeting Tuesday\, May 8th at 6pm at M-22 Glen Arbor. Drinks and snacks will be provided.  \n\nCo-Hosts include: Connie Kroll from Northland Vacation Rentals & Sue Boucher from The Cottage Book Shop.
URL:https://www.visitglenarbor.com/event/chamber-meeting-may-8-2018/
LOCATION:M22 Glen Arbor\, Western Ave W Western Ave\, Glen Arbor\, Michigan\, 49636
CATEGORIES:Chamber Events
ATTACH;FMTTYPE=image/jpeg:https://www.visitglenarbor.com/wp-content/uploads/2020/03/IMG_7725-e1455728510366.jpg
END:VEVENT
END:VCALENDAR