BEGIN:VCALENDAR
VERSION:2.0
PRODID:-//Glen Lake Chamber of Commerce - ECPv6.15.19//NONSGML v1.0//EN
CALSCALE:GREGORIAN
METHOD:PUBLISH
X-ORIGINAL-URL:https://www.visitglenarbor.com
X-WR-CALDESC:Events for Glen Lake Chamber of Commerce
REFRESH-INTERVAL;VALUE=DURATION:PT1H
X-Robots-Tag:noindex
X-PUBLISHED-TTL:PT1H
BEGIN:VTIMEZONE
TZID:America/Detroit
BEGIN:DAYLIGHT
TZOFFSETFROM:-0500
TZOFFSETTO:-0400
TZNAME:EDT
DTSTART:20130310T070000
END:DAYLIGHT
BEGIN:STANDARD
TZOFFSETFROM:-0400
TZOFFSETTO:-0500
TZNAME:EST
DTSTART:20131103T060000
END:STANDARD
BEGIN:DAYLIGHT
TZOFFSETFROM:-0500
TZOFFSETTO:-0400
TZNAME:EDT
DTSTART:20140309T070000
END:DAYLIGHT
BEGIN:STANDARD
TZOFFSETFROM:-0400
TZOFFSETTO:-0500
TZNAME:EST
DTSTART:20141102T060000
END:STANDARD
BEGIN:DAYLIGHT
TZOFFSETFROM:-0500
TZOFFSETTO:-0400
TZNAME:EDT
DTSTART:20150308T070000
END:DAYLIGHT
BEGIN:STANDARD
TZOFFSETFROM:-0400
TZOFFSETTO:-0500
TZNAME:EST
DTSTART:20151101T060000
END:STANDARD
BEGIN:DAYLIGHT
TZOFFSETFROM:-0500
TZOFFSETTO:-0400
TZNAME:EDT
DTSTART:20160313T070000
END:DAYLIGHT
BEGIN:STANDARD
TZOFFSETFROM:-0400
TZOFFSETTO:-0500
TZNAME:EST
DTSTART:20161106T060000
END:STANDARD
BEGIN:DAYLIGHT
TZOFFSETFROM:-0500
TZOFFSETTO:-0400
TZNAME:EDT
DTSTART:20170312T070000
END:DAYLIGHT
BEGIN:STANDARD
TZOFFSETFROM:-0400
TZOFFSETTO:-0500
TZNAME:EST
DTSTART:20171105T060000
END:STANDARD
END:VTIMEZONE
BEGIN:VEVENT
DTSTART;TZID=America/Detroit:20160810T200000
DTEND;TZID=America/Detroit:20160810T220000
DTSTAMP:20260421T065701
CREATED:20160715T202404Z
LAST-MODIFIED:20200309T054746Z
UID:10002762-1470859200-1470866400@www.visitglenarbor.com
SUMMARY:Manitou Music Festival presents Goitse
DESCRIPTION:Forged in the white-hot creative crucible of Limerick University’s Irish World Academy of Music and Dance\, Goitse have graduated with a musical maturity worthy of the greatest. Their distinctive sound lies in the quality of their own compositions interspersed with traditional tunes from Ireland and abroad\, which make each set entertaining and unique.
URL:https://www.visitglenarbor.com/event/manitou-music-festival-presents-goitse/
LOCATION:Leelanau School Green\, 1 Old Homestead Road\, Glen Arbor\, MI\, 49636\, United States
CATEGORIES:Community Events,Kids + Family Friendly,Music
ATTACH;FMTTYPE=image/jpeg:https://www.visitglenarbor.com/wp-content/uploads/2020/03/2016-MMF-Goitse.jpg
ORGANIZER;CN="Glen Arbor Arts Center":MAILTO:director@glenarborart.org
END:VEVENT
BEGIN:VEVENT
DTSTART;TZID=America/Detroit:20140813T200000
DTEND;TZID=America/Detroit:20140813T220000
DTSTAMP:20260421T065701
CREATED:20140713T194550Z
LAST-MODIFIED:20200309T054620Z
UID:10002306-1407960000-1407967200@www.visitglenarbor.com
SUMMARY:Mantiou Music Festival - Trina Hamlin and Annie Gallup
DESCRIPTION:Trina is a master of the blues harmonica as well as an inspired songwriter and guitarist. Her rich\, powerful voice captivates her audience as she brims with emotion. Annie is a songwriter known for her imaginative and sensual song-length works of fiction. She borrows from ancient folk tales and modern poetry and accompanies her vocals with her bluesy guitar. $15 (children 18 and under are free)\nRain: Leelanau School Auditorium
URL:https://www.visitglenarbor.com/event/mantiou-music-festival-trina-hamlin-and-annie-gallup/
LOCATION:Leelanau School Green\, 1 Old Homestead Road\, Glen Arbor\, MI\, 49636\, United States
CATEGORIES:Community Events
END:VEVENT
END:VCALENDAR