BEGIN:VCALENDAR
VERSION:2.0
PRODID:-//Glen Lake Chamber of Commerce - ECPv6.15.19//NONSGML v1.0//EN
CALSCALE:GREGORIAN
METHOD:PUBLISH
X-ORIGINAL-URL:https://www.visitglenarbor.com
X-WR-CALDESC:Events for Glen Lake Chamber of Commerce
REFRESH-INTERVAL;VALUE=DURATION:PT1H
X-Robots-Tag:noindex
X-PUBLISHED-TTL:PT1H
BEGIN:VTIMEZONE
TZID:America/Detroit
BEGIN:DAYLIGHT
TZOFFSETFROM:-0500
TZOFFSETTO:-0400
TZNAME:EDT
DTSTART:20140309T070000
END:DAYLIGHT
BEGIN:STANDARD
TZOFFSETFROM:-0400
TZOFFSETTO:-0500
TZNAME:EST
DTSTART:20141102T060000
END:STANDARD
BEGIN:DAYLIGHT
TZOFFSETFROM:-0500
TZOFFSETTO:-0400
TZNAME:EDT
DTSTART:20150308T070000
END:DAYLIGHT
BEGIN:STANDARD
TZOFFSETFROM:-0400
TZOFFSETTO:-0500
TZNAME:EST
DTSTART:20151101T060000
END:STANDARD
BEGIN:DAYLIGHT
TZOFFSETFROM:-0500
TZOFFSETTO:-0400
TZNAME:EDT
DTSTART:20160313T070000
END:DAYLIGHT
BEGIN:STANDARD
TZOFFSETFROM:-0400
TZOFFSETTO:-0500
TZNAME:EST
DTSTART:20161106T060000
END:STANDARD
BEGIN:DAYLIGHT
TZOFFSETFROM:-0500
TZOFFSETTO:-0400
TZNAME:EDT
DTSTART:20170312T070000
END:DAYLIGHT
BEGIN:STANDARD
TZOFFSETFROM:-0400
TZOFFSETTO:-0500
TZNAME:EST
DTSTART:20171105T060000
END:STANDARD
BEGIN:DAYLIGHT
TZOFFSETFROM:-0500
TZOFFSETTO:-0400
TZNAME:EDT
DTSTART:20180311T070000
END:DAYLIGHT
BEGIN:STANDARD
TZOFFSETFROM:-0400
TZOFFSETTO:-0500
TZNAME:EST
DTSTART:20181104T060000
END:STANDARD
BEGIN:DAYLIGHT
TZOFFSETFROM:-0500
TZOFFSETTO:-0400
TZNAME:EDT
DTSTART:20190310T070000
END:DAYLIGHT
BEGIN:STANDARD
TZOFFSETFROM:-0400
TZOFFSETTO:-0500
TZNAME:EST
DTSTART:20191103T060000
END:STANDARD
BEGIN:DAYLIGHT
TZOFFSETFROM:-0500
TZOFFSETTO:-0400
TZNAME:EDT
DTSTART:20200308T070000
END:DAYLIGHT
BEGIN:STANDARD
TZOFFSETFROM:-0400
TZOFFSETTO:-0500
TZNAME:EST
DTSTART:20201101T060000
END:STANDARD
BEGIN:DAYLIGHT
TZOFFSETFROM:-0500
TZOFFSETTO:-0400
TZNAME:EDT
DTSTART:20210314T070000
END:DAYLIGHT
BEGIN:STANDARD
TZOFFSETFROM:-0400
TZOFFSETTO:-0500
TZNAME:EST
DTSTART:20211107T060000
END:STANDARD
BEGIN:DAYLIGHT
TZOFFSETFROM:-0500
TZOFFSETTO:-0400
TZNAME:EDT
DTSTART:20220313T070000
END:DAYLIGHT
BEGIN:STANDARD
TZOFFSETFROM:-0400
TZOFFSETTO:-0500
TZNAME:EST
DTSTART:20221106T060000
END:STANDARD
BEGIN:DAYLIGHT
TZOFFSETFROM:-0500
TZOFFSETTO:-0400
TZNAME:EDT
DTSTART:20230312T070000
END:DAYLIGHT
BEGIN:STANDARD
TZOFFSETFROM:-0400
TZOFFSETTO:-0500
TZNAME:EST
DTSTART:20231105T060000
END:STANDARD
BEGIN:DAYLIGHT
TZOFFSETFROM:-0500
TZOFFSETTO:-0400
TZNAME:EDT
DTSTART:20240310T070000
END:DAYLIGHT
BEGIN:STANDARD
TZOFFSETFROM:-0400
TZOFFSETTO:-0500
TZNAME:EST
DTSTART:20241103T060000
END:STANDARD
BEGIN:DAYLIGHT
TZOFFSETFROM:-0500
TZOFFSETTO:-0400
TZNAME:EDT
DTSTART:20250309T070000
END:DAYLIGHT
BEGIN:STANDARD
TZOFFSETFROM:-0400
TZOFFSETTO:-0500
TZNAME:EST
DTSTART:20251102T060000
END:STANDARD
END:VTIMEZONE
BEGIN:VEVENT
DTSTART;TZID=America/Detroit:20240229T183000
DTEND;TZID=America/Detroit:20240229T203000
DTSTAMP:20260422T182356
CREATED:20240130T030808Z
LAST-MODIFIED:20240130T030808Z
UID:10005346-1709231400-1709238600@www.visitglenarbor.com
SUMMARY:Dreaming of the Caribbean
DESCRIPTION:An almost annual celebration of the food (and rhum!) of the Caribbean\, with a special nod to the island of Guadeloupe–timed just when we start really needing a warm-weather escape–even if it’s just for an evening (and in Burdickville). Typically five courses (details available soon)\, with paired drinks–our last event started with a Punch Planteur and ended with Rhum Coco\, and featured wine pairings in between. Break out your Caribbean attire and come prepared for fun!
URL:https://www.visitglenarbor.com/event/dreaming-of-the-caribbean/
LOCATION:La Becasse\, 9001 S Dunns Farm Road\, Burdickville\, MI\, 49664\, United States
CATEGORIES:Food/Dining Event
ATTACH;FMTTYPE=image/jpeg:https://www.visitglenarbor.com/wp-content/uploads/2024/01/IMG_5045-scaled.jpeg
ORGANIZER;CN="La Becasse":MAILTO:brooke@restaurantlabecasse.com
END:VEVENT
BEGIN:VEVENT
DTSTART;TZID=America/Detroit:20190619T183000
DTEND;TZID=America/Detroit:20190619T183000
DTSTAMP:20260422T182356
CREATED:20190606T222609Z
LAST-MODIFIED:20200309T054936Z
UID:10003893-1560969000-1560969000@www.visitglenarbor.com
SUMMARY:Caribbean Wine Dinner
DESCRIPTION:The Caribbean Wine Dinner\nWednesday\, June 19 at LaBecasse in Maple City\, MI next to Big Glen Lake\n6:30 p.m. | $75 + tax + gratuity\n \nExperience the taste of the tropics over 6 paired courses! To make a reservation\, please call right away to book your spot in this special evening. \n \nFacebook Event
URL:https://www.visitglenarbor.com/event/caribbean-wine-dinner/
LOCATION:La Becasse\, 9001 S Dunns Farm Road\, Burdickville\, MI\, 49664\, United States
CATEGORIES:Food/Dining Event,Local Business Event
ORGANIZER;CN="La Becasse":MAILTO:brooke@restaurantlabecasse.com
END:VEVENT
BEGIN:VEVENT
DTSTART;TZID=America/Detroit:20190514T053000
DTEND;TZID=America/Detroit:20190514T073000
DTSTAMP:20260422T182356
CREATED:20190317T220338Z
LAST-MODIFIED:20200309T054921Z
UID:10003223-1557811800-1557819000@www.visitglenarbor.com
SUMMARY:Spring Chamber Dinner
DESCRIPTION:Please join your business community for our annual Spring Member Dinner Meeting to be held Tuesday\, May 14th\, 2019 at LaBecasse.  \nGreetings & Cocktail hour begin at 5:30pm with Dinner meeting to start at 6pm. \nIf possible\, please RSVP to Brook beddyhm@gmail.com by May 1st.
URL:https://www.visitglenarbor.com/event/spring-chamber-dinner-may-14-2019/
LOCATION:La Becasse\, 9001 S Dunns Farm Road\, Burdickville\, MI\, 49664\, United States
CATEGORIES:Chamber Events,Community Events,Food/Dining Event,Local Business Event
ATTACH;FMTTYPE=image/jpeg:https://www.visitglenarbor.com/wp-content/uploads/2020/03/IMG_6358.jpg
END:VEVENT
BEGIN:VEVENT
DTSTART;TZID=America/Detroit:20160511T173000
DTEND;TZID=America/Detroit:20160511T193000
DTSTAMP:20260422T182356
CREATED:20160129T205427Z
LAST-MODIFIED:20200309T054721Z
UID:10002614-1462987800-1462995000@www.visitglenarbor.com
SUMMARY:Chamber Member Meeting + Spring Dinner - May 11\, 2016
DESCRIPTION:Wednesday\, May 11th\, 2016\nPlease join us for the annual Spring Glen Lake Chamber Members Dinner/Meeting\, will be held at LaBecasse restaurant!  \nPlease RVSP by Monday\, May 2nd  to lrouzer@thehomesteadresort.com or 231-334-5127  \n\n\nWe ask for members to please include their selections with their RSVP. \n\n\nDinner Menu: \nAppetizer–choice of: La Becasse House Salad\, Tomato Goat Cheese Tart\, House Pâté \nEntree–choice of: Ratatouille with Quinoa Timbale\, Grilled Beef Shoulder Tender with Creamy Polenta\, or Pan Seared Whitefish on Basmati Rice with Citrus Beurre Blanc \nDessert–choice of: Warm Chocolate Cake\, Tart Tatin (caramelized upside down apple tart)\,  and a yet-to-be-determined spring dessert \n$30 plus tax and gratuity  \n\n\n\n\n \n\n\n\n\nSchedule\n5:30pm | Social \n6:15pm | Guests to be seated for the Dinner & Meeting \nWe hope to see you there! \nMembers and others\, feel free to attend\, bring a colleague or friend! ALL are welcome to attend.
URL:https://www.visitglenarbor.com/event/chamber-member-meeting-spring-dinner-may-2016/
LOCATION:La Becasse\, 9001 S Dunns Farm Road\, Burdickville\, MI\, 49664\, United States
CATEGORIES:Chamber Events,Community Events,Local Business Event
ATTACH;FMTTYPE=image/jpeg:https://www.visitglenarbor.com/wp-content/uploads/2020/03/La-Becasse-2013-09-30-2.jpg
END:VEVENT
BEGIN:VEVENT
DTSTART;TZID=America/Detroit:20151112T180000
DTEND;TZID=America/Detroit:20151112T210000
DTSTAMP:20260422T182356
CREATED:20151103T041557Z
LAST-MODIFIED:20200309T054717Z
UID:10002597-1447351200-1447362000@www.visitglenarbor.com
SUMMARY:Meet the Farmer food and drink event
DESCRIPTION:La Bécasse invites you to “meet the farmer(s)”! \nOn hand will be Judy Reinhardt and Jim Schwantes from Sweeter Song Farm (produce)\, Randy Rice from Rice Farms (meat)\, and Nicco Pandolfi representing Cherry Capital Foods (a whole bunch of stuff). \nCome enjoy a 5 course harvest-heavy menu with 4 local beverage pairings featuring Bel Lago\, Verterra\, Black Star Farms and Storm Cloud Brewery. \nCome at 6 for a meet and greet and complimentary hors d’oeuvres and cash bar. Dinner starts at 6:30!
URL:https://www.visitglenarbor.com/event/meet-the-farmer-food-and-drink-event/
LOCATION:La Becasse\, 9001 S Dunns Farm Road\, Burdickville\, MI\, 49664\, United States
CATEGORIES:Local Business Event
ORGANIZER;CN="La Becasse":MAILTO:brooke@restaurantlabecasse.com
END:VEVENT
END:VCALENDAR