BEGIN:VCALENDAR
VERSION:2.0
PRODID:-//Glen Lake Chamber of Commerce - ECPv6.15.20//NONSGML v1.0//EN
CALSCALE:GREGORIAN
METHOD:PUBLISH
X-ORIGINAL-URL:https://www.visitglenarbor.com
X-WR-CALDESC:Events for Glen Lake Chamber of Commerce
REFRESH-INTERVAL;VALUE=DURATION:PT1H
X-Robots-Tag:noindex
X-PUBLISHED-TTL:PT1H
BEGIN:VTIMEZONE
TZID:America/Detroit
BEGIN:DAYLIGHT
TZOFFSETFROM:-0500
TZOFFSETTO:-0400
TZNAME:EDT
DTSTART:20140309T070000
END:DAYLIGHT
BEGIN:STANDARD
TZOFFSETFROM:-0400
TZOFFSETTO:-0500
TZNAME:EST
DTSTART:20141102T060000
END:STANDARD
BEGIN:DAYLIGHT
TZOFFSETFROM:-0500
TZOFFSETTO:-0400
TZNAME:EDT
DTSTART:20150308T070000
END:DAYLIGHT
BEGIN:STANDARD
TZOFFSETFROM:-0400
TZOFFSETTO:-0500
TZNAME:EST
DTSTART:20151101T060000
END:STANDARD
BEGIN:DAYLIGHT
TZOFFSETFROM:-0500
TZOFFSETTO:-0400
TZNAME:EDT
DTSTART:20160313T070000
END:DAYLIGHT
BEGIN:STANDARD
TZOFFSETFROM:-0400
TZOFFSETTO:-0500
TZNAME:EST
DTSTART:20161106T060000
END:STANDARD
END:VTIMEZONE
BEGIN:VEVENT
DTSTART;TZID=America/Detroit:20150810T130000
DTEND;TZID=America/Detroit:20150810T160000
DTSTAMP:20260424T235413
CREATED:20150810T163443Z
LAST-MODIFIED:20200309T054712Z
UID:10002572-1439211600-1439222400@www.visitglenarbor.com
SUMMARY:Post-Storm Volunteers Needed
DESCRIPTION:VOLUNTEERS are needed for Property Assessment Management. Volunteers will need a digital camera or phone with picture taking ability.\n \nMeeting at the Glen Lake School on Monday August 10th at 1pm to begin!\n\n \nSome training and forms will be provided.  The local turf will be cut into grids.  \n \nAll are welcome! Thank you for your support of the greater Glen Lake Community!\n\n 
URL:https://www.visitglenarbor.com/event/post-storm-volunteers-needed/
LOCATION:Glen\, 3375 W Burdickville Rd\, Maple City\, MI\, 49664\, United States
CATEGORIES:Community Events
END:VEVENT
END:VCALENDAR