BEGIN:VCALENDAR
VERSION:2.0
PRODID:-//Glen Lake Chamber of Commerce - ECPv6.15.19//NONSGML v1.0//EN
CALSCALE:GREGORIAN
METHOD:PUBLISH
X-ORIGINAL-URL:https://www.visitglenarbor.com
X-WR-CALDESC:Events for Glen Lake Chamber of Commerce
REFRESH-INTERVAL;VALUE=DURATION:PT1H
X-Robots-Tag:noindex
X-PUBLISHED-TTL:PT1H
BEGIN:VTIMEZONE
TZID:America/Detroit
BEGIN:DAYLIGHT
TZOFFSETFROM:-0500
TZOFFSETTO:-0400
TZNAME:EDT
DTSTART:20220313T070000
END:DAYLIGHT
BEGIN:STANDARD
TZOFFSETFROM:-0400
TZOFFSETTO:-0500
TZNAME:EST
DTSTART:20221106T060000
END:STANDARD
BEGIN:DAYLIGHT
TZOFFSETFROM:-0500
TZOFFSETTO:-0400
TZNAME:EDT
DTSTART:20230312T070000
END:DAYLIGHT
BEGIN:STANDARD
TZOFFSETFROM:-0400
TZOFFSETTO:-0500
TZNAME:EST
DTSTART:20231105T060000
END:STANDARD
BEGIN:DAYLIGHT
TZOFFSETFROM:-0500
TZOFFSETTO:-0400
TZNAME:EDT
DTSTART:20240310T070000
END:DAYLIGHT
BEGIN:STANDARD
TZOFFSETFROM:-0400
TZOFFSETTO:-0500
TZNAME:EST
DTSTART:20241103T060000
END:STANDARD
BEGIN:DAYLIGHT
TZOFFSETFROM:-0500
TZOFFSETTO:-0400
TZNAME:EDT
DTSTART:20250309T070000
END:DAYLIGHT
BEGIN:STANDARD
TZOFFSETFROM:-0400
TZOFFSETTO:-0500
TZNAME:EST
DTSTART:20251102T060000
END:STANDARD
END:VTIMEZONE
BEGIN:VEVENT
DTSTART;TZID=America/Detroit:20240831T090000
DTEND;TZID=America/Detroit:20240831T150000
DTSTAMP:20260420T012339
CREATED:20240825T162001Z
LAST-MODIFIED:20240825T162656Z
UID:10006236-1725094800-1725116400@www.visitglenarbor.com
SUMMARY:Pre-renovation Sale on the Porch
DESCRIPTION:Pre-renovation Sale on the Porch – Friday the 30th and Saturday the 31st from 9am to 3pm at The Glen Lake Manor.\nTake a moment to say hello to Dr. Susan Rife\, the new owner of the Manor. Find out the latest on her renovation plans for the historic property\, and stop to take in the beautiful view of Glen Lake from the Manor porch! \nFriday August 30th and  Saturday August 31st from 9am to 3pm\, at Glen Lake Manor\, on the southside of Little Glen Lake on M-22 (7345 Glenmere Road\, Empire) \nTreasures out of of the 118 year old Manor we’ve got books\, Jewelry\, Lamps\, Furniture\, and a broad variety of other items for sale! 
URL:https://www.visitglenarbor.com/event/pre-renovation-sale-on-the-porch/2024-08-31/
LOCATION:Glen Lake Manor\, 7345 Glenmere Rd\, Empire\, MI\, United States
CATEGORIES:Local Business Event
ATTACH;FMTTYPE=image/jpeg:https://www.visitglenarbor.com/wp-content/uploads/2022/06/TheGLMANOR.jpg
END:VEVENT
BEGIN:VEVENT
DTSTART;TZID=America/Detroit:20240830T090000
DTEND;TZID=America/Detroit:20240830T150000
DTSTAMP:20260420T012339
CREATED:20240825T162001Z
LAST-MODIFIED:20240825T162656Z
UID:10006235-1725008400-1725030000@www.visitglenarbor.com
SUMMARY:Pre-renovation Sale on the Porch
DESCRIPTION:Pre-renovation Sale on the Porch – Friday the 30th and Saturday the 31st from 9am to 3pm at The Glen Lake Manor.\nTake a moment to say hello to Dr. Susan Rife\, the new owner of the Manor. Find out the latest on her renovation plans for the historic property\, and stop to take in the beautiful view of Glen Lake from the Manor porch! \nFriday August 30th and  Saturday August 31st from 9am to 3pm\, at Glen Lake Manor\, on the southside of Little Glen Lake on M-22 (7345 Glenmere Road\, Empire) \nTreasures out of of the 118 year old Manor we’ve got books\, Jewelry\, Lamps\, Furniture\, and a broad variety of other items for sale! 
URL:https://www.visitglenarbor.com/event/pre-renovation-sale-on-the-porch/2024-08-30/
LOCATION:Glen Lake Manor\, 7345 Glenmere Rd\, Empire\, MI\, United States
CATEGORIES:Local Business Event
ATTACH;FMTTYPE=image/jpeg:https://www.visitglenarbor.com/wp-content/uploads/2022/06/TheGLMANOR.jpg
END:VEVENT
BEGIN:VEVENT
DTSTART;TZID=America/Detroit:20240803T090000
DTEND;TZID=America/Detroit:20240803T150000
DTSTAMP:20260420T012339
CREATED:20240801T162531Z
LAST-MODIFIED:20240801T162531Z
UID:10006230-1722675600-1722697200@www.visitglenarbor.com
SUMMARY:Glen Lake Manor Sale on the Porch
DESCRIPTION:Saturday\, August 3rd\, 2024 from 9am-3pm \nWe’ve scoured the 118 year old Manor for vintage books\, plus\, added many newer books including children’s books to give you lots to choose from! There will also be artwork available\,and a broad variety of other treasures for purchase. \nTake some time to meet Dr. Susan Rife the new owner of the Manor and find out the latest on her renovation plans for the historic property. And\, if you’re hungry\, there will be breakfast goodies for sale. Come join us for this shopper’s delight\, and enjoy the beautiful view of the lake from the Manor porch!
URL:https://www.visitglenarbor.com/event/glen-lake-manor-sale-on-the-porch-saturday-august-3rd/
LOCATION:Glen Lake Manor\, 7345 Glenmere Rd\, Empire\, MI\, United States
CATEGORIES:Kids + Family Friendly,Local Business Event
ATTACH;FMTTYPE=image/png:https://www.visitglenarbor.com/wp-content/uploads/2024/08/Screen-Shot-2024-07-21-at-8.26.40-PM.png
ORGANIZER;CN="Glen Lake Manor":MAILTO:theglenlakemanor@gmail.com
END:VEVENT
BEGIN:VEVENT
DTSTART;TZID=America/Detroit:20240803T090000
DTEND;TZID=America/Detroit:20240803T150000
DTSTAMP:20260420T012339
CREATED:20240722T005335Z
LAST-MODIFIED:20240722T005335Z
UID:10006223-1722675600-1722697200@www.visitglenarbor.com
SUMMARY:Glen Lake Manor Sale on the Porch
DESCRIPTION:We’ve scoured the 118 year old Manor for vintage books\, plus\, added many newer books including children’s books to give you lots to choose from! There will also be artwork available\,and a broad variety of other treasures for purchase. Take some time to meet Dr. Susan Rife the new owner of the Manor and find out the latest on her renovation plans for the historic property.\n\nAnd\, if you’re hungry\, there will be breakfast goodies for sale. Come join us for this shopper’s delight\, and enjoy the beautiful view of the lake from the Manor porch!
URL:https://www.visitglenarbor.com/event/glen-lake-manor-sale-on-the-porch/
LOCATION:Glen Lake Manor\, 7345 Glenmere Rd\, Empire\, MI\, United States
CATEGORIES:Community Events,Kids + Family Friendly,Local Business Event,Shopping
ATTACH;FMTTYPE=image/png:https://www.visitglenarbor.com/wp-content/uploads/2024/07/Screen-Shot-2024-07-21-at-8.26.50-PM.png
ORGANIZER;CN="Glen Lake Manor":MAILTO:theglenlakemanor@gmail.com
END:VEVENT
BEGIN:VEVENT
DTSTART;TZID=America/Detroit:20230805T090000
DTEND;TZID=America/Detroit:20230805T150000
DTSTAMP:20260420T012339
CREATED:20230723T210950Z
LAST-MODIFIED:20230802T165025Z
UID:10005234-1691226000-1691247600@www.visitglenarbor.com
SUMMARY:Porch sale and breakfast/ coffee and rolls
DESCRIPTION:Mid season sale old and new merchandise. Books\, jewelry\, crafts vintage and new. On the glen lake manor porch and yard. Join us for refreshments too even if not shopping.
URL:https://www.visitglenarbor.com/event/porch-sale-and-breakfast-coffee-and-rolls/2023-08-05/
LOCATION:Glen Lake Manor\, 7345 Glenmere Rd\, Empire\, MI\, United States
CATEGORIES:Community Events
ATTACH;FMTTYPE=image/jpeg:https://www.visitglenarbor.com/wp-content/uploads/2023/06/The-Manor-glen-lake.jpg
ORGANIZER;CN="Glen Lake Manor":MAILTO:theglenlakemanor@gmail.com
END:VEVENT
BEGIN:VEVENT
DTSTART;TZID=America/Detroit:20230804T090000
DTEND;TZID=America/Detroit:20230804T150000
DTSTAMP:20260420T012339
CREATED:20230723T210950Z
LAST-MODIFIED:20230802T165025Z
UID:10005233-1691139600-1691161200@www.visitglenarbor.com
SUMMARY:Porch sale and breakfast/ coffee and rolls
DESCRIPTION:Mid season sale old and new merchandise. Books\, jewelry\, crafts vintage and new. On the glen lake manor porch and yard. Join us for refreshments too even if not shopping.
URL:https://www.visitglenarbor.com/event/porch-sale-and-breakfast-coffee-and-rolls/2023-08-04/
LOCATION:Glen Lake Manor\, 7345 Glenmere Rd\, Empire\, MI\, United States
CATEGORIES:Community Events
ATTACH;FMTTYPE=image/jpeg:https://www.visitglenarbor.com/wp-content/uploads/2023/06/The-Manor-glen-lake.jpg
ORGANIZER;CN="Glen Lake Manor":MAILTO:theglenlakemanor@gmail.com
END:VEVENT
BEGIN:VEVENT
DTSTART;VALUE=DATE:20230804
DTEND;VALUE=DATE:20230805
DTSTAMP:20260420T012339
CREATED:20230723T210403Z
LAST-MODIFIED:20230723T210823Z
UID:10005236-1691107200-1691193599@www.visitglenarbor.com
SUMMARY:Mid season sale on the porch and ice cream
DESCRIPTION:Old and new home goods\, arts crafts\, books \, jewelry\, odds and ends. Toys and Knick knacks along with make your own ice cream sundaes.
URL:https://www.visitglenarbor.com/event/mid-season-sale-on-the-porch-and-ice-cream/2023-08-04/
LOCATION:Glen Lake Manor\, 7345 Glenmere Rd\, Empire\, MI\, United States
CATEGORIES:Kids + Family Friendly
ORGANIZER;CN="Glen Lake Manor":MAILTO:theglenlakemanor@gmail.com
END:VEVENT
BEGIN:VEVENT
DTSTART;TZID=America/Detroit:20230729T090000
DTEND;TZID=America/Detroit:20230729T150000
DTSTAMP:20260420T012339
CREATED:20230723T210950Z
LAST-MODIFIED:20230802T165025Z
UID:10005232-1690621200-1690642800@www.visitglenarbor.com
SUMMARY:Porch sale and breakfast/ coffee and rolls
DESCRIPTION:Mid season sale old and new merchandise. Books\, jewelry\, crafts vintage and new. On the glen lake manor porch and yard. Join us for refreshments too even if not shopping.
URL:https://www.visitglenarbor.com/event/porch-sale-and-breakfast-coffee-and-rolls/2023-07-29/
LOCATION:Glen Lake Manor\, 7345 Glenmere Rd\, Empire\, MI\, United States
CATEGORIES:Community Events
ATTACH;FMTTYPE=image/jpeg:https://www.visitglenarbor.com/wp-content/uploads/2023/06/The-Manor-glen-lake.jpg
ORGANIZER;CN="Glen Lake Manor":MAILTO:theglenlakemanor@gmail.com
END:VEVENT
BEGIN:VEVENT
DTSTART;VALUE=DATE:20230729
DTEND;VALUE=DATE:20230730
DTSTAMP:20260420T012339
CREATED:20230723T210403Z
LAST-MODIFIED:20230723T210823Z
UID:10005235-1690588800-1690675199@www.visitglenarbor.com
SUMMARY:Mid season sale on the porch and ice cream
DESCRIPTION:Old and new home goods\, arts crafts\, books \, jewelry\, odds and ends. Toys and Knick knacks along with make your own ice cream sundaes.
URL:https://www.visitglenarbor.com/event/mid-season-sale-on-the-porch-and-ice-cream/2023-07-29/
LOCATION:Glen Lake Manor\, 7345 Glenmere Rd\, Empire\, MI\, United States
CATEGORIES:Kids + Family Friendly
ORGANIZER;CN="Glen Lake Manor":MAILTO:theglenlakemanor@gmail.com
END:VEVENT
BEGIN:VEVENT
DTSTART;TZID=America/Detroit:20230701T130000
DTEND;TZID=America/Detroit:20230701T160000
DTSTAMP:20260420T012339
CREATED:20230619T175816Z
LAST-MODIFIED:20230619T175816Z
UID:10004902-1688216400-1688227200@www.visitglenarbor.com
SUMMARY:Ice cream on the porch
DESCRIPTION:Book Sale + Make your own ice cream sundaes pm the porch at Glen Lake Manor July 1st from 1-4pm. Donation $5.
URL:https://www.visitglenarbor.com/event/ice-cream-on-the-porch/
LOCATION:Glen Lake Manor\, 7345 Glenmere Rd\, Empire\, MI\, United States
CATEGORIES:Food/Dining Event,Kids + Family Friendly,Local Business Event
ATTACH;FMTTYPE=image/jpeg:https://www.visitglenarbor.com/wp-content/uploads/2023/06/The-Manor-glen-lake.jpg
ORGANIZER;CN="Glen Lake Manor":MAILTO:theglenlakemanor@gmail.com
END:VEVENT
BEGIN:VEVENT
DTSTART;TZID=America/Detroit:20230618T090000
DTEND;TZID=America/Detroit:20230618T090000
DTSTAMP:20260420T012339
CREATED:20230614T185148Z
LAST-MODIFIED:20230616T122031Z
UID:10004893-1687078800-1687078800@www.visitglenarbor.com
SUMMARY:Used Book & Porch Sale
DESCRIPTION:Used book and porch sale at Glen Lake Manor on Father’s day weekend: \nSaturday\, June 17th from 9am-2pm AND \nSun the 18th from 9am-12pm. \nBuy dad a book or a treasure! Refreshments will be available for purchase.
URL:https://www.visitglenarbor.com/event/used-book-porch-sale/2023-06-18/
LOCATION:Glen Lake Manor\, 7345 Glenmere Rd\, Empire\, MI\, United States
CATEGORIES:Local Business Event,Shopping
ATTACH;FMTTYPE=image/jpeg:https://www.visitglenarbor.com/wp-content/uploads/2023/06/The-Manor-glen-lake.jpg
ORGANIZER;CN="Glen Lake Manor":MAILTO:theglenlakemanor@gmail.com
END:VEVENT
BEGIN:VEVENT
DTSTART;TZID=America/Detroit:20230617T090000
DTEND;TZID=America/Detroit:20230617T090000
DTSTAMP:20260420T012339
CREATED:20230614T185148Z
LAST-MODIFIED:20230616T122031Z
UID:10004892-1686992400-1686992400@www.visitglenarbor.com
SUMMARY:Used Book & Porch Sale
DESCRIPTION:Used book and porch sale at Glen Lake Manor on Father’s day weekend: \nSaturday\, June 17th from 9am-2pm AND \nSun the 18th from 9am-12pm. \nBuy dad a book or a treasure! Refreshments will be available for purchase.
URL:https://www.visitglenarbor.com/event/used-book-porch-sale/2023-06-17/
LOCATION:Glen Lake Manor\, 7345 Glenmere Rd\, Empire\, MI\, United States
CATEGORIES:Local Business Event,Shopping
ATTACH;FMTTYPE=image/jpeg:https://www.visitglenarbor.com/wp-content/uploads/2023/06/The-Manor-glen-lake.jpg
ORGANIZER;CN="Glen Lake Manor":MAILTO:theglenlakemanor@gmail.com
END:VEVENT
END:VCALENDAR