BEGIN:VCALENDAR
VERSION:2.0
PRODID:-//Glen Lake Chamber of Commerce - ECPv6.15.19//NONSGML v1.0//EN
CALSCALE:GREGORIAN
METHOD:PUBLISH
X-WR-CALNAME:Glen Lake Chamber of Commerce
X-ORIGINAL-URL:https://www.visitglenarbor.com
X-WR-CALDESC:Events for Glen Lake Chamber of Commerce
REFRESH-INTERVAL;VALUE=DURATION:PT1H
X-Robots-Tag:noindex
X-PUBLISHED-TTL:PT1H
BEGIN:VTIMEZONE
TZID:America/Detroit
BEGIN:DAYLIGHT
TZOFFSETFROM:-0500
TZOFFSETTO:-0400
TZNAME:EDT
DTSTART:20130310T070000
END:DAYLIGHT
BEGIN:STANDARD
TZOFFSETFROM:-0400
TZOFFSETTO:-0500
TZNAME:EST
DTSTART:20131103T060000
END:STANDARD
BEGIN:DAYLIGHT
TZOFFSETFROM:-0500
TZOFFSETTO:-0400
TZNAME:EDT
DTSTART:20140309T070000
END:DAYLIGHT
BEGIN:STANDARD
TZOFFSETFROM:-0400
TZOFFSETTO:-0500
TZNAME:EST
DTSTART:20141102T060000
END:STANDARD
BEGIN:DAYLIGHT
TZOFFSETFROM:-0500
TZOFFSETTO:-0400
TZNAME:EDT
DTSTART:20150308T070000
END:DAYLIGHT
BEGIN:STANDARD
TZOFFSETFROM:-0400
TZOFFSETTO:-0500
TZNAME:EST
DTSTART:20151101T060000
END:STANDARD
BEGIN:DAYLIGHT
TZOFFSETFROM:-0500
TZOFFSETTO:-0400
TZNAME:EDT
DTSTART:20160313T070000
END:DAYLIGHT
BEGIN:STANDARD
TZOFFSETFROM:-0400
TZOFFSETTO:-0500
TZNAME:EST
DTSTART:20161106T060000
END:STANDARD
BEGIN:DAYLIGHT
TZOFFSETFROM:-0500
TZOFFSETTO:-0400
TZNAME:EDT
DTSTART:20170312T070000
END:DAYLIGHT
BEGIN:STANDARD
TZOFFSETFROM:-0400
TZOFFSETTO:-0500
TZNAME:EST
DTSTART:20171105T060000
END:STANDARD
BEGIN:DAYLIGHT
TZOFFSETFROM:-0500
TZOFFSETTO:-0400
TZNAME:EDT
DTSTART:20180311T070000
END:DAYLIGHT
BEGIN:STANDARD
TZOFFSETFROM:-0400
TZOFFSETTO:-0500
TZNAME:EST
DTSTART:20181104T060000
END:STANDARD
BEGIN:DAYLIGHT
TZOFFSETFROM:-0500
TZOFFSETTO:-0400
TZNAME:EDT
DTSTART:20190310T070000
END:DAYLIGHT
BEGIN:STANDARD
TZOFFSETFROM:-0400
TZOFFSETTO:-0500
TZNAME:EST
DTSTART:20191103T060000
END:STANDARD
BEGIN:DAYLIGHT
TZOFFSETFROM:-0500
TZOFFSETTO:-0400
TZNAME:EDT
DTSTART:20200308T070000
END:DAYLIGHT
BEGIN:STANDARD
TZOFFSETFROM:-0400
TZOFFSETTO:-0500
TZNAME:EST
DTSTART:20201101T060000
END:STANDARD
BEGIN:DAYLIGHT
TZOFFSETFROM:-0500
TZOFFSETTO:-0400
TZNAME:EDT
DTSTART:20210314T070000
END:DAYLIGHT
BEGIN:STANDARD
TZOFFSETFROM:-0400
TZOFFSETTO:-0500
TZNAME:EST
DTSTART:20211107T060000
END:STANDARD
BEGIN:DAYLIGHT
TZOFFSETFROM:-0500
TZOFFSETTO:-0400
TZNAME:EDT
DTSTART:20220313T070000
END:DAYLIGHT
BEGIN:STANDARD
TZOFFSETFROM:-0400
TZOFFSETTO:-0500
TZNAME:EST
DTSTART:20221106T060000
END:STANDARD
BEGIN:DAYLIGHT
TZOFFSETFROM:-0500
TZOFFSETTO:-0400
TZNAME:EDT
DTSTART:20230312T070000
END:DAYLIGHT
BEGIN:STANDARD
TZOFFSETFROM:-0400
TZOFFSETTO:-0500
TZNAME:EST
DTSTART:20231105T060000
END:STANDARD
BEGIN:DAYLIGHT
TZOFFSETFROM:-0500
TZOFFSETTO:-0400
TZNAME:EDT
DTSTART:20240310T070000
END:DAYLIGHT
BEGIN:STANDARD
TZOFFSETFROM:-0400
TZOFFSETTO:-0500
TZNAME:EST
DTSTART:20241103T060000
END:STANDARD
END:VTIMEZONE
BEGIN:VEVENT
DTSTART;VALUE=DATE:20230320
DTEND;VALUE=DATE:20230321
DTSTAMP:20260423T130807
CREATED:20230314T173434Z
LAST-MODIFIED:20230314T173631Z
UID:10004800-1679270400-1679356799@www.visitglenarbor.com
SUMMARY:Vendor Application Deadline for Glen Lake Woman's Club Art Fair
DESCRIPTION:Monday\, March 20th is the final day to complete the vendor application for the Glen Lake Woman’s Club Art Fair. Vendors can register at https://www.zapplication.org/event-info.php?ID=10666. For more information\, contact glwcartfair@gmail.com or (231) 412-0214. \nThe Art Fair will be held on July 19th\, 2023. \nView the event \n 
URL:https://www.visitglenarbor.com/event/vendor-application-deadline-for-glen-lake-womans-club-art-fair/
LOCATION:Glen Arbor Township Hall
CATEGORIES:Art/Gallery/Exhibit,Community Events
ATTACH;FMTTYPE=image/jpeg:https://www.visitglenarbor.com/wp-content/uploads/2023/03/Vendors-and-customers-2-scaled.jpg
END:VEVENT
BEGIN:VEVENT
DTSTART;TZID=America/Detroit:20160615T190000
DTEND;TZID=America/Detroit:20160615T203000
DTSTAMP:20260423T130807
CREATED:20160624T203155Z
LAST-MODIFIED:20200309T054734Z
UID:10002500-1466017200-1466022600@www.visitglenarbor.com
SUMMARY:Publishers Book Talks
DESCRIPTION:The Cottage Book Shop and the Glen Lake Library will be hosting a presentation by Random House publisher reps. with expert recommendations of new books\, both fiction and non-fiction\, along with special savings and free giveaways.
URL:https://www.visitglenarbor.com/event/publishers-book-talks/
LOCATION:Glen Arbor Township Hall
CATEGORIES:Community Events,Kids + Family Friendly,Local Business Event
ATTACH;FMTTYPE=image/jpeg:https://www.visitglenarbor.com/wp-content/uploads/2020/03/The-Cottage-Book-Shop_Glen-Arbor_Hurlin-Art.jpg
ORGANIZER;CN="Glen Lake Community Library":MAILTO:info@glenlakelibrary.net
END:VEVENT
BEGIN:VEVENT
DTSTART;TZID=America/Detroit:20140806T190000
DTEND;TZID=America/Detroit:20140806T210000
DTSTAMP:20260423T130807
CREATED:20140415T212850Z
LAST-MODIFIED:20200309T053834Z
UID:10002339-1407351600-1407358800@www.visitglenarbor.com
SUMMARY:Glen Lake Community Library Annual Used Book Sale\, "Preview Party"
DESCRIPTION:The Annual Glen Lake Community Library Used Book Sale begins Wednesday\, the 6th of August with a  Preview Party.  Join us and be the first to check out the wonderful selection of books\, enjoy great food and beverages\, and a fun evening with friends.  Admission is $5.00.  The evening is at the Glen Arbor Township Hall in Glen Arbor from 7 to 9 p.m.  For more information call 231-326-5361 or visit www.glenlakelibrary.net
URL:https://www.visitglenarbor.com/event/glen-lake-community-library-annual-used-book-sale-preview-party/
LOCATION:Glen Arbor Township Hall
CATEGORIES:Community Events
END:VEVENT
END:VCALENDAR