BEGIN:VCALENDAR
VERSION:2.0
PRODID:-//Glen Lake Chamber of Commerce - ECPv6.15.20//NONSGML v1.0//EN
CALSCALE:GREGORIAN
METHOD:PUBLISH
X-WR-CALNAME:Glen Lake Chamber of Commerce
X-ORIGINAL-URL:https://www.visitglenarbor.com
X-WR-CALDESC:Events for Glen Lake Chamber of Commerce
REFRESH-INTERVAL;VALUE=DURATION:PT1H
X-Robots-Tag:noindex
X-PUBLISHED-TTL:PT1H
BEGIN:VTIMEZONE
TZID:America/Detroit
BEGIN:DAYLIGHT
TZOFFSETFROM:-0500
TZOFFSETTO:-0400
TZNAME:EDT
DTSTART:20220313T070000
END:DAYLIGHT
BEGIN:STANDARD
TZOFFSETFROM:-0400
TZOFFSETTO:-0500
TZNAME:EST
DTSTART:20221106T060000
END:STANDARD
BEGIN:DAYLIGHT
TZOFFSETFROM:-0500
TZOFFSETTO:-0400
TZNAME:EDT
DTSTART:20230312T070000
END:DAYLIGHT
BEGIN:STANDARD
TZOFFSETFROM:-0400
TZOFFSETTO:-0500
TZNAME:EST
DTSTART:20231105T060000
END:STANDARD
BEGIN:DAYLIGHT
TZOFFSETFROM:-0500
TZOFFSETTO:-0400
TZNAME:EDT
DTSTART:20240310T070000
END:DAYLIGHT
BEGIN:STANDARD
TZOFFSETFROM:-0400
TZOFFSETTO:-0500
TZNAME:EST
DTSTART:20241103T060000
END:STANDARD
BEGIN:DAYLIGHT
TZOFFSETFROM:-0500
TZOFFSETTO:-0400
TZNAME:EDT
DTSTART:20250309T070000
END:DAYLIGHT
BEGIN:STANDARD
TZOFFSETFROM:-0400
TZOFFSETTO:-0500
TZNAME:EST
DTSTART:20251102T060000
END:STANDARD
END:VTIMEZONE
BEGIN:VEVENT
DTSTART;TZID=America/Detroit:20240803T173000
DTEND;TZID=America/Detroit:20240803T190000
DTSTAMP:20260425T225308
CREATED:20240731T165356Z
LAST-MODIFIED:20240731T165356Z
UID:10006228-1722706200-1722711600@www.visitglenarbor.com
SUMMARY:2024 Plein Air Weekend: Paint Out Sale
DESCRIPTION:For the day-long Paint Out\, artists may paint anywhere in the area\, including the villages of Glen Arbor and Empire\, the beautiful water of Glen Lake\, and in the National Park. \nGeneral admission for the sale is 5:30 – 7:00 PM in the Glen Arbor Town Hall.
URL:https://www.visitglenarbor.com/event/2024-plein-air-weekend-paint-out-sale/
LOCATION:Glen Arbor Town Hall\, MI\, United States
ATTACH;FMTTYPE=image/jpeg:https://www.visitglenarbor.com/wp-content/uploads/2024/07/2022PondPleinAir2.jpg
ORGANIZER;CN="Glen Arbor Arts Center":MAILTO:director@glenarborart.org
END:VEVENT
BEGIN:VEVENT
DTSTART;TZID=America/Detroit:20240802T170000
DTEND;TZID=America/Detroit:20240802T170000
DTSTAMP:20260425T225308
CREATED:20240910T015514Z
LAST-MODIFIED:20240910T015514Z
UID:10006227-1722618000-1722618000@www.visitglenarbor.com
SUMMARY:2024 Plein Air Weekend: Quick Draw Sale
DESCRIPTION:The Plein Air Weekend opens August 2 with the Quick Draw. Artists have a 3-hour window of time to paint. \nThe 2024 theme for this popular\, timed event is “COUNTRY ROADS\, TAKE ME HOME.” Be inspired by one of our local country roads or pathways and see where it takes you. Does it take you through the woods or fields? A winding two-track? A place of refuge? Artists have a 3-hour window of time to paint in the Glen Arbor area\, focusing on the many trees in our area.
URL:https://www.visitglenarbor.com/event/2024-plein-air-weekend-quick-draw-sale/
LOCATION:Glen Arbor Town Hall\, MI\, United States
ATTACH;FMTTYPE=image/jpeg:https://www.visitglenarbor.com/wp-content/uploads/2024/07/2022PondPleinAir1.jpg
ORGANIZER;CN="Glen Arbor Arts Center":MAILTO:director@glenarborart.org
END:VEVENT
BEGIN:VEVENT
DTSTART;TZID=America/Detroit:20240707T080000
DTEND;TZID=America/Detroit:20240707T120000
DTSTAMP:20260425T225308
CREATED:20240624T173804Z
LAST-MODIFIED:20240624T173804Z
UID:10005470-1720339200-1720353600@www.visitglenarbor.com
SUMMARY:Pancake Breakfast - FireFighter Fundraiser
DESCRIPTION:Sunday morning\, July 7 th \, from 8:00am til noon\, the finest firefighters and paramedics will serve the most delicious pancake breakfast ever at the Glen Arbor Township Hall. Proceeds from the annual pancake breakfast will defray the costs of sending our Glen Lake firefighters to paramedic school and other training opportunities.
URL:https://www.visitglenarbor.com/event/pancake-breakfast-firefighter-fundraiser/
LOCATION:Glen Arbor Town Hall\, MI\, United States
CATEGORIES:Community Events,Food/Dining Event,Kids + Family Friendly
ATTACH;FMTTYPE=image/jpeg:https://www.visitglenarbor.com/wp-content/uploads/2024/02/Pancake.jpg
END:VEVENT
BEGIN:VEVENT
DTSTART;TZID=America/Detroit:20240521T130000
DTEND;TZID=America/Detroit:20240521T140000
DTSTAMP:20260425T225308
CREATED:20240508T113533Z
LAST-MODIFIED:20240508T113533Z
UID:10004236-1716296400-1716300000@www.visitglenarbor.com
SUMMARY:Designing with Nature for People and Planet
DESCRIPTION:The Glen Lake Garden Club will host a special program about native landscape design on Tuesday\, May 21\, 2024\,  at 1:00 pm the Glen Arbor Township Hall\, 6394 Western Avenue.  The program is free and open to the public.\nWes Landon\, ASLA\, and principal of Native Edge in Grand Rapids will present “Designing with Nature for People + Planet”. Native Edge is a landscape architectural design firm specializing in ecologically inspired designs for a wide range of projects from private homes to urban plazas. Widely recognized for his expertise\, Landon’s projects aim to create resilient natural environments which serve both people and nature.  His talk will illustrate how such planning can organize and bring a vision to life for homes\, businesses or community outdoor spaces.\nFollowing his one-hour talk\, Landon will be available to answer questions.\nThe garden club has served the Glen Lake area for over 45 years with numerous beautification projects that include summer plantings throughout downtown Glen Arbor\,  greening of the Carl Olson Bridge for the holidays\, maintaining the outdoor spaces at the Glen Lake Community Library\, MDOT highway clean up\, invasive plant awareness\, and maintaining a prairie garden at Old Settler’s Park in Maple City.
URL:https://www.visitglenarbor.com/event/designing-with-nature-for-people-and-planet/
LOCATION:Glen Arbor Town Hall\, MI\, United States
END:VEVENT
BEGIN:VEVENT
DTSTART;TZID=America/Detroit:20231124T181500
DTEND;TZID=America/Detroit:20231124T200000
DTSTAMP:20260425T225308
CREATED:20230929T164925Z
LAST-MODIFIED:20231016T130206Z
UID:10005281-1700849700-1700856000@www.visitglenarbor.com
SUMMARY:Tree Lighting\, Caroling & Holiday Market Preview Party
DESCRIPTION:Shop a curated variety of goods during the Glen Arbor Artisan Marketplace Thanksgiving weekend in Glen Arbor\, MI.\nFriday\, November 24th\nTree Lighting & Caroling @ 6:15pm outside the Town Hall with Carols led by members of Glen Lake Church. Be among the first to shop artisan goods during the Holiday Market Preview Party from 6:30-8pm. \nSaturday\, November 25th\nShop an amazing selection of gifts from 24 vendors at the Glen Arbor Artisan Marketplace\, located in the Town Hall from 10am-4pm. \nPlus\, families and children are invited to meet Santa & Mrs Claus @ the M22 Wine Patio from 11am-1pm for festive photo opportunities. Located at: 6298 W. Western Ave\, Glen Arbor\, MI.
URL:https://www.visitglenarbor.com/event/tree-lighting-caroling-holiday-market-preview-party/
LOCATION:Glen Arbor Town Hall\, MI\, United States
CATEGORIES:Art/Gallery/Exhibit,Community Events,Kids + Family Friendly,Shopping
ATTACH;FMTTYPE=image/jpeg:https://www.visitglenarbor.com/wp-content/uploads/2023/09/E1E5C7E9-EC37-4A3E-8E4B-966781A59708.jpeg
END:VEVENT
BEGIN:VEVENT
DTSTART;TZID=America/Detroit:20231109T190000
DTEND;TZID=America/Detroit:20231109T210000
DTSTAMP:20260425T225308
CREATED:20231108T041954Z
LAST-MODIFIED:20231108T144841Z
UID:10005293-1699556400-1699563600@www.visitglenarbor.com
SUMMARY:Northern Lights Presentation
DESCRIPTION:Due to popular demand\, the location for Thursday night’s Northern Lights presentation has been moved to Glen Arbor Town Hall\, located at  6394 W Western Ave\, Glen Arbor\, MI 49636.  \nNorthern Lights Presentation November  9\, 7 pm \nhttps://glenarborart.org/…/northern-lights-presentation/ \nRealize your dream and catch the Northern Lights! Join Melissa F. Kaelin\, the founder of the Michigan Aurora Chasers and the author of “Below the 45th Parallel: The Beginner’s Guide to Chasing the Aurora in the Great Lakes Region” as she gives you tips\, tools and techniques for spotting this rare natural phenomenon. During the day\, Melissa works with space weather researchers at the University of Michigan to uncover the mysteries of the Aurora\, and at night\, she chases the Northern Lights\, successfully catching vivid eyesight-visible displays. She has helped hundreds\, if not thousands\, of Aurora Chasers to view the Northern Lights for the first time.\nLocal photographers Ethan Honke and Michele Aucello will be on hand to provide tips on photographing the Northern Lights. Participants are invited to bring their cameras and the photographers will happily share camera settings. \nLearn more about Melissa and the Michigan Aurora Chasers group here: https://kaelinart.wordpress.com
URL:https://www.visitglenarbor.com/event/northern-lights-presentation/
LOCATION:Glen Arbor Town Hall\, MI\, United States
ATTACH;FMTTYPE=image/jpeg:https://www.visitglenarbor.com/wp-content/uploads/2023/11/51iBNUGby6L._SL1500_.jpg
ORGANIZER;CN="Glen Arbor Arts Center":MAILTO:director@glenarborart.org
END:VEVENT
END:VCALENDAR