BEGIN:VCALENDAR
VERSION:2.0
PRODID:-//Glen Lake Chamber of Commerce - ECPv6.15.19//NONSGML v1.0//EN
CALSCALE:GREGORIAN
METHOD:PUBLISH
X-ORIGINAL-URL:https://www.visitglenarbor.com
X-WR-CALDESC:Events for Glen Lake Chamber of Commerce
REFRESH-INTERVAL;VALUE=DURATION:PT1H
X-Robots-Tag:noindex
X-PUBLISHED-TTL:PT1H
BEGIN:VTIMEZONE
TZID:America/Detroit
BEGIN:DAYLIGHT
TZOFFSETFROM:-0500
TZOFFSETTO:-0400
TZNAME:EDT
DTSTART:20130310T070000
END:DAYLIGHT
BEGIN:STANDARD
TZOFFSETFROM:-0400
TZOFFSETTO:-0500
TZNAME:EST
DTSTART:20131103T060000
END:STANDARD
BEGIN:DAYLIGHT
TZOFFSETFROM:-0500
TZOFFSETTO:-0400
TZNAME:EDT
DTSTART:20140309T070000
END:DAYLIGHT
BEGIN:STANDARD
TZOFFSETFROM:-0400
TZOFFSETTO:-0500
TZNAME:EST
DTSTART:20141102T060000
END:STANDARD
BEGIN:DAYLIGHT
TZOFFSETFROM:-0500
TZOFFSETTO:-0400
TZNAME:EDT
DTSTART:20150308T070000
END:DAYLIGHT
BEGIN:STANDARD
TZOFFSETFROM:-0400
TZOFFSETTO:-0500
TZNAME:EST
DTSTART:20151101T060000
END:STANDARD
BEGIN:DAYLIGHT
TZOFFSETFROM:-0500
TZOFFSETTO:-0400
TZNAME:EDT
DTSTART:20160313T070000
END:DAYLIGHT
BEGIN:STANDARD
TZOFFSETFROM:-0400
TZOFFSETTO:-0500
TZNAME:EST
DTSTART:20161106T060000
END:STANDARD
BEGIN:DAYLIGHT
TZOFFSETFROM:-0500
TZOFFSETTO:-0400
TZNAME:EDT
DTSTART:20170312T070000
END:DAYLIGHT
BEGIN:STANDARD
TZOFFSETFROM:-0400
TZOFFSETTO:-0500
TZNAME:EST
DTSTART:20171105T060000
END:STANDARD
BEGIN:DAYLIGHT
TZOFFSETFROM:-0500
TZOFFSETTO:-0400
TZNAME:EDT
DTSTART:20180311T070000
END:DAYLIGHT
BEGIN:STANDARD
TZOFFSETFROM:-0400
TZOFFSETTO:-0500
TZNAME:EST
DTSTART:20181104T060000
END:STANDARD
BEGIN:DAYLIGHT
TZOFFSETFROM:-0500
TZOFFSETTO:-0400
TZNAME:EDT
DTSTART:20190310T070000
END:DAYLIGHT
BEGIN:STANDARD
TZOFFSETFROM:-0400
TZOFFSETTO:-0500
TZNAME:EST
DTSTART:20191103T060000
END:STANDARD
BEGIN:DAYLIGHT
TZOFFSETFROM:-0500
TZOFFSETTO:-0400
TZNAME:EDT
DTSTART:20200308T070000
END:DAYLIGHT
BEGIN:STANDARD
TZOFFSETFROM:-0400
TZOFFSETTO:-0500
TZNAME:EST
DTSTART:20201101T060000
END:STANDARD
BEGIN:DAYLIGHT
TZOFFSETFROM:-0500
TZOFFSETTO:-0400
TZNAME:EDT
DTSTART:20210314T070000
END:DAYLIGHT
BEGIN:STANDARD
TZOFFSETFROM:-0400
TZOFFSETTO:-0500
TZNAME:EST
DTSTART:20211107T060000
END:STANDARD
BEGIN:DAYLIGHT
TZOFFSETFROM:-0500
TZOFFSETTO:-0400
TZNAME:EDT
DTSTART:20220313T070000
END:DAYLIGHT
BEGIN:STANDARD
TZOFFSETFROM:-0400
TZOFFSETTO:-0500
TZNAME:EST
DTSTART:20221106T060000
END:STANDARD
BEGIN:DAYLIGHT
TZOFFSETFROM:-0500
TZOFFSETTO:-0400
TZNAME:EDT
DTSTART:20230312T070000
END:DAYLIGHT
BEGIN:STANDARD
TZOFFSETFROM:-0400
TZOFFSETTO:-0500
TZNAME:EST
DTSTART:20231105T060000
END:STANDARD
BEGIN:DAYLIGHT
TZOFFSETFROM:-0500
TZOFFSETTO:-0400
TZNAME:EDT
DTSTART:20240310T070000
END:DAYLIGHT
BEGIN:STANDARD
TZOFFSETFROM:-0400
TZOFFSETTO:-0500
TZNAME:EST
DTSTART:20241103T060000
END:STANDARD
END:VTIMEZONE
BEGIN:VEVENT
DTSTART;TZID=America/Detroit:20230703T190000
DTEND;TZID=America/Detroit:20230703T200000
DTSTAMP:20260421T002013
CREATED:20230608T171218Z
LAST-MODIFIED:20230608T171218Z
UID:10004883-1688410800-1688414400@www.visitglenarbor.com
SUMMARY:July 3rd 7pm NMC Concert in the Park
DESCRIPTION:Please join us 7 PM Monday evening on July 3rd at the Glen Arbor Twp Park to begin our patriotic celebration. We are privileged to host the Northwestern Michigan College Concert Band at the direction of Pat Brumbaugh. Arrive early and bring a chair.
URL:https://www.visitglenarbor.com/event/july-3rd-7pm-nmc-concert-in-the-park/
LOCATION:Glen Arbor Tennis Courts & Park\, Corner of S Ray Street/M22 & State St.\, Glen Arbor \, MI\, 49636\, United States
CATEGORIES:Community Events,Kids + Family Friendly,Music
ATTACH;FMTTYPE=image/jpeg:https://www.visitglenarbor.com/wp-content/uploads/2023/06/Unknown-1.jpeg
ORGANIZER;CN="Glen Arbor Township":MAILTO:glenarbor@glenarbortownship.com
END:VEVENT
BEGIN:VEVENT
DTSTART;VALUE=DATE:20170630
DTEND;VALUE=DATE:20170703
DTSTAMP:20260421T002013
CREATED:20170504T221340Z
LAST-MODIFIED:20200309T054814Z
UID:10002628-1498780800-1499039999@www.visitglenarbor.com
SUMMARY:Glen Arbor Tennis Tournament
DESCRIPTION:2017 GLEN ARBOR TENNIS TOURNAMENT \nJune 30th – July 2nd  \nALL DOUBLES\, played in our beautiful Glen Arbor park and at Leelanau Schools! \nEvents: \nFriday\, June 30th – Women’s Doubles* and luncheon \nSaturday\, July 1st – Men’s Doubles* and Mixed-Doubles* Draws \nSunday\, July 2nd – Semi’s and Finals of Men’s Doubles and Mixed-Doubles \n*each team is guaranteed at least 2 matches \nCost: \n$50.00 (per player) – Women’s Doubles (Open and Senior) and Luncheon\, by Cherry Republic\, prizes for winners and door prizes donated by local businesses and artists\, T-shirt included. \n$25.00 (per player) – Men’s Doubles (Open and Senior) and Mixed Doubles\, includes T-shirt\, sack lunch provided by Cherry Republic and prizes donated by local businesses. \nHow to Enter: \nGet your partners lined up\, email or call me with the names of your team ASAP – last day to enter is Tuesday\, June 27th. The tourney will have 2 separate draws in both the Women’s and Men’s Doubles.  The Open Draw and the Senior Draw.  If you have any questions where you might fit\, please give me a call or email. \nKim Guilbeau – kimguilbeau@gmail.com or 517.420.3112 cell \nALL money raised from this tournament goes back into our Glen Arbor Park! A big thank you to both Cherry Republic and Anderson’s Market for once again sponsoring our tournament\, this allows us to raise even more money towards improving our beautiful park!
URL:https://www.visitglenarbor.com/event/glen-arbor-tennis-tournament/
LOCATION:Glen Arbor Tennis Courts & Park\, Corner of S Ray Street/M22 & State St.\, Glen Arbor \, MI\, 49636\, United States
CATEGORIES:Community Events
ORGANIZER;CN="Kim Guilbeau":MAILTO:kimguilbeau@gmail.com
END:VEVENT
BEGIN:VEVENT
DTSTART;VALUE=DATE:20150626
DTEND;VALUE=DATE:20150629
DTSTAMP:20260421T002013
CREATED:20150501T195514Z
LAST-MODIFIED:20200309T054650Z
UID:10002464-1435276800-1435535999@www.visitglenarbor.com
SUMMARY:TENNIS TOURNAMENT for 2015 in Glen Arbor
DESCRIPTION:ALL DOUBLES\, played in our beautiful downtown Glen Arbor park!\nEvents…\nFriday\, June 26th – Women’s Doubles* and luncheon (change this year\, see\nbelow for info) \nSaturday\, June 27th – Men’s Doubles* (change this year\, see below for info)\nand Mixed-Doubles* Draws \nSunday\, June 28th – Semi’s and Finals of Men’s Doubles and Mixed-Doubles\nDraws \n*each team is guaranteed at least 2 matches \nCost…\n$50.00 (per player) – Women’s Doubles and Luncheon\, by Cherry Republic\, winners prizes and door prizes donated by local businesses and artists\, T-shirt included. \n$25.00 (per player) – Men’s Doubles and Mixed Doubles\, includes T-shirt\, sack lunch provided by Cherry Republic and prizes donated by local businesses. \nHow to Enter…\nGet your partners lined up\, email or call me with the names of your team ASAP – last day to enter is Monday\, June 22nd.\nIf you need help finding a doubles partner for any of the events please contact me and we’ll see if we can help.  We will collect money from you at the event\, please bring cash or check (make checks out to the Glen Arbor Township). You will be contacted a few days prior to the event to let you know the approximate times of play. Please let me know if you have any questions and PLEASE pass this along to anyone you think might be interested in this FUN tennis tourney in beautiful downtown Glen Arbor!!! \n Exciting changes this year include 4 newly resurfaced courts for our use at the Leelanau School\, just a couple miles down the road. This allows us to expand our tournament to include 2 separate draws (A and B) in both the Women’s and Men’s Doubles.  The A draw will consist of tournament tough teams\, those who play team tennis\, league play\, 3.5 rating or above and wish to play in a competitive environment. The B draw is for the recreational player\, those who enjoy playing competitively but want to have a more light-hearted fun environment.  If you have any questions where you might fit\, please give me a call or email. \n\nALL money raised from this tournament goes back into maintaining and beautifying our Glen Arbor Park!\nOnce again\, this year the tournament is being sponsored by: AND A big thank you to both Cherry Republic and Anderson’s Market for once again sponsoring our tournament\, this allows us to raise even more money towards improving our beautiful park!
URL:https://www.visitglenarbor.com/event/tennis-tournament-for-2015-in-glen-arbor/
LOCATION:Glen Arbor Tennis Courts & Park\, Corner of S Ray Street/M22 & State St.\, Glen Arbor \, MI\, 49636\, United States
CATEGORIES:Community Events,Recreation
ATTACH;FMTTYPE=image/jpeg:https://www.visitglenarbor.com/wp-content/uploads/2020/03/Glen-Arbor-community-Park-Tennis-Courts.jpg
END:VEVENT
BEGIN:VEVENT
DTSTART;VALUE=DATE:20140627
DTEND;VALUE=DATE:20140630
DTSTAMP:20260421T002013
CREATED:20140609T221936Z
LAST-MODIFIED:20140609T221936Z
UID:10002372-1403827200-1404086399@www.visitglenarbor.com
SUMMARY:Glen Arbor Tennis Tournament | Fundraiser
DESCRIPTION:June 27th\, 28th and 29th… ALL DOUBLES\, played in our beautiful downtown Glen Arbor park!\nEvents:\nFriday\, June 27th – Women’s Doubles and luncheon (more info to follow)\, and Seniors (50+) round-robin – You DO NOT need a partner for this event (early afternoon) \nSaturday\, June 28th – Men’s Doubles and Mixed-Doubles Draws \nSunday\, June 29th – Semi‘s and Finals of Men’s Doubles and Mixed-Doubles Draws \n Cost: $50.00 (per player) – Women’s Doubles and Luncheon\, by Cherry Republic\, winners prizes and door prizes donated by local businesses and artists\, T-shirt included. \n $25.00 (per player) – Men’s Doubles and Mixed Doubles\, includes T-shirt\, sack lunch provided by Cherry Republic and prizes donated by local businesses. \n$20.00 (per player) – Seniors Round Robin\, includes T-shirt and prizes provided by local businesses. \nHow to Enter:  Get your partners lined up (except for the Senior Round Robin)\, email or call me with the names of your team ASAP – last day to enter is Monday\, June 23th. If you need help finding a doubles partner for any of the events please contact me and we’ll see if we can help. \nWe will collect money from you at the event\, please bring cash or check (make checks out to the Glen Arbor Township). You will be contacted a few days prior to the event to let you know the approximate times of play. Please let me know if you have any questions and PLEASE pass this along to anyone you think might be interested in this FUN tennis tourney in beautiful downtown Glen Arbor!!! \nALL money raised from this tournament goes back into our Glen Arbor Park! \nOnce again\, this year the tournament is being sponsored by: A big thank you to both Cherry Republic and Anderson’s Market for once again sponsoring our tournament\, this allows us to raise even more money towards improving our beautiful park! \nCONTACT: EMAIL: kimguilbeau@gmail.com   |  PHONE: 517.420.3112 \n 
URL:https://www.visitglenarbor.com/event/glen-arbor-tennis-tournament-fundraiser/
LOCATION:Glen Arbor Tennis Courts & Park\, Corner of S Ray Street/M22 & State St.\, Glen Arbor \, MI\, 49636\, United States
CATEGORIES:Community Events,Recreation
ATTACH;FMTTYPE=:
ORGANIZER;CN="Kim Guilbeau":MAILTO:kimguilbeau@gmail.com
END:VEVENT
END:VCALENDAR