BEGIN:VCALENDAR
VERSION:2.0
PRODID:-//Glen Lake Chamber of Commerce - ECPv6.15.19//NONSGML v1.0//EN
CALSCALE:GREGORIAN
METHOD:PUBLISH
X-WR-CALNAME:Glen Lake Chamber of Commerce
X-ORIGINAL-URL:https://www.visitglenarbor.com
X-WR-CALDESC:Events for Glen Lake Chamber of Commerce
REFRESH-INTERVAL;VALUE=DURATION:PT1H
X-Robots-Tag:noindex
X-PUBLISHED-TTL:PT1H
BEGIN:VTIMEZONE
TZID:America/Detroit
BEGIN:DAYLIGHT
TZOFFSETFROM:-0500
TZOFFSETTO:-0400
TZNAME:EDT
DTSTART:20130310T070000
END:DAYLIGHT
BEGIN:STANDARD
TZOFFSETFROM:-0400
TZOFFSETTO:-0500
TZNAME:EST
DTSTART:20131103T060000
END:STANDARD
BEGIN:DAYLIGHT
TZOFFSETFROM:-0500
TZOFFSETTO:-0400
TZNAME:EDT
DTSTART:20140309T070000
END:DAYLIGHT
BEGIN:STANDARD
TZOFFSETFROM:-0400
TZOFFSETTO:-0500
TZNAME:EST
DTSTART:20141102T060000
END:STANDARD
BEGIN:DAYLIGHT
TZOFFSETFROM:-0500
TZOFFSETTO:-0400
TZNAME:EDT
DTSTART:20150308T070000
END:DAYLIGHT
BEGIN:STANDARD
TZOFFSETFROM:-0400
TZOFFSETTO:-0500
TZNAME:EST
DTSTART:20151101T060000
END:STANDARD
BEGIN:DAYLIGHT
TZOFFSETFROM:-0500
TZOFFSETTO:-0400
TZNAME:EDT
DTSTART:20160313T070000
END:DAYLIGHT
BEGIN:STANDARD
TZOFFSETFROM:-0400
TZOFFSETTO:-0500
TZNAME:EST
DTSTART:20161106T060000
END:STANDARD
END:VTIMEZONE
BEGIN:VEVENT
DTSTART;TZID=America/Detroit:20151220T040000
DTEND;TZID=America/Detroit:20151220T180000
DTSTAMP:20260423T233757
CREATED:20151214T224227Z
LAST-MODIFIED:20200309T054718Z
UID:10002446-1450584000-1450634400@www.visitglenarbor.com
SUMMARY:Dec 20th Emergency Fund Concert/Auction
DESCRIPTION:Empire Area Community Emergency Fund Concert/Auction will be held Next Sunday December 20th from 4:00pm to 6:00pm at the Town Hall in Empire.\n\nThis event will feature multiple performers by both singer song writer Amanda Egerer as well as “Da Sista Hood ‘n Joe”.\n\nA Live Auction will also be held between performance sets presented by Auctioneer Dave Taghon\n\nThere are some wonderful items that have been donated for auction by area artists\, businesses and individuals perfect for last minute Christmas gifts.\n\nAmong the items being auctioned off is a rare limited addition “Kramer Ferrington” acoustic/electric Bass Guitar that was donated at the end of the “Abby Road Live” Concert by Zach Light of the “Uncle Z Band”.\n\nThis event is family friendly so feel free to bring the kids as well as your favorite beverage. Come on down and have some funackah\n\nHappy Chanukah\, Merry Christmas\, and Joyous Festivus to the rest of us!
URL:https://www.visitglenarbor.com/event/dec-20th-empire-emergency-fund-concert/
LOCATION:Empire Township Hall\, 10088 W. Front Street\, Empire\, MI \, Empire\, MI\, 49630\, United States
CATEGORIES:Community Events
END:VEVENT
BEGIN:VEVENT
DTSTART;TZID=America/Detroit:20151128T100000
DTEND;TZID=America/Detroit:20151128T170000
DTSTAMP:20260423T233757
CREATED:20151104T014727Z
LAST-MODIFIED:20200309T054717Z
UID:10002440-1448704800-1448730000@www.visitglenarbor.com
SUMMARY:Empire Artisan Market
DESCRIPTION:Saturday\, November 28th | 11am-5pm\nin the Empire Town hall\nShop the Empire Artisan’s Market. Following the Market\, will be a Tree Lighting Ceremony in the Village of Empire! \nGlen Arbor and Empire both host an annual holiday market featuring a variety of artisans showcasing different types of gifts/work\, with an emphasis on local and handmade products/artworks. There’s different artisans at both markets and plenty of time in the day for you\, your friends and family to drive and shop both markets!\n\n\n#shopsmall Saturday #shop local #HolidayMarket #GlenArbor #thingstodo #familyfriendly #santaclaus #kids
URL:https://www.visitglenarbor.com/event/empire-artisan-market/
LOCATION:Empire Township Hall\, 10088 W. Front Street\, Empire\, MI \, Empire\, MI\, 49630\, United States
CATEGORIES:Community Events,Recreation
ORGANIZER;CN="Empire Area Chamber of Commerce":MAILTO: EmpireAreaCommunityCenter@gmail.com 
END:VEVENT
BEGIN:VEVENT
DTSTART;TZID=America/Detroit:20151117T070000
DTEND;TZID=America/Detroit:20151117T200000
DTSTAMP:20260423T233757
CREATED:20151112T231043Z
LAST-MODIFIED:20200309T054717Z
UID:10002442-1447743600-1447790400@www.visitglenarbor.com
SUMMARY:Documentary Film: Our Fires Still Burn
DESCRIPTION:Film maker Audrey Geyer will present her new documentary  Our Fires Still Burn: the Native American experience\, which provides a window into the lives of contemporary Native Americans living in the Midwest. This program is made possible with support from the Friends of the Glen Lake Library.
URL:https://www.visitglenarbor.com/event/documentary-film-our-fires-still-burn/
LOCATION:Empire Township Hall\, 10088 W. Front Street\, Empire\, MI \, Empire\, MI\, 49630\, United States
CATEGORIES:Community Events
ORGANIZER;CN="Glen Lake Community Library":MAILTO:info@glenlakelibrary.net
END:VEVENT
BEGIN:VEVENT
DTSTART;TZID=America/Detroit:20150804T190000
DTEND;TZID=America/Detroit:20150804T200000
DTSTAMP:20260423T233757
CREATED:20150801T184141Z
LAST-MODIFIED:20200309T054711Z
UID:10002564-1438714800-1438718400@www.visitglenarbor.com
SUMMARY:Cyber Security Strategies
DESCRIPTION:Steve Stanton\, owner of Leelanau Computer Repair in Suttons Bay\, will discuss the many threats everyone faces daily in their use of computers\, smartphones and tablets. Steve will suggest strategies and tools for making these online communications safe and secure.
URL:https://www.visitglenarbor.com/event/cyber-security-strategies/
LOCATION:Empire Township Hall\, 10088 W. Front Street\, Empire\, MI \, Empire\, MI\, 49630\, United States
CATEGORIES:Community Events
ORGANIZER;CN="Glen Lake Community Library":MAILTO:info@glenlakelibrary.net
END:VEVENT
BEGIN:VEVENT
DTSTART;TZID=America/Detroit:20150331T190000
DTEND;TZID=America/Detroit:20150331T200000
DTSTAMP:20260423T233757
CREATED:20150320T204129Z
LAST-MODIFIED:20200309T054647Z
UID:10002455-1427828400-1427832000@www.visitglenarbor.com
SUMMARY:Lake Michigan Aircraft Carriers
DESCRIPTION:The Glen Lake Library will host a presentation byÂ  Amanda Wetzel\, of the Grand Traverse Lighthouse Museum\, about the two aircraft carriers that operated on Lake Michigan during WW II\, providing training for thousands of pilots and other personnel.
URL:https://www.visitglenarbor.com/event/lake-michigan-aircraft-carriers/
LOCATION:Empire Township Hall\, 10088 W. Front Street\, Empire\, MI \, Empire\, MI\, 49630\, United States
CATEGORIES:Community Events
ATTACH;FMTTYPE=image/jpeg:https://www.visitglenarbor.com/wp-content/uploads/2020/03/Aircraft-Carrier.jpg
ORGANIZER;CN="Glen Lake Community Library":MAILTO:info@glenlakelibrary.net
END:VEVENT
BEGIN:VEVENT
DTSTART;TZID=America/Detroit:20141221T160000
DTEND;TZID=America/Detroit:20141221T180000
DTSTAMP:20260423T233757
CREATED:20141212T021227Z
LAST-MODIFIED:20141212T021227Z
UID:10002327-1419177600-1419184800@www.visitglenarbor.com
SUMMARY:Fundraising Concert | E Minor and Libby Liberty
DESCRIPTION:The next Empire Area Community Emergency Fund Concert will be held on Sunday December 21st from 4:00pm to 6:00pm in Empire at the Town Hall. We are in for another treat with a special musical performance by E Minor and Libby Liberty.\n\nMr. Empire\, Dave Taghon will also be conducting a live Auction selling many unique and unusual  items “whataya give”…
URL:https://www.visitglenarbor.com/event/fundraising-concert-e-minor-and-libby-liberty/
LOCATION:Empire Township Hall\, 10088 W. Front Street\, Empire\, MI \, Empire\, MI\, 49630\, United States
CATEGORIES:Community Events
ATTACH;FMTTYPE=:
ORGANIZER;CN="Empire Area Chamber of Commerce":MAILTO: EmpireAreaCommunityCenter@gmail.com 
END:VEVENT
BEGIN:VEVENT
DTSTART;TZID=America/Detroit:20141220T170000
DTEND;TZID=America/Detroit:20141220T210000
DTSTAMP:20260423T233757
CREATED:20141212T020229Z
LAST-MODIFIED:20200309T054642Z
UID:10002326-1419094800-1419109200@www.visitglenarbor.com
SUMMARY:Annual Holiday Pot Luck Dinner
DESCRIPTION:The Annual Holiday Pot Luck Dinner\, Sponsored By the Empire Area Community Center (EACC) will be Saturday\, December 20th 2014.\nLocated at the Empire Town Hall in Empire\, MI featuring special guests\, Mr & Mrs Claus! Ham will be donated this year by Deering’s Market. \nSchedule for evening:  5:00pm Doors Open\, 6:00 Dinner Begins\, 6:40 Mr and Mrs Claus arrive\, 9:00 Clean Up Begin.  \nSupplied: Ham\, Coffee\, Hot Chocolate & Lemonade \nWhat to Bring: A Dish to Pass & B.Y.O.B. and Your Own Place Settings  \nWe invite you to bring a food donation for the Empire Area Food Bank and EACC will be accepting monetary donations for continued support of community events.
URL:https://www.visitglenarbor.com/event/annual-holiday-pot-luck-dinner/
LOCATION:Empire Township Hall\, 10088 W. Front Street\, Empire\, MI \, Empire\, MI\, 49630\, United States
CATEGORIES:Community Events
END:VEVENT
BEGIN:VEVENT
DTSTART;TZID=America/Detroit:20141007T073000
DTEND;TZID=America/Detroit:20141007T203000
DTSTAMP:20260423T233757
CREATED:20140919T220102Z
LAST-MODIFIED:20200309T054638Z
UID:10002317-1412667000-1412713800@www.visitglenarbor.com
SUMMARY:Ecology of Michigan Bees
DESCRIPTION:The Glen Lake Library in Empire will host a presentation by Dr. Julianna Wilson\, an entomologist and tree fruit specialist at Michigan State University. Dr. Wilson will be speaking about the different kinds of wild bees found in Michigan\, comparing and contrasting them to honey bees\, and about simple strategies to support and protect bees in Michigan. This presentation is being cosponsored by the Glen Lake Garden Club.
URL:https://www.visitglenarbor.com/event/ecology-of-michigan-bees/
LOCATION:Empire Township Hall\, 10088 W. Front Street\, Empire\, MI \, Empire\, MI\, 49630\, United States
CATEGORIES:Community Events
ATTACH;FMTTYPE=image/jpeg:https://www.visitglenarbor.com/wp-content/uploads/2020/03/JWilson.jpg
ORGANIZER;CN="Glen Lake Community Library":MAILTO:info@glenlakelibrary.net
END:VEVENT
BEGIN:VEVENT
DTSTART;TZID=America/Detroit:20140619T190000
DTEND;TZID=America/Detroit:20140619T200000
DTSTAMP:20260423T233757
CREATED:20140613T234046Z
LAST-MODIFIED:20200309T054616Z
UID:10002375-1403204400-1403208000@www.visitglenarbor.com
SUMMARY:Jim Dal Sasso: 40 years a ranger
DESCRIPTION:Sleeping Bear Dunes park ranger Jim Dal Sasso will share stories and photographs from his long career with the National Park Service. “Ranger Jim” has served in parks all across the country\, from Denali to the Everglades\, spending the last 20 years patrolling our local lakeshore. Before his retirement in July\, Jim will offer his unique perspective on the treasures that are our National Parks.
URL:https://www.visitglenarbor.com/event/jim-dal-sasso-40-years-a-ranger/
LOCATION:Empire Township Hall\, 10088 W. Front Street\, Empire\, MI \, Empire\, MI\, 49630\, United States
CATEGORIES:Community Events
ATTACH;FMTTYPE=image/jpeg:https://www.visitglenarbor.com/wp-content/uploads/2020/03/Ranger-Jim-2.jpg
ORGANIZER;CN="Glen Lake Community Library":MAILTO:info@glenlakelibrary.net
END:VEVENT
END:VCALENDAR