BEGIN:VCALENDAR
VERSION:2.0
PRODID:-//Glen Lake Chamber of Commerce - ECPv6.15.19//NONSGML v1.0//EN
CALSCALE:GREGORIAN
METHOD:PUBLISH
X-WR-CALNAME:Glen Lake Chamber of Commerce
X-ORIGINAL-URL:https://www.visitglenarbor.com
X-WR-CALDESC:Events for Glen Lake Chamber of Commerce
REFRESH-INTERVAL;VALUE=DURATION:PT1H
X-Robots-Tag:noindex
X-PUBLISHED-TTL:PT1H
BEGIN:VTIMEZONE
TZID:America/Detroit
BEGIN:DAYLIGHT
TZOFFSETFROM:-0500
TZOFFSETTO:-0400
TZNAME:EDT
DTSTART:20130310T070000
END:DAYLIGHT
BEGIN:STANDARD
TZOFFSETFROM:-0400
TZOFFSETTO:-0500
TZNAME:EST
DTSTART:20131103T060000
END:STANDARD
BEGIN:DAYLIGHT
TZOFFSETFROM:-0500
TZOFFSETTO:-0400
TZNAME:EDT
DTSTART:20140309T070000
END:DAYLIGHT
BEGIN:STANDARD
TZOFFSETFROM:-0400
TZOFFSETTO:-0500
TZNAME:EST
DTSTART:20141102T060000
END:STANDARD
BEGIN:DAYLIGHT
TZOFFSETFROM:-0500
TZOFFSETTO:-0400
TZNAME:EDT
DTSTART:20150308T070000
END:DAYLIGHT
BEGIN:STANDARD
TZOFFSETFROM:-0400
TZOFFSETTO:-0500
TZNAME:EST
DTSTART:20151101T060000
END:STANDARD
END:VTIMEZONE
BEGIN:VEVENT
DTSTART;TZID=America/Detroit:20140608T130000
DTEND;TZID=America/Detroit:20140608T140000
DTSTAMP:20260421T184245
CREATED:20140522T222309Z
LAST-MODIFIED:20200309T054615Z
UID:10002366-1402232400-1402236000@www.visitglenarbor.com
SUMMARY:Painting Demonstration with Carol C. Spaulding
DESCRIPTION:Maple City artist Carol C. Spaulding will conduct a painting demonstration June 8\, 1 p.m. at Center Gallery\, 6023 S. Lake St.\, Glen Arbor. This demonstration is open to the public as part of the artist’s exhibition\, “Color of Light\,” at Center Gallery through June 26. \n  \nSpaulding looks to her home garden\, as well as the local landscape\, for her floral subjects. Her bright\, happy compositions of vibrant bouquets are interpretations of what she sees in the backyard and fields. Spaulding paints in oil and gouache paints. \n  \nFor more information please call 231/334-3179. \n  \n 
URL:https://www.visitglenarbor.com/event/painting-demonstration-with-carol-c-spaulding/
LOCATION:Center Gallery at Lake Street Studios
CATEGORIES:Community Events
END:VEVENT
END:VCALENDAR