BEGIN:VCALENDAR
VERSION:2.0
PRODID:-//Glen Lake Chamber of Commerce - ECPv6.15.19//NONSGML v1.0//EN
CALSCALE:GREGORIAN
METHOD:PUBLISH
X-ORIGINAL-URL:https://www.visitglenarbor.com
X-WR-CALDESC:Events for Glen Lake Chamber of Commerce
REFRESH-INTERVAL;VALUE=DURATION:PT1H
X-Robots-Tag:noindex
X-PUBLISHED-TTL:PT1H
BEGIN:VTIMEZONE
TZID:America/Detroit
BEGIN:DAYLIGHT
TZOFFSETFROM:-0500
TZOFFSETTO:-0400
TZNAME:EDT
DTSTART:20130310T070000
END:DAYLIGHT
BEGIN:STANDARD
TZOFFSETFROM:-0400
TZOFFSETTO:-0500
TZNAME:EST
DTSTART:20131103T060000
END:STANDARD
BEGIN:DAYLIGHT
TZOFFSETFROM:-0500
TZOFFSETTO:-0400
TZNAME:EDT
DTSTART:20140309T070000
END:DAYLIGHT
BEGIN:STANDARD
TZOFFSETFROM:-0400
TZOFFSETTO:-0500
TZNAME:EST
DTSTART:20141102T060000
END:STANDARD
BEGIN:DAYLIGHT
TZOFFSETFROM:-0500
TZOFFSETTO:-0400
TZNAME:EDT
DTSTART:20150308T070000
END:DAYLIGHT
BEGIN:STANDARD
TZOFFSETFROM:-0400
TZOFFSETTO:-0500
TZNAME:EST
DTSTART:20151101T060000
END:STANDARD
BEGIN:DAYLIGHT
TZOFFSETFROM:-0500
TZOFFSETTO:-0400
TZNAME:EDT
DTSTART:20160313T070000
END:DAYLIGHT
BEGIN:STANDARD
TZOFFSETFROM:-0400
TZOFFSETTO:-0500
TZNAME:EST
DTSTART:20161106T060000
END:STANDARD
END:VTIMEZONE
BEGIN:VEVENT
DTSTART;TZID=America/Detroit:20150918T110000
DTEND;TZID=America/Detroit:20151011T170000
DTSTAMP:20260420T172310
CREATED:20150823T210603Z
LAST-MODIFIED:20200309T054712Z
UID:10002575-1442574000-1444582800@www.visitglenarbor.com
SUMMARY:Sculpture: Architecture\, Artifact and Totem
DESCRIPTION:Sculpture – architectural and totemic – comes to Center Gallery for an extended stay. The work of artists Larry Fox and Van Wilson is on display Sept. 18-Oct. 11. A 6 p.m. reception for the artists opens the show. \n  \nFox constructs non-representational wall compositions from wood and canvas. The Omena artist is known locally and nationally for the dimensional\, dynamic shapes he constructs\, and for the complex surfaces he creates from layers of acrylic paint. Fox’s work is found in private collections as well as on the walls of corporate enterprises. \n  \nWilson’s freestanding\, totemic sculptures are carved from wood or assembled from metal and other found objects. The Maple City artist grew up in West Texas and brought with him a love of crows\, the traditional messengers of the spirit world. Wilson takes a playful approach to creating his totems\, mixing and matching and stacking shapes and creatures that he has painted in eye-popping colors. \n  \nFor more information\, please call Center Gallery\, 231/334-3179.
URL:https://www.visitglenarbor.com/event/sculpture-architecture-artifact-and-totem/
LOCATION:Center Gallery at Lake Street Studios
CATEGORIES:Community Events,Local Business Event
END:VEVENT
BEGIN:VEVENT
DTSTART;TZID=America/Detroit:20150731T110000
DTEND;TZID=America/Detroit:20150806T160000
DTSTAMP:20260420T172310
CREATED:20150629T194734Z
LAST-MODIFIED:20200309T054704Z
UID:10002548-1438340400-1438876800@www.visitglenarbor.com
SUMMARY:Painting Light: Lori Feldpausch Exhibition
DESCRIPTION:Traverse City painter Lori Feldpausch’s “greatest teacher” has been the natural world – on full display in her exhibition at Center Gallery\, 6023 S. Lake St.\, Glen Arbor. This show of plein air and studio paintings opens July 31 with a 6 p.m. artist’s reception. \n  \nFeldpausch’s goal is to capture the light her subjects reflect. Although known for her landscape paintings\, Feldpausch has begun to insert human figures into these scenes inspired by the natural world. This exhibition continues through Aug. 6. For more information please call 231/334-3179.
URL:https://www.visitglenarbor.com/event/painting-light-lori-feldpausch-exhibition/
LOCATION:Center Gallery at Lake Street Studios
CATEGORIES:Community Events,Local Business Event
END:VEVENT
BEGIN:VEVENT
DTSTART;TZID=America/Detroit:20150522T110000
DTEND;TZID=America/Detroit:20150625T160000
DTSTAMP:20260420T172310
CREATED:20150323T163812Z
LAST-MODIFIED:20200309T054648Z
UID:10002457-1432292400-1435248000@www.visitglenarbor.com
SUMMARY:Charles Murphy: New Paintings
DESCRIPTION:Center Gallery opens its 2015 May 22 with new works of Up North icons by Traverse City painter Charles Murphy. A public reception for the artist is 6 p.m. at the gallery\, 6023 S. Lake St.\, Glen Arbor. \n  \nMurphyâs new body of work reflects his affinity for classic\, northern Michigan symbols â boats\, barns\, birds and the diverse landscape. He looks for subjects that have a strong âlocalâ presence\, and records them as sketches\, which are later finished in the studio. Murphyâs evocative\, emotive impressions of his homeplace are executed in a richly saturated palette using watercolor\, oil and acrylic. \n  \nTwo artistâs demonstrations are scheduled as part of this exhibition\, June 6 and June 20\, 1 p.m. at Center Gallery. Murphy will paint and talk about his work. The exhibition continues through June 25. For more information\, please call 231/334-3179 or go to: lakestreetstudiosglenarbor.com/.
URL:https://www.visitglenarbor.com/event/charles-murphy-new-paintings/
LOCATION:Center Gallery at Lake Street Studios
CATEGORIES:Community Events,Local Business Event
END:VEVENT
BEGIN:VEVENT
DTSTART;TZID=America/Detroit:20140711T110000
DTEND;TZID=America/Detroit:20140717T160000
DTSTAMP:20260420T172310
CREATED:20140505T173700Z
LAST-MODIFIED:20200309T054614Z
UID:10002355-1405076400-1405612800@www.visitglenarbor.com
SUMMARY:Glen Arbor Paintings: Joseph Lombardo
DESCRIPTION:Ohio artist Joseph Lombardo exhibits new paintings of Glen Arbor\, July 11-17\, Center Gallery\, 6023 S. Lake St.\, Glen Arbor. The show opens with a public reception July 11 at 6 p.m. \n  \nLombardo\, an adjunct professor at Columbus College of Art and Design\, first visited Glen Arbor in 2009. During that summer visit he began a series of oil paintings of the vicinity that continues to evolve. These new oil paintings are part of a series of works that explore the Leelanau landscape\, the luminous light and bright colors that characterize the region in summer. \n  \nAs part of his exhibition\, Lombardo conducts a demonstration at Center Gallery\, July 12\, 1 p.m. This demonstration is an opportunity to watch the artist work\, and to talk with him about his process and technique. For more information please call 231/334-3179. \n  \n  \n 
URL:https://www.visitglenarbor.com/event/glen-arbor-paintings-joseph-lombardo/
LOCATION:Center Gallery at Lake Street Studios
CATEGORIES:Community Events
ATTACH;FMTTYPE=image/jpeg:https://www.visitglenarbor.com/wp-content/uploads/2020/03/Color-Wheels-II-Oil-2014-6x6-1-scaled.jpg
END:VEVENT
BEGIN:VEVENT
DTSTART;TZID=America/Detroit:20140530T180000
DTEND;TZID=America/Detroit:20140530T210000
DTSTAMP:20260420T172310
CREATED:20140411T172344Z
LAST-MODIFIED:20200309T053831Z
UID:10002332-1401472800-1401483600@www.visitglenarbor.com
SUMMARY:'Color of Light' Reception
DESCRIPTION:A reception for “Color of Light\,” Center Gallery’s first show of its 2014 season\, is May 30\, 6 p.m. at the gallery.“Color of Light” features work by two artists in paint and porcelain. Ann Arbor ceramist Elizabeth Lurie and Maple City painter Carol Spaulding both draw on the world of flowers\, vegetables and other plant forms for their work. Center Gallery\, 6023 S. Lake St.\, Glen Arbor. Through June 26.
URL:https://www.visitglenarbor.com/event/color-of-light-reception/
LOCATION:Center Gallery at Lake Street Studios
CATEGORIES:Community Events
END:VEVENT
END:VCALENDAR