BEGIN:VCALENDAR
VERSION:2.0
PRODID:-//Glen Lake Chamber of Commerce - ECPv6.15.19//NONSGML v1.0//EN
CALSCALE:GREGORIAN
METHOD:PUBLISH
X-WR-CALNAME:Glen Lake Chamber of Commerce
X-ORIGINAL-URL:https://www.visitglenarbor.com
X-WR-CALDESC:Events for Glen Lake Chamber of Commerce
REFRESH-INTERVAL;VALUE=DURATION:PT1H
X-Robots-Tag:noindex
X-PUBLISHED-TTL:PT1H
BEGIN:VTIMEZONE
TZID:America/Detroit
BEGIN:DAYLIGHT
TZOFFSETFROM:-0500
TZOFFSETTO:-0400
TZNAME:EDT
DTSTART:20140309T070000
END:DAYLIGHT
BEGIN:STANDARD
TZOFFSETFROM:-0400
TZOFFSETTO:-0500
TZNAME:EST
DTSTART:20141102T060000
END:STANDARD
BEGIN:DAYLIGHT
TZOFFSETFROM:-0500
TZOFFSETTO:-0400
TZNAME:EDT
DTSTART:20150308T070000
END:DAYLIGHT
BEGIN:STANDARD
TZOFFSETFROM:-0400
TZOFFSETTO:-0500
TZNAME:EST
DTSTART:20151101T060000
END:STANDARD
BEGIN:DAYLIGHT
TZOFFSETFROM:-0500
TZOFFSETTO:-0400
TZNAME:EDT
DTSTART:20160313T070000
END:DAYLIGHT
BEGIN:STANDARD
TZOFFSETFROM:-0400
TZOFFSETTO:-0500
TZNAME:EST
DTSTART:20161106T060000
END:STANDARD
BEGIN:DAYLIGHT
TZOFFSETFROM:-0500
TZOFFSETTO:-0400
TZNAME:EDT
DTSTART:20170312T070000
END:DAYLIGHT
BEGIN:STANDARD
TZOFFSETFROM:-0400
TZOFFSETTO:-0500
TZNAME:EST
DTSTART:20171105T060000
END:STANDARD
BEGIN:DAYLIGHT
TZOFFSETFROM:-0500
TZOFFSETTO:-0400
TZNAME:EDT
DTSTART:20180311T070000
END:DAYLIGHT
BEGIN:STANDARD
TZOFFSETFROM:-0400
TZOFFSETTO:-0500
TZNAME:EST
DTSTART:20181104T060000
END:STANDARD
BEGIN:DAYLIGHT
TZOFFSETFROM:-0500
TZOFFSETTO:-0400
TZNAME:EDT
DTSTART:20190310T070000
END:DAYLIGHT
BEGIN:STANDARD
TZOFFSETFROM:-0400
TZOFFSETTO:-0500
TZNAME:EST
DTSTART:20191103T060000
END:STANDARD
BEGIN:DAYLIGHT
TZOFFSETFROM:-0500
TZOFFSETTO:-0400
TZNAME:EDT
DTSTART:20200308T070000
END:DAYLIGHT
BEGIN:STANDARD
TZOFFSETFROM:-0400
TZOFFSETTO:-0500
TZNAME:EST
DTSTART:20201101T060000
END:STANDARD
BEGIN:DAYLIGHT
TZOFFSETFROM:-0500
TZOFFSETTO:-0400
TZNAME:EDT
DTSTART:20210314T070000
END:DAYLIGHT
BEGIN:STANDARD
TZOFFSETFROM:-0400
TZOFFSETTO:-0500
TZNAME:EST
DTSTART:20211107T060000
END:STANDARD
BEGIN:DAYLIGHT
TZOFFSETFROM:-0500
TZOFFSETTO:-0400
TZNAME:EDT
DTSTART:20220313T070000
END:DAYLIGHT
BEGIN:STANDARD
TZOFFSETFROM:-0400
TZOFFSETTO:-0500
TZNAME:EST
DTSTART:20221106T060000
END:STANDARD
BEGIN:DAYLIGHT
TZOFFSETFROM:-0500
TZOFFSETTO:-0400
TZNAME:EDT
DTSTART:20230312T070000
END:DAYLIGHT
BEGIN:STANDARD
TZOFFSETFROM:-0400
TZOFFSETTO:-0500
TZNAME:EST
DTSTART:20231105T060000
END:STANDARD
BEGIN:DAYLIGHT
TZOFFSETFROM:-0500
TZOFFSETTO:-0400
TZNAME:EDT
DTSTART:20240310T070000
END:DAYLIGHT
BEGIN:STANDARD
TZOFFSETFROM:-0400
TZOFFSETTO:-0500
TZNAME:EST
DTSTART:20241103T060000
END:STANDARD
BEGIN:DAYLIGHT
TZOFFSETFROM:-0500
TZOFFSETTO:-0400
TZNAME:EDT
DTSTART:20250309T070000
END:DAYLIGHT
BEGIN:STANDARD
TZOFFSETFROM:-0400
TZOFFSETTO:-0500
TZNAME:EST
DTSTART:20251102T060000
END:STANDARD
BEGIN:DAYLIGHT
TZOFFSETFROM:-0500
TZOFFSETTO:-0400
TZNAME:EDT
DTSTART:20260308T070000
END:DAYLIGHT
BEGIN:STANDARD
TZOFFSETFROM:-0400
TZOFFSETTO:-0500
TZNAME:EST
DTSTART:20261101T060000
END:STANDARD
BEGIN:DAYLIGHT
TZOFFSETFROM:-0500
TZOFFSETTO:-0400
TZNAME:EDT
DTSTART:20270314T070000
END:DAYLIGHT
BEGIN:STANDARD
TZOFFSETFROM:-0400
TZOFFSETTO:-0500
TZNAME:EST
DTSTART:20271107T060000
END:STANDARD
END:VTIMEZONE
BEGIN:VEVENT
DTSTART;TZID=America/Detroit:20260214T120000
DTEND;TZID=America/Detroit:20260214T150000
DTSTAMP:20260422T140230
CREATED:20260117T170221Z
LAST-MODIFIED:20260211T163440Z
UID:10009201-1771070400-1771081200@www.visitglenarbor.com
SUMMARY:2026 Winterfest: Chili Cook-Off + Ice Fishing Contest
DESCRIPTION:Chili Cook-Off\nWinterfest\, the anticipated\, fun mid-winter event takes place annually\, the Saturday of President’s Day weekend. The event includes a chili cook off on the deck of Boonedocks restaurant in Glen Arbor on Saturday\, February 14th\, 2026 from Noon-3pm. \nWinners will be crowned as the event wraps up around 3pm. Proceeds from this event are given out on senior scholarship night at Glen Lake School\, to deserving students to help defray college tuition. This is a family friendly event\, just be sure to dress for the weather. \nAdmission to the chili cook-off is $15 per person (ages 6 and up)\, which includes unlimited chili samples. Seniors 70+ and kids under 6 enter for free. \nPerch Fishing Contest\nCaptain Bob will again be hosting the Ice Fishing Contest. Fishing on Big and Little Glen Lake only from 7:00am to 1:00pm for PERCH ONLY. $30 entry fee\, includes entry to chili cook-off. Weigh-in your best catch at 1pm sharp outside of Boonedocks. 50% of your entry fee goes to Glen Lake Scholarship Fund. Sign up forms will be available at Boondocks or the morning of the event in the Sportsman Shop parking lot next to Boonedocks. \n\nEnter your Chili! Please send an email to Boonedocksga@gmail.com or call Stephanie at Boonedocks (231) 218-0009 if you would like to participate by serving Chili in the Cook-Off. 8 gallons of Chili are required by each business\, organization or family in order to serve at the event.
URL:https://www.visitglenarbor.com/event/chili-cook-off-2026/
LOCATION:Boonedocks\, 5858 Manitou Vw\, Glen Arbor\, MI\, 49636\, United States
CATEGORIES:Food/Dining Event,Kids + Family Friendly
ATTACH;FMTTYPE=image/jpeg:https://www.visitglenarbor.com/wp-content/uploads/2023/02/IMG_4220-scaled-e1675789566116.jpg
END:VEVENT
BEGIN:VEVENT
DTSTART;TZID=America/Detroit:20250215T120000
DTEND;TZID=America/Detroit:20250215T143000
DTSTAMP:20260422T140230
CREATED:20250119T214710Z
LAST-MODIFIED:20250213T145808Z
UID:10007590-1739620800-1739629800@www.visitglenarbor.com
SUMMARY:Chili Cook-Off + Perch Fishing Contest
DESCRIPTION:The annual Chili Cook-Off is slated to take place on Saturday\, February 15\, 2025\, from noon to 2:30 p.m. (if enough participants offer their delicious chilis!) on the deck at Boonedocks in Glen Arbor. This fan-favorite event promises a flavorful showdown and celebration of winter in Northern Michigan! Dress for the weather.\nAdmission to the chili cook-off is $15 per person\, ages 6 and up. The cost of admission includes all the chili samples! Kids under 6 enter for free. \nPerch Fishing Contest\nWeather conditions are good this year for ice fishing! Captain Bob will be hosting the annual Perch Fishing contest with sign-up at The Sportsman Shop from 6:30 – 7 am. Fishing on the Big and Little Glen Perch ONLY. $30 Entry Fee which includes entry to chili cook-off. 100% payout to winners. Weigh in will take place at Sportsman Shop at 1 pm SHARP. \n\nReady to Spice Things Up? Enter Your Chili!\nThere may still be room for additional contenders to join the chili frenzy. Whether you’re a seasoned chili chef or a first-timer\, consider entering your chili as a family\, business\, or group of friends. It’s a fantastic way to showcase your skills and support a good cause. Proceeds from this event go to Glen Lake School Scholarships and local charities. Contact owner/event coordinator Stephanie at Boonedocks to secure your spot in the lineup. Call Stephanie to confirm your participation at (231) 218-0009‬
URL:https://www.visitglenarbor.com/event/chili-cook-off/
LOCATION:Boonedocks\, 5858 Manitou Vw\, Glen Arbor\, MI\, 49636\, United States
ATTACH;FMTTYPE=image/png:https://www.visitglenarbor.com/wp-content/uploads/2024/01/Screen-Shot-2024-01-25-at-9.40.58-AM.png
END:VEVENT
BEGIN:VEVENT
DTSTART;TZID=America/Detroit:20240217T120000
DTEND;TZID=America/Detroit:20240217T150000
DTSTAMP:20260422T140230
CREATED:20240119T170035Z
LAST-MODIFIED:20240207T201248Z
UID:10005344-1708171200-1708182000@www.visitglenarbor.com
SUMMARY:2024 Glen Lake Chili Cook-Off
DESCRIPTION:You’re invited to Winterfest! The Chili Cook-Off will be on the deck at Boonedocks in Glen Arbor on Saturday\, February 17th\, from Noon to 3\, or until the chili runs out! This sizzling event promises a flavorful showdown and celebration of winter in Northern Michigan! Dress for the weather.\nAdmission to the chili cook-off is $10 per person\, which includes unlimited chili samples. $5 for kids ages 6-12 and seniors 70+\, kids under 6 enter for free. \n\nPerch Fishing Contest\n\n\nDue to the current conditions and weather forecast\, the perch fishing contest has been canceled. \n\n\n\nChili Cook-Off Lineup:\nBear Paw Pizza\nBoonedocks\nArt’s\nHanson’s Foods – Tom Pleva\nAlpers Excavating \nphoto by Michele Aucello for the GL Chamber\n\nCherry Republic\nM22 Clinic\nFleis Education Foundation\nShipwreck Cafe\nAndersons Market\nMel & Fell\n\n\nGlen Lake Community Schools\nGood Harbor Grill\nGlen Lake Marine – Jeff Gardner\nJoe’s Friendly Tavern\nThe Mill\n\n\nReady to Spice Things Up? Enter Your Chili!\nThere may still be room for additional contenders to join the chili frenzy. Whether you’re a seasoned chili chef or a first-timer\, consider entering your chili as a family or group of friends. It’s a fantastic way to showcase your skills and support a good cause. Proceeds from this event go to Glen Lake School Scholarships and local charities. Contact owner/event coordinator Stephanie at Boonedocks to secure your spot in the lineup. (Email boonedocksga@gmail.com)\n\n\n\n*This is not a chamber event. Winterfest is a small business hosting an annual event as a community fundraiser. 
URL:https://www.visitglenarbor.com/event/2024-glen-lake-chili-cook-off/
LOCATION:Boonedocks\, 5858 Manitou Vw\, Glen Arbor\, MI\, 49636\, United States
CATEGORIES:Community Events,Kids + Family Friendly,Local Business Event,Wine/Beer or Tasting Event
ATTACH;FMTTYPE=image/jpeg:https://www.visitglenarbor.com/wp-content/uploads/2024/01/IMG_0250-scaled-e1705781826169.jpeg
END:VEVENT
BEGIN:VEVENT
DTSTART;TZID=America/Detroit:20230218T120000
DTEND;TZID=America/Detroit:20230218T150000
DTSTAMP:20260422T140230
CREATED:20230123T182148Z
LAST-MODIFIED:20230306T163447Z
UID:10004777-1676721600-1676732400@www.visitglenarbor.com
SUMMARY:Winterfest 2023
DESCRIPTION:Chili Cook-Off Winners 2023:\n1st Place – Hansen Foods\n2nd Place – Boonedocks\n3rd Place – The District\n4th Place – Cherry Republic\n5th Place – Shipwreck Cafe\nThanks to all who attended and participated! \n\n\n\nUPDATE (as of 2/15/23): First time in over 20 years the annual perch tournament is canceled due to open water on Big and Little Glen Lake. You can still join the community on the decks of Boonedocks for the Chili Cookoff from Noon-3pm on Saturday! \nWinterfest: Chili Cook-Off and Perch Fishing Contest\nWinterfest\, the anticipated\, fun mid-winter event takes place annually\, the Saturday of President’s Day weekend. The event includes a perch fishing contest followed by chili cook off on the deck of Boonedocks restaurant in Glen Arbor on Saturday\, February 18th\, 2023 from Noon-3pm. \nWinners will be crowned as the event wraps up around 3pm. Proceeds from this event are given out on senior scholarship night at Glen Lake School\, to deserving students to help defray college tuition. This is a family friendly event\, just be sure to dress for the weather. \nAdmission to the chili cook-off is $10 per person\, which includes unlimited chili samples. $5 for kids ages 6-12 and seniors 70+\, kids under 6 enter for free. \nThe Sportsman Shop hosts the annual Perch Fishing Contest as either a spectator or participant. Sign up will take place at the Sportsman Shop in Glen Arbor\, MI from 6-7:30am. Ice fishing takes place on the Glen Lakes all morning. Bring your catches back to weigh in at the Sportsman Shop promptly by 1pm. Entry fee for the Perch tournament is $20. ($10 goes to chili cook-off and $10 to tournament. 100% pay out.) Call Bob at 231-883-5638 for more info. \n\nEnter your Chili! Please send an email to Boonedocksga@gmail.com or call Stephanie at Boonedocks (231) 218-0009 if you would like to participate by serving Chili in the Cook-Off. 8 gallons of Chili are required by each business\, organization or family in order to serve at the event.
URL:https://www.visitglenarbor.com/event/winterfest-2023/
LOCATION:Boonedocks\, 5858 Manitou Vw\, Glen Arbor\, MI\, 49636\, United States
CATEGORIES:Community Events,Food/Dining Event,Kids + Family Friendly,Local Business Event
ATTACH;FMTTYPE=image/png:https://www.visitglenarbor.com/wp-content/uploads/2023/02/WINTERFEST_annual-graphic_chili-cook-off-perch-fishing-01-e1675796204597.png
END:VEVENT
BEGIN:VEVENT
DTSTART;TZID=America/Detroit:20220219T000000
DTEND;TZID=America/Detroit:20220219T150000
DTSTAMP:20260422T140230
CREATED:20220103T180148Z
LAST-MODIFIED:20220104T193336Z
UID:10004540-1645228800-1645282800@www.visitglenarbor.com
SUMMARY:Chili Cook-Off + Perch Fishing Contest
DESCRIPTION:The Glen Lake Chili Cook-off\, an annually anticipated mid-winter event\, is back to its original format this year! Saturday\, February 19th from noon- 3pm\, on the deck of Boonedocks in Glen Arbor. Winners will be crowned as the event wraps up around 3pm. Proceeds from this event are given out on senior scholarship night at Glen Lake School\, to deserving students to help defray college tuition. This is a family friendly event\, just be sure to dress for the weather. \nThis year the Glen Lake Chili Cook-off is not charging a fee to enter your chili. Please send an email to Boonedocksga@gmail.com to enter by February 7th.  Admission to the chili cook-off is $10 per person\, which includes unlimited chili samples. $5 for kids ages 6-12 and seniors 70+\, kids under 6 enter for free. \nSimultaneously with the Chili Cook-Off\, The Sportsman Shop hosts the annual Perch Fishing Contest as either a spectator or participant. Sign up will take place at the Sportsman Shop in Glen Arbor\, MI from 6-7:30am. Ice fishing takes place on the Glen Lakes. Bring your catches back to weigh in\, at the Sportsman Shop at 1pm. Entry fee for the Perch tournament is $20. ($10 goes to chili cook-off and $10 to tournament. 100% pay out.) Call Bob at 231-883-5638 for more info.
URL:https://www.visitglenarbor.com/event/chili-cook-off-perch-fishing-contest-2022/
LOCATION:Boonedocks\, 5858 Manitou Vw\, Glen Arbor\, MI\, 49636\, United States
CATEGORIES:Community Events,Food/Dining Event,Kids + Family Friendly,Wine/Beer or Tasting Event
ATTACH;FMTTYPE=image/jpeg:https://www.visitglenarbor.com/wp-content/uploads/2020/03/IMG_0284-scaled-e1580832618127.jpg
END:VEVENT
BEGIN:VEVENT
DTSTART;TZID=America/Detroit:20190216T070000
DTEND;TZID=America/Detroit:20190216T150000
DTSTAMP:20260422T140230
CREATED:20181217T200611Z
LAST-MODIFIED:20200309T054916Z
UID:10003210-1550300400-1550329200@www.visitglenarbor.com
SUMMARY:Glen Lake Winterfest 2019
DESCRIPTION:Join us for the annual Glen Lake Winterfest\, Presidents Day Weekend: Saturday\, February 16th\, 2019! Festivities include a Perch Fishing/Contest + Chili Cook-Off.\n\nPerch Fishing Contest\nFestivities start at 7am with the beginning of the Perch Fishing Contest\, with prizes for 1st through 4th place catches. All participants will bring their biggest catches from Big and Little Glen Lake to the Sportsman Shop at 1pm\, and winners will then be crowned. Entry fee for this event is $20\, and all ages are welcome. \nDOWNLOAD: Fishing Contest Entry Form.PDF\n  \n \nChili Cook-off\nOrganized by Administered by Glen Lake Schools\, the Chili Cook-off\, kicks off at 12 Noon\, hosted at Boonedocks in Glen Arbor. Entrants will compete to earn chili bragging rights. 1st through 5th Place winners\, as determined by popular vote\, receive a plaque commemorating the Chili Cook-off. Get there early for a seat inside Boonedocks. Dress warm and join us out on the deck for a winter-time party! Plenty of heaters\, drinks\, music\, family\, friends and chili to keep you warm!  \nDOWNLOAD: 2019 Chili Cook-off Entry Form.PDF\n \nThere’s only one category: CHILI ! – however you define it! \n \nProceeds from this event are given to the Glen Lake Schools Scholarship Fund. This is a family friendly event\, just be sure to dress warmly! If you’d like to participate\, the entry fee is $25 per chili. Winners will be crowned as the event wraps up around 3pm. \nAdmission is $10 per person\, which includes unlimited chili samples. $5 Admission for Seniors\, over 70\, and kids\, 12 and under. \n  \nFacebook\nRSVP\, stay updated and Invite your friends and family via our Event on Facebook. \n  \nSponsors\nThis is community event generously organized and funded by:  \nArt’s Tavern \nBoonedocks Glen Arbor \nThe Sportsman Shop \n  \nRESULTS\n\nThank you to all who participated. We appreciate your delicious efforts! It was another great event. The voters have spoken and the 2019 Winterfest Chili Cook-Off bragging rights go to the following: \n\n\n \n\n\n1. Pleva’s Meats\n\n\n2. Boonedocks\n\n\n3. Art’s Tavern Glen Arbor\n\n\n4. Anderson’s Glen Arbor Market\n\n\n5. Bear Paw\n\n \nPerch Fishing Contest results: \n\n\n1st Place: Matt Rice with a 13.75″ \n\n2nd place tied: Nick Rice with 13.5″ catch\n2nd place tied: Bill Bailey with a catch of 13.5″\n\n3rd place to Tera Novak with a 13.25″ catch\n\n\n 
URL:https://www.visitglenarbor.com/event/glen-lake-winterfest-2019/
LOCATION:Boonedocks\, 5858 Manitou Vw\, Glen Arbor\, MI\, 49636\, United States
CATEGORIES:Community Events,Food/Dining Event,Kids + Family Friendly,Local Business Event,Wine/Beer or Tasting Event
ATTACH;FMTTYPE=image/png:https://www.visitglenarbor.com/wp-content/uploads/2020/03/Winterfest-2019_glen-lake_GA-Sun-Ad_3-col-x-4-in-01-e1545059155615.png
ORGANIZER;CN="Art's Tavern":MAILTO:info@artsglenarbor.com
END:VEVENT
BEGIN:VEVENT
DTSTART;TZID=America/Detroit:20180217T070000
DTEND;TZID=America/Detroit:20180217T150000
DTSTAMP:20260422T140230
CREATED:20171205T003443Z
LAST-MODIFIED:20200309T054836Z
UID:10002993-1518850800-1518879600@www.visitglenarbor.com
SUMMARY:2018 Glen Lake Winter Fest + Chili Cook-Off
DESCRIPTION:Join us for the annual Glen Lake Winterfest on Saturday\, February 17\, 2018! Festivities include a Perch Fishing/Contest + Chili Cook-Off.\n\nPerch Fishing Contest\nFestivities start at 7am with the beginning of the Perch Fishing Contest\, with prizes for 1st through 4th place catches. All participants will bring their biggest catches from Big and Little Glen Lake to the Sportsman Shop at 1pm\, and winners will then be crowned. Entry fee for this event is $20\, and all ages are welcome. \nDOWNLOAD: Fishing Contest Entry Form.PDF  |  JPG file\n  \n \nChili Cook-off\nAdministered by Glen Lake Schools\, the Chili Cook-off\, kicks off at 12 Noon at Boonedocks in Glen Arbor. Entrants will compete to earn chili bragging rights. 1st through 5th Place winners\, as determined by popular vote\, receive a plaque commemorating the Chili Cook-off. Get there early for a seat inside Boonedocks. Dress warm and join us out on the deck for a winter-time party! Plenty of heaters\, drinks\, music\, family\, friends and chili to keep you warm!  \n \nThere’s only one category: CHILI ! – however you define it! \n \nProceeds from this event go directly to the Glen Lake Schools Scholarship Fund. This is a family friendly event\, just be sure to dress warmly! If you’d like to participate\, the entry fee is $25 per chili. Winners will be crowned as the event wraps up around 3pm. \nAdmission is $10 per person\, which includes unlimited chili samples. $5 Admission for Seniors\, over 70\, and kids\, 12 and under. \nDOWNLOAD: 2018 Chili Cook-off Entry Form.PDF  |  JPG file\n  \nFacebook\nRSVP\, stay updated and Invite your friends and family via our Event on Facebook. \n  \nSponsors\nThis is a community event sponsored by:  \nGlen Lake Schools \nArt’s Tavern \nBoonedocks \nThe Sportsman Shop \nGlen Lake Chamber of Commerce
URL:https://www.visitglenarbor.com/event/2018-glen-lake-winter-fest-chili-cook-off/
LOCATION:Boonedocks\, 5858 Manitou Vw\, Glen Arbor\, MI\, 49636\, United States
CATEGORIES:Community Events,Kids + Family Friendly,Local Business Event,Recreation,Wine/Beer or Tasting Event
ATTACH;FMTTYPE=image/jpeg:https://www.visitglenarbor.com/wp-content/uploads/2020/03/Glen-Lake-Winterfest-2017_photography-by-Dancing-Frog-Press_Glen-Lake-Chamber_IMG_4461-e1512416282611.jpg
END:VEVENT
BEGIN:VEVENT
DTSTART;TZID=America/Detroit:20150301T160000
DTEND;TZID=America/Detroit:20150301T180000
DTSTAMP:20260422T140230
CREATED:20150225T030157Z
LAST-MODIFIED:20150225T030157Z
UID:10002445-1425225600-1425232800@www.visitglenarbor.com
SUMMARY:Emergency Fund Concert | March 1\, 2015
DESCRIPTION:Empire Area Community Emergency Fund Concert will be held on Sunday\, March 1st from 4:00pm to 6pm at Boonedocks in Glen Arbor.\n\nThere will be outstanding performances by a multitude of talent featuring “Da Sista Hood ‘n Joe” as well as a feature performance by “Barbara Faith Jordan“\n\nSpread the word\, You won’t want to miss this one!
URL:https://www.visitglenarbor.com/event/emergency-fund-concert-march-1-2015/
LOCATION:Boonedocks\, 5858 Manitou Vw\, Glen Arbor\, MI\, 49636\, United States
CATEGORIES:Community Events
ATTACH;FMTTYPE=:
ORGANIZER;CN="Empire Area Community Center":MAILTO:empireareacommunitycenter@gmail.com
END:VEVENT
END:VCALENDAR