BEGIN:VCALENDAR
VERSION:2.0
PRODID:-//Glen Lake Chamber of Commerce - ECPv6.15.19//NONSGML v1.0//EN
CALSCALE:GREGORIAN
METHOD:PUBLISH
X-WR-CALNAME:Glen Lake Chamber of Commerce
X-ORIGINAL-URL:https://www.visitglenarbor.com
X-WR-CALDESC:Events for Glen Lake Chamber of Commerce
REFRESH-INTERVAL;VALUE=DURATION:PT1H
X-Robots-Tag:noindex
X-PUBLISHED-TTL:PT1H
BEGIN:VTIMEZONE
TZID:America/Detroit
BEGIN:DAYLIGHT
TZOFFSETFROM:-0500
TZOFFSETTO:-0400
TZNAME:EDT
DTSTART:20240310T070000
END:DAYLIGHT
BEGIN:STANDARD
TZOFFSETFROM:-0400
TZOFFSETTO:-0500
TZNAME:EST
DTSTART:20241103T060000
END:STANDARD
BEGIN:DAYLIGHT
TZOFFSETFROM:-0500
TZOFFSETTO:-0400
TZNAME:EDT
DTSTART:20250309T070000
END:DAYLIGHT
BEGIN:STANDARD
TZOFFSETFROM:-0400
TZOFFSETTO:-0500
TZNAME:EST
DTSTART:20251102T060000
END:STANDARD
BEGIN:DAYLIGHT
TZOFFSETFROM:-0500
TZOFFSETTO:-0400
TZNAME:EDT
DTSTART:20260308T070000
END:DAYLIGHT
BEGIN:STANDARD
TZOFFSETFROM:-0400
TZOFFSETTO:-0500
TZNAME:EST
DTSTART:20261101T060000
END:STANDARD
BEGIN:DAYLIGHT
TZOFFSETFROM:-0500
TZOFFSETTO:-0400
TZNAME:EDT
DTSTART:20270314T070000
END:DAYLIGHT
BEGIN:STANDARD
TZOFFSETFROM:-0400
TZOFFSETTO:-0500
TZNAME:EST
DTSTART:20271107T060000
END:STANDARD
END:VTIMEZONE
BEGIN:VEVENT
DTSTART;TZID=America/Detroit:20260411T170000
DTEND;TZID=America/Detroit:20260411T190000
DTSTAMP:20260423T030011
CREATED:20260402T165415Z
LAST-MODIFIED:20260402T165420Z
UID:10009583-1775926800-1775934000@www.visitglenarbor.com
SUMMARY:Live Music at Bel Lago: Bryan Poirier
DESCRIPTION:Enjoy a special performance by the talented Bryan Poirier while you sip your favorite Bel Lago wines and take in the stunning scenery of Lake Leelanau – the perfect way to unwind.\nWhile this is a FREE event\, space is limited. Reservations are required! Please email marianne@bellago.com to reserve your spot and let us know if you’d like any special accommodations (mobility\, etc.)
URL:https://www.visitglenarbor.com/event/live-music-at-bel-lago-bryan-poirier-3/
LOCATION:Bel Lago\, 6530 S LAKE SHORE DR\, CEDAR\, MI\, 49621-9615\, United States
CATEGORIES:Community Events,Local Business Event,Music,Wine/Beer or Tasting Event
ATTACH;FMTTYPE=image/png:https://www.visitglenarbor.com/wp-content/uploads/2026/03/BL-LIVE-MUSIC.png
ORGANIZER;CN="Bel Lago":MAILTO:info@bellago.com
END:VEVENT
BEGIN:VEVENT
DTSTART;TZID=America/Detroit:20260411T170000
DTEND;TZID=America/Detroit:20260411T190000
DTSTAMP:20260423T030011
CREATED:20260326T195800Z
LAST-MODIFIED:20260326T195800Z
UID:10009254-1775926800-1775934000@www.visitglenarbor.com
SUMMARY:Live Music at Bel Lago: Bryan Poirier
DESCRIPTION:Enjoy a special performance by the talented Bryan Poirier while you sip your favorite Bel Lago wines and take in the stunning scenery of Lake Leelanau – the perfect way to unwind.
URL:https://www.visitglenarbor.com/event/live-music-at-bel-lago-bryan-poirier-2/2026-04-11/
LOCATION:Bel Lago\, 6530 S LAKE SHORE DR\, CEDAR\, MI\, 49621-9615\, United States
CATEGORIES:Community Events,Food/Dining Event,Local Business Event,Music,Wine/Beer or Tasting Event
ATTACH;FMTTYPE=image/png:https://www.visitglenarbor.com/wp-content/uploads/2026/03/BL-LIVE-MUSIC.png
ORGANIZER;CN="Bel Lago":MAILTO:info@bellago.com
END:VEVENT
BEGIN:VEVENT
DTSTART;TZID=America/Detroit:20251031T120000
DTEND;TZID=America/Detroit:20251031T180000
DTSTAMP:20260423T030011
CREATED:20251006T171611Z
LAST-MODIFIED:20251006T171611Z
UID:10008428-1761912000-1761933600@www.visitglenarbor.com
SUMMARY:HalloWINE at Bel Lago
DESCRIPTION:Whether you come for the wine\, the music\, or the Halloween magic\, it’s sure to be a hauntingly good time! Gather your ghouls and goblins\, and let’s toast to HalloWINE! \n\n\nLive music with the always-entertaining Dominic Fortuna from 3:30–5:30 pm. \n\n\nCozy mulled wine to warm your spirits\, along with our full selection of wines\, ciders and delicious food. \n\n\nCostumes are highly encouraged — show off your festive best! \n\n\nKeep an eye out… we may have a few extra tricks and treats waiting for you.
URL:https://www.visitglenarbor.com/event/hallowine-at-bel-lago/
LOCATION:Bel Lago\, 6530 S LAKE SHORE DR\, CEDAR\, MI\, 49621-9615\, United States
CATEGORIES:Community Events,Local Business Event,Wine/Beer or Tasting Event
ATTACH;FMTTYPE=image/png:https://www.visitglenarbor.com/wp-content/uploads/2025/10/ed0f5e21-1d9c-e770-edef-0450500f05a5.png
ORGANIZER;CN="Bel Lago":MAILTO:info@bellago.com
END:VEVENT
BEGIN:VEVENT
DTSTART;TZID=America/Detroit:20251029T150000
DTEND;TZID=America/Detroit:20251029T180000
DTSTAMP:20260423T030011
CREATED:20250519T173739Z
LAST-MODIFIED:20250519T173739Z
UID:10007814-1761750000-1761760800@www.visitglenarbor.com
SUMMARY:Live Music at Dune Bird Winery: Billy & the Kid
DESCRIPTION:Dune Bird Winery invites you to unwind and sip on your favorite wine\, handcrafted coffee or just soak in the vineyard views while enjoying live music by the wonderful Billy & the Kid.
URL:https://www.visitglenarbor.com/event/live-music-at-dune-bird-winery-billy-the-kid/2025-10-29/
LOCATION:Bel Lago\, 6530 S LAKE SHORE DR\, CEDAR\, MI\, 49621-9615\, United States
CATEGORIES:Community Events,Music,Wine/Beer or Tasting Event
ATTACH;FMTTYPE=image/jpeg:https://www.visitglenarbor.com/wp-content/uploads/2025/05/dunebirdlivemusic2025.jpg
ORGANIZER;CN="Bel Lago":MAILTO:info@bellago.com
END:VEVENT
BEGIN:VEVENT
DTSTART;TZID=America/Detroit:20251022T150000
DTEND;TZID=America/Detroit:20251022T180000
DTSTAMP:20260423T030011
CREATED:20250519T173739Z
LAST-MODIFIED:20250519T173739Z
UID:10007813-1761145200-1761156000@www.visitglenarbor.com
SUMMARY:Live Music at Dune Bird Winery: Billy & the Kid
DESCRIPTION:Dune Bird Winery invites you to unwind and sip on your favorite wine\, handcrafted coffee or just soak in the vineyard views while enjoying live music by the wonderful Billy & the Kid.
URL:https://www.visitglenarbor.com/event/live-music-at-dune-bird-winery-billy-the-kid/2025-10-22/
LOCATION:Bel Lago\, 6530 S LAKE SHORE DR\, CEDAR\, MI\, 49621-9615\, United States
CATEGORIES:Community Events,Music,Wine/Beer or Tasting Event
ATTACH;FMTTYPE=image/jpeg:https://www.visitglenarbor.com/wp-content/uploads/2025/05/dunebirdlivemusic2025.jpg
ORGANIZER;CN="Bel Lago":MAILTO:info@bellago.com
END:VEVENT
BEGIN:VEVENT
DTSTART;TZID=America/Detroit:20251011T153000
DTEND;TZID=America/Detroit:20251011T173000
DTSTAMP:20260423T030011
CREATED:20251007T142805Z
LAST-MODIFIED:20251007T144135Z
UID:10008431-1760196600-1760203800@www.visitglenarbor.com
SUMMARY:
DESCRIPTION:Enjoy a special performance by the talented Andre Villoch on October 11th while you sip your favorite Bel Lago wines and take in the stunning scenery of Lake Leelanau – the perfect way to unwind.
URL:https://www.visitglenarbor.com/event/122003/
LOCATION:Bel Lago\, 6530 S LAKE SHORE DR\, CEDAR\, MI\, 49621-9615\, United States
CATEGORIES:Community Events,Local Business Event,Music,Wine/Beer or Tasting Event
ATTACH;FMTTYPE=image/jpeg:https://www.visitglenarbor.com/wp-content/uploads/2025/10/live-music-series-Your-Story.jpg
ORGANIZER;CN="Bel Lago":MAILTO:info@bellago.com
END:VEVENT
BEGIN:VEVENT
DTSTART;TZID=America/Detroit:20251004T150000
DTEND;TZID=America/Detroit:20251004T170000
DTSTAMP:20260423T030011
CREATED:20251001T174318Z
LAST-MODIFIED:20251001T174318Z
UID:10008387-1759590000-1759597200@www.visitglenarbor.com
SUMMARY:Live Music at Bel Lago: Clint Weaner
DESCRIPTION:Join us at Bel Lago on October 4th from 3-5pm for live music by the talented Clint Weaner while you sip your favorite Bel Lago wines and take in the stunning scenery of Lake Leelanau – the perfect way to unwind.
URL:https://www.visitglenarbor.com/event/live-music-at-bel-lago-clint-weaner/
LOCATION:Bel Lago\, 6530 S LAKE SHORE DR\, CEDAR\, MI\, 49621-9615\, United States
CATEGORIES:Music,Wine/Beer or Tasting Event
ATTACH;FMTTYPE=image/png:https://www.visitglenarbor.com/wp-content/uploads/2025/05/FVV-WINE-CLUB-RACK-CARD-3.png
ORGANIZER;CN="Bel Lago":MAILTO:info@bellago.com
END:VEVENT
BEGIN:VEVENT
DTSTART;TZID=America/Detroit:20250930T153000
DTEND;TZID=America/Detroit:20250930T173000
DTSTAMP:20260423T030011
CREATED:20250515T151517Z
LAST-MODIFIED:20250515T151517Z
UID:10007800-1759246200-1759253400@www.visitglenarbor.com
SUMMARY:Live Music at Bel Lago: Dominic Fortuna
DESCRIPTION:Join us at Bel Lago for live music with Dominic Fortuna.
URL:https://www.visitglenarbor.com/event/live-music-at-bel-lago-dominic-fortuna/2025-09-30/
LOCATION:Bel Lago\, 6530 S LAKE SHORE DR\, CEDAR\, MI\, 49621-9615\, United States
CATEGORIES:Community Events,Music
ATTACH;FMTTYPE=image/png:https://www.visitglenarbor.com/wp-content/uploads/2025/05/FVV-WINE-CLUB-RACK-CARD-3.png
ORGANIZER;CN="Bel Lago":MAILTO:info@bellago.com
END:VEVENT
BEGIN:VEVENT
DTSTART;TZID=America/Detroit:20250928T153000
DTEND;TZID=America/Detroit:20250928T173000
DTSTAMP:20260423T030011
CREATED:20250514T193224Z
LAST-MODIFIED:20250610T141418Z
UID:10007788-1759073400-1759080600@www.visitglenarbor.com
SUMMARY:Live Music at Bel Lago: Larry Perkins
DESCRIPTION:Join us at Bel Lago for live music with Larry Perkins. \nLarry Perkins is a seasoned musician with over 40 years of experience\, bringing his earthy originals and raspy renditions of classic rock to the Northern Michigan and Gulf Coast music scenes. Known for his heartfelt vocals and twisty guitar licks\, Larry’s unique style and high-energy performances are sure to get you on your feet.
URL:https://www.visitglenarbor.com/event/live-music-at-bel-lago-larry-perkins/2025-09-28/
LOCATION:Bel Lago\, 6530 S LAKE SHORE DR\, CEDAR\, MI\, 49621-9615\, United States
CATEGORIES:Music
ATTACH;FMTTYPE=image/png:https://www.visitglenarbor.com/wp-content/uploads/2025/05/FVV-WINE-CLUB-RACK-CARD-3.png
ORGANIZER;CN="Bel Lago":MAILTO:info@bellago.com
END:VEVENT
BEGIN:VEVENT
DTSTART;TZID=America/Detroit:20250927T153000
DTEND;TZID=America/Detroit:20250927T173000
DTSTAMP:20260423T030011
CREATED:20250515T131752Z
LAST-MODIFIED:20250515T131752Z
UID:10007792-1758987000-1758994200@www.visitglenarbor.com
SUMMARY:Live Music at Bel Lago: John Piatek
DESCRIPTION:Join us at Bel Lago for live music with John Piatek.  \nJohn Piatek is a guitarist\, specializing in original music and live performance. John and his wife Madeline perform together\, as the “Fridays.” John has a collection of original songs as well as perfected classics to share with the Northern Michigan community and beyond.
URL:https://www.visitglenarbor.com/event/live-music-at-bel-lago-john-piatek/2025-09-27/
LOCATION:Bel Lago\, 6530 S LAKE SHORE DR\, CEDAR\, MI\, 49621-9615\, United States
CATEGORIES:Community Events,Music
ORGANIZER;CN="Bel Lago":MAILTO:info@bellago.com
END:VEVENT
BEGIN:VEVENT
DTSTART;TZID=America/Detroit:20250923T153000
DTEND;TZID=America/Detroit:20250923T173000
DTSTAMP:20260423T030011
CREATED:20250514T193224Z
LAST-MODIFIED:20250610T141418Z
UID:10007787-1758641400-1758648600@www.visitglenarbor.com
SUMMARY:Live Music at Bel Lago: Larry Perkins
DESCRIPTION:Join us at Bel Lago for live music with Larry Perkins. \nLarry Perkins is a seasoned musician with over 40 years of experience\, bringing his earthy originals and raspy renditions of classic rock to the Northern Michigan and Gulf Coast music scenes. Known for his heartfelt vocals and twisty guitar licks\, Larry’s unique style and high-energy performances are sure to get you on your feet.
URL:https://www.visitglenarbor.com/event/live-music-at-bel-lago-larry-perkins/2025-09-23/
LOCATION:Bel Lago\, 6530 S LAKE SHORE DR\, CEDAR\, MI\, 49621-9615\, United States
CATEGORIES:Music
ATTACH;FMTTYPE=image/png:https://www.visitglenarbor.com/wp-content/uploads/2025/05/FVV-WINE-CLUB-RACK-CARD-3.png
ORGANIZER;CN="Bel Lago":MAILTO:info@bellago.com
END:VEVENT
BEGIN:VEVENT
DTSTART;TZID=America/Detroit:20250921T153000
DTEND;TZID=America/Detroit:20250921T173000
DTSTAMP:20260423T030011
CREATED:20250610T141703Z
LAST-MODIFIED:20250610T141819Z
UID:10007932-1758468600-1758475800@www.visitglenarbor.com
SUMMARY:Live Music at Bel Lago: Zeke Clemons
DESCRIPTION:Zeke Clemons is a versatile solo artist and singer-songwriter\, effortlessly blending genres and decades with crowd-pleasing favorites. From 1950s classics to modern hits\, his mix of covers and originals promises something for everyone.
URL:https://www.visitglenarbor.com/event/live-music-at-bel-lago-zeke-clemons/2025-09-21/
LOCATION:Bel Lago\, 6530 S LAKE SHORE DR\, CEDAR\, MI\, 49621-9615\, United States
CATEGORIES:Community Events,Music,Wine/Beer or Tasting Event
ATTACH;FMTTYPE=image/png:https://www.visitglenarbor.com/wp-content/uploads/2025/05/FVV-WINE-CLUB-RACK-CARD-3.png
ORGANIZER;CN="Bel Lago":MAILTO:info@bellago.com
END:VEVENT
BEGIN:VEVENT
DTSTART;TZID=America/Detroit:20250920T153000
DTEND;TZID=America/Detroit:20250920T173000
DTSTAMP:20260423T030011
CREATED:20250610T140441Z
LAST-MODIFIED:20250610T140441Z
UID:10007927-1758382200-1758389400@www.visitglenarbor.com
SUMMARY:Live Music at Bel Lago: Jesse Jefferson
DESCRIPTION:Join us for live music at Bel Lago. Enjoy performances by the talented Jesse Jefferson while you sip your favorite Bel Lago wines and take in the stunning scenery of Lake Leelanau – the perfect way to unwind. \nJesse is a one man band with a guitar and loop pedal who loves engaging with the audience and taking requests.
URL:https://www.visitglenarbor.com/event/live-music-at-bel-lago-jesse-jefferson/2025-09-20/
LOCATION:Bel Lago\, 6530 S LAKE SHORE DR\, CEDAR\, MI\, 49621-9615\, United States
CATEGORIES:Community Events,Music,Wine/Beer or Tasting Event
ATTACH;FMTTYPE=image/png:https://www.visitglenarbor.com/wp-content/uploads/2025/05/FVV-WINE-CLUB-RACK-CARD-3.png
ORGANIZER;CN="Bel Lago":MAILTO:info@bellago.com
END:VEVENT
BEGIN:VEVENT
DTSTART;TZID=America/Detroit:20250916T153000
DTEND;TZID=America/Detroit:20250916T173000
DTSTAMP:20260423T030011
CREATED:20250609T183555Z
LAST-MODIFIED:20250609T183643Z
UID:10007916-1758036600-1758043800@www.visitglenarbor.com
SUMMARY:Live Music at Bel Lago: Andre Villoch
DESCRIPTION:Join us for an evening of live music at Bel Lago. Enjoy performances by the talented Andre Villoch while you sip your favorite Bel Lago wines and take in the stunning scenery of Lake Leelanau – the perfect way to unwind.
URL:https://www.visitglenarbor.com/event/live-music-at-bel-lago-andre-villoch/2025-09-16/
LOCATION:Bel Lago\, 6530 S LAKE SHORE DR\, CEDAR\, MI\, 49621-9615\, United States
CATEGORIES:Community Events,Music,Wine/Beer or Tasting Event
ATTACH;FMTTYPE=image/png:https://www.visitglenarbor.com/wp-content/uploads/2025/05/FVV-WINE-CLUB-RACK-CARD-3.png
ORGANIZER;CN="Bel Lago":MAILTO:info@bellago.com
END:VEVENT
BEGIN:VEVENT
DTSTART;TZID=America/Detroit:20250914T153000
DTEND;TZID=America/Detroit:20250914T173000
DTSTAMP:20260423T030011
CREATED:20250610T143346Z
LAST-MODIFIED:20250610T143346Z
UID:10007935-1757863800-1757871000@www.visitglenarbor.com
SUMMARY:Live Music at Bel Lago: Larz Cabot
DESCRIPTION:Larz Cabot is a dynamic multi-instrumentalist\, singer\, and songwriter known for his energetic performances and unique sound. With a playful spirit and a knack for captivating audiences\, his music is sure to leave a lasting impression—like a rock that skips.
URL:https://www.visitglenarbor.com/event/live-music-at-bel-lago-larz-cabot/2025-09-14/
LOCATION:Bel Lago\, 6530 S LAKE SHORE DR\, CEDAR\, MI\, 49621-9615\, United States
CATEGORIES:Community Events,Music,Wine/Beer or Tasting Event
ATTACH;FMTTYPE=image/png:https://www.visitglenarbor.com/wp-content/uploads/2025/05/FVV-WINE-CLUB-RACK-CARD-3.png
ORGANIZER;CN="Bel Lago":MAILTO:info@bellago.com
END:VEVENT
BEGIN:VEVENT
DTSTART;TZID=America/Detroit:20250913T153000
DTEND;TZID=America/Detroit:20250913T173000
DTSTAMP:20260423T030011
CREATED:20250514T193224Z
LAST-MODIFIED:20250610T141418Z
UID:10007786-1757777400-1757784600@www.visitglenarbor.com
SUMMARY:Live Music at Bel Lago: Larry Perkins
DESCRIPTION:Join us at Bel Lago for live music with Larry Perkins. \nLarry Perkins is a seasoned musician with over 40 years of experience\, bringing his earthy originals and raspy renditions of classic rock to the Northern Michigan and Gulf Coast music scenes. Known for his heartfelt vocals and twisty guitar licks\, Larry’s unique style and high-energy performances are sure to get you on your feet.
URL:https://www.visitglenarbor.com/event/live-music-at-bel-lago-larry-perkins/2025-09-13/
LOCATION:Bel Lago\, 6530 S LAKE SHORE DR\, CEDAR\, MI\, 49621-9615\, United States
CATEGORIES:Music
ATTACH;FMTTYPE=image/png:https://www.visitglenarbor.com/wp-content/uploads/2025/05/FVV-WINE-CLUB-RACK-CARD-3.png
ORGANIZER;CN="Bel Lago":MAILTO:info@bellago.com
END:VEVENT
BEGIN:VEVENT
DTSTART;TZID=America/Detroit:20250909T153000
DTEND;TZID=America/Detroit:20250909T173000
DTSTAMP:20260423T030011
CREATED:20250515T151517Z
LAST-MODIFIED:20250515T151517Z
UID:10007799-1757431800-1757439000@www.visitglenarbor.com
SUMMARY:Live Music at Bel Lago: Dominic Fortuna
DESCRIPTION:Join us at Bel Lago for live music with Dominic Fortuna.
URL:https://www.visitglenarbor.com/event/live-music-at-bel-lago-dominic-fortuna/2025-09-09/
LOCATION:Bel Lago\, 6530 S LAKE SHORE DR\, CEDAR\, MI\, 49621-9615\, United States
CATEGORIES:Community Events,Music
ATTACH;FMTTYPE=image/png:https://www.visitglenarbor.com/wp-content/uploads/2025/05/FVV-WINE-CLUB-RACK-CARD-3.png
ORGANIZER;CN="Bel Lago":MAILTO:info@bellago.com
END:VEVENT
BEGIN:VEVENT
DTSTART;TZID=America/Detroit:20250907T153000
DTEND;TZID=America/Detroit:20250907T173000
DTSTAMP:20260423T030011
CREATED:20250515T171525Z
LAST-MODIFIED:20250515T171525Z
UID:10007802-1757259000-1757266200@www.visitglenarbor.com
SUMMARY:Live Music at Bel Lago: Nick Veine
DESCRIPTION:Join us at Bel Lago for live music with Nick Veine.  \nNick Veine brings an eclectic blend of blues\, country\, jazz\, and original tunes to every performance. Imagine Johnny Cash meets James Taylor with a touch of Alan Menken.
URL:https://www.visitglenarbor.com/event/live-music-at-bel-lago-nick-veine/2025-09-07/
LOCATION:Bel Lago\, 6530 S LAKE SHORE DR\, CEDAR\, MI\, 49621-9615\, United States
CATEGORIES:Community Events,Music,Wine/Beer or Tasting Event
ATTACH;FMTTYPE=image/png:https://www.visitglenarbor.com/wp-content/uploads/2025/05/FVV-WINE-CLUB-RACK-CARD-3.png
ORGANIZER;CN="Bel Lago":MAILTO:info@bellago.com
END:VEVENT
BEGIN:VEVENT
DTSTART;TZID=America/Detroit:20250906T153000
DTEND;TZID=America/Detroit:20250906T173000
DTSTAMP:20260423T030011
CREATED:20250515T131752Z
LAST-MODIFIED:20250515T131752Z
UID:10007791-1757172600-1757179800@www.visitglenarbor.com
SUMMARY:Live Music at Bel Lago: John Piatek
DESCRIPTION:Join us at Bel Lago for live music with John Piatek.  \nJohn Piatek is a guitarist\, specializing in original music and live performance. John and his wife Madeline perform together\, as the “Fridays.” John has a collection of original songs as well as perfected classics to share with the Northern Michigan community and beyond.
URL:https://www.visitglenarbor.com/event/live-music-at-bel-lago-john-piatek/2025-09-06/
LOCATION:Bel Lago\, 6530 S LAKE SHORE DR\, CEDAR\, MI\, 49621-9615\, United States
CATEGORIES:Community Events,Music
ORGANIZER;CN="Bel Lago":MAILTO:info@bellago.com
END:VEVENT
BEGIN:VEVENT
DTSTART;TZID=America/Detroit:20250902T153000
DTEND;TZID=America/Detroit:20250902T173000
DTSTAMP:20260423T030011
CREATED:20250515T192013Z
LAST-MODIFIED:20250515T192013Z
UID:10007808-1756827000-1756834200@www.visitglenarbor.com
SUMMARY:Live Music at Bel Lago: Luke Woltanski
DESCRIPTION:Join us at Bel Lago for live music with Luke Woltanski.  \nLuke Woltanski is known for his high-energy\, captivating performances that keep audiences of all ages engaged. Backed by a talented group of handpicked musicians\, Luke delivers an exciting mix of songs from every generation\, making each family-friendly show a unique musical experience.
URL:https://www.visitglenarbor.com/event/live-music-at-bel-lago-luke-woltanski/2025-09-02/
LOCATION:Bel Lago\, 6530 S LAKE SHORE DR\, CEDAR\, MI\, 49621-9615\, United States
CATEGORIES:Community Events,Music,Wine/Beer or Tasting Event
ATTACH;FMTTYPE=image/png:https://www.visitglenarbor.com/wp-content/uploads/2025/05/FVV-WINE-CLUB-RACK-CARD-3.png
ORGANIZER;CN="Bel Lago":MAILTO:info@bellago.com
END:VEVENT
BEGIN:VEVENT
DTSTART;TZID=America/Detroit:20250831T153000
DTEND;TZID=America/Detroit:20250831T173000
DTSTAMP:20260423T030011
CREATED:20250514T193224Z
LAST-MODIFIED:20250610T141418Z
UID:10007785-1756654200-1756661400@www.visitglenarbor.com
SUMMARY:Live Music at Bel Lago: Larry Perkins
DESCRIPTION:Join us at Bel Lago for live music with Larry Perkins. \nLarry Perkins is a seasoned musician with over 40 years of experience\, bringing his earthy originals and raspy renditions of classic rock to the Northern Michigan and Gulf Coast music scenes. Known for his heartfelt vocals and twisty guitar licks\, Larry’s unique style and high-energy performances are sure to get you on your feet.
URL:https://www.visitglenarbor.com/event/live-music-at-bel-lago-larry-perkins/2025-08-31/
LOCATION:Bel Lago\, 6530 S LAKE SHORE DR\, CEDAR\, MI\, 49621-9615\, United States
CATEGORIES:Music
ATTACH;FMTTYPE=image/png:https://www.visitglenarbor.com/wp-content/uploads/2025/05/FVV-WINE-CLUB-RACK-CARD-3.png
ORGANIZER;CN="Bel Lago":MAILTO:info@bellago.com
END:VEVENT
BEGIN:VEVENT
DTSTART;TZID=America/Detroit:20250830T153000
DTEND;TZID=America/Detroit:20250830T173000
DTSTAMP:20260423T030011
CREATED:20250515T151517Z
LAST-MODIFIED:20250515T151517Z
UID:10007798-1756567800-1756575000@www.visitglenarbor.com
SUMMARY:Live Music at Bel Lago: Dominic Fortuna
DESCRIPTION:Join us at Bel Lago for live music with Dominic Fortuna.
URL:https://www.visitglenarbor.com/event/live-music-at-bel-lago-dominic-fortuna/2025-08-30/
LOCATION:Bel Lago\, 6530 S LAKE SHORE DR\, CEDAR\, MI\, 49621-9615\, United States
CATEGORIES:Community Events,Music
ATTACH;FMTTYPE=image/png:https://www.visitglenarbor.com/wp-content/uploads/2025/05/FVV-WINE-CLUB-RACK-CARD-3.png
ORGANIZER;CN="Bel Lago":MAILTO:info@bellago.com
END:VEVENT
BEGIN:VEVENT
DTSTART;TZID=America/Detroit:20250829T173000
DTEND;TZID=America/Detroit:20250829T193000
DTSTAMP:20260423T030011
CREATED:20250610T144047Z
LAST-MODIFIED:20250610T144047Z
UID:10007937-1756488600-1756495800@www.visitglenarbor.com
SUMMARY:Live Music at Bel Lago: Swingbone North
DESCRIPTION:Hard bop\, swinging jazz standards and cool blues grooves are the calling cards for Swingbone North. Classics by Sinatra\, Nat King Cole\, Chet Baker\, John Coltrane\, Miles Davis\, Bill Withers\, Van Morrison and so many more.  Songs that you know\, vibes that you love. Come swing with us!
URL:https://www.visitglenarbor.com/event/live-music-at-bel-lago-swingbone-north/
LOCATION:Bel Lago\, 6530 S LAKE SHORE DR\, CEDAR\, MI\, 49621-9615\, United States
CATEGORIES:Community Events,Music,Wine/Beer or Tasting Event
ATTACH;FMTTYPE=image/png:https://www.visitglenarbor.com/wp-content/uploads/2025/05/FVV-WINE-CLUB-RACK-CARD-3.png
ORGANIZER;CN="Bel Lago":MAILTO:info@bellago.com
END:VEVENT
BEGIN:VEVENT
DTSTART;TZID=America/Detroit:20250826T173000
DTEND;TZID=America/Detroit:20250826T193000
DTSTAMP:20260423T030011
CREATED:20250610T141703Z
LAST-MODIFIED:20250610T141819Z
UID:10007931-1756229400-1756236600@www.visitglenarbor.com
SUMMARY:Live Music at Bel Lago: Zeke Clemons
DESCRIPTION:Zeke Clemons is a versatile solo artist and singer-songwriter\, effortlessly blending genres and decades with crowd-pleasing favorites. From 1950s classics to modern hits\, his mix of covers and originals promises something for everyone.
URL:https://www.visitglenarbor.com/event/live-music-at-bel-lago-zeke-clemons/2025-08-26/
LOCATION:Bel Lago\, 6530 S LAKE SHORE DR\, CEDAR\, MI\, 49621-9615\, United States
CATEGORIES:Community Events,Music,Wine/Beer or Tasting Event
ATTACH;FMTTYPE=image/png:https://www.visitglenarbor.com/wp-content/uploads/2025/05/FVV-WINE-CLUB-RACK-CARD-3.png
ORGANIZER;CN="Bel Lago":MAILTO:info@bellago.com
END:VEVENT
BEGIN:VEVENT
DTSTART;TZID=America/Detroit:20250824T153000
DTEND;TZID=America/Detroit:20250824T173000
DTSTAMP:20260423T030011
CREATED:20250610T143700Z
LAST-MODIFIED:20250610T143700Z
UID:10007936-1756049400-1756056600@www.visitglenarbor.com
SUMMARY:Live Music at Bel Lago: Jedi Clampetts
DESCRIPTION:Join us for live music at Bel Lago. Enjoy a performance by the talented Jedi Clampetts while you sip your favorite Bel Lago wines and take in the stunning scenery of Lake Leelanau – the perfect way to unwind.
URL:https://www.visitglenarbor.com/event/live-music-at-bel-lago-jedi-clampetts/
LOCATION:Bel Lago\, 6530 S LAKE SHORE DR\, CEDAR\, MI\, 49621-9615\, United States
CATEGORIES:Community Events,Music,Wine/Beer or Tasting Event
ATTACH;FMTTYPE=image/png:https://www.visitglenarbor.com/wp-content/uploads/2025/05/FVV-WINE-CLUB-RACK-CARD-3.png
ORGANIZER;CN="Bel Lago":MAILTO:info@bellago.com
END:VEVENT
BEGIN:VEVENT
DTSTART;TZID=America/Detroit:20250823T153000
DTEND;TZID=America/Detroit:20250823T173000
DTSTAMP:20260423T030011
CREATED:20250610T143346Z
LAST-MODIFIED:20250610T143346Z
UID:10007934-1755963000-1755970200@www.visitglenarbor.com
SUMMARY:Live Music at Bel Lago: Larz Cabot
DESCRIPTION:Larz Cabot is a dynamic multi-instrumentalist\, singer\, and songwriter known for his energetic performances and unique sound. With a playful spirit and a knack for captivating audiences\, his music is sure to leave a lasting impression—like a rock that skips.
URL:https://www.visitglenarbor.com/event/live-music-at-bel-lago-larz-cabot/2025-08-23/
LOCATION:Bel Lago\, 6530 S LAKE SHORE DR\, CEDAR\, MI\, 49621-9615\, United States
CATEGORIES:Community Events,Music,Wine/Beer or Tasting Event
ATTACH;FMTTYPE=image/png:https://www.visitglenarbor.com/wp-content/uploads/2025/05/FVV-WINE-CLUB-RACK-CARD-3.png
ORGANIZER;CN="Bel Lago":MAILTO:info@bellago.com
END:VEVENT
BEGIN:VEVENT
DTSTART;TZID=America/Detroit:20250822T173000
DTEND;TZID=America/Detroit:20250822T193000
DTSTAMP:20260423T030011
CREATED:20250515T192013Z
LAST-MODIFIED:20250515T192013Z
UID:10007807-1755883800-1755891000@www.visitglenarbor.com
SUMMARY:Live Music at Bel Lago: Luke Woltanski
DESCRIPTION:Join us at Bel Lago for live music with Luke Woltanski.  \nLuke Woltanski is known for his high-energy\, captivating performances that keep audiences of all ages engaged. Backed by a talented group of handpicked musicians\, Luke delivers an exciting mix of songs from every generation\, making each family-friendly show a unique musical experience.
URL:https://www.visitglenarbor.com/event/live-music-at-bel-lago-luke-woltanski/2025-08-22/
LOCATION:Bel Lago\, 6530 S LAKE SHORE DR\, CEDAR\, MI\, 49621-9615\, United States
CATEGORIES:Community Events,Music,Wine/Beer or Tasting Event
ATTACH;FMTTYPE=image/png:https://www.visitglenarbor.com/wp-content/uploads/2025/05/FVV-WINE-CLUB-RACK-CARD-3.png
ORGANIZER;CN="Bel Lago":MAILTO:info@bellago.com
END:VEVENT
BEGIN:VEVENT
DTSTART;TZID=America/Detroit:20250819T173000
DTEND;TZID=America/Detroit:20250819T193000
DTSTAMP:20260423T030011
CREATED:20250515T151517Z
LAST-MODIFIED:20250515T151517Z
UID:10007797-1755624600-1755631800@www.visitglenarbor.com
SUMMARY:Live Music at Bel Lago: Dominic Fortuna
DESCRIPTION:Join us at Bel Lago for live music with Dominic Fortuna.
URL:https://www.visitglenarbor.com/event/live-music-at-bel-lago-dominic-fortuna/2025-08-19/
LOCATION:Bel Lago\, 6530 S LAKE SHORE DR\, CEDAR\, MI\, 49621-9615\, United States
CATEGORIES:Community Events,Music
ATTACH;FMTTYPE=image/png:https://www.visitglenarbor.com/wp-content/uploads/2025/05/FVV-WINE-CLUB-RACK-CARD-3.png
ORGANIZER;CN="Bel Lago":MAILTO:info@bellago.com
END:VEVENT
BEGIN:VEVENT
DTSTART;TZID=America/Detroit:20250817T153000
DTEND;TZID=America/Detroit:20250817T173000
DTSTAMP:20260423T030011
CREATED:20250514T193224Z
LAST-MODIFIED:20250610T141418Z
UID:10007784-1755444600-1755451800@www.visitglenarbor.com
SUMMARY:Live Music at Bel Lago: Larry Perkins
DESCRIPTION:Join us at Bel Lago for live music with Larry Perkins. \nLarry Perkins is a seasoned musician with over 40 years of experience\, bringing his earthy originals and raspy renditions of classic rock to the Northern Michigan and Gulf Coast music scenes. Known for his heartfelt vocals and twisty guitar licks\, Larry’s unique style and high-energy performances are sure to get you on your feet.
URL:https://www.visitglenarbor.com/event/live-music-at-bel-lago-larry-perkins/2025-08-17/
LOCATION:Bel Lago\, 6530 S LAKE SHORE DR\, CEDAR\, MI\, 49621-9615\, United States
CATEGORIES:Music
ATTACH;FMTTYPE=image/png:https://www.visitglenarbor.com/wp-content/uploads/2025/05/FVV-WINE-CLUB-RACK-CARD-3.png
ORGANIZER;CN="Bel Lago":MAILTO:info@bellago.com
END:VEVENT
BEGIN:VEVENT
DTSTART;TZID=America/Detroit:20250816T160000
DTEND;TZID=America/Detroit:20250816T173000
DTSTAMP:20260423T030011
CREATED:20250516T165509Z
LAST-MODIFIED:20250610T142116Z
UID:10007933-1755360000-1755365400@www.visitglenarbor.com
SUMMARY:Live Music at Bel Lago: Delilah DeWylde
DESCRIPTION:Join us at Bel Lago for live music with Delilah DeWylde.
URL:https://www.visitglenarbor.com/event/live-music-at-bel-lago-delilah-dewylde/2025-08-16/
LOCATION:Bel Lago\, 6530 S LAKE SHORE DR\, CEDAR\, MI\, 49621-9615\, United States
CATEGORIES:Community Events,Music,Wine/Beer or Tasting Event
ATTACH;FMTTYPE=image/png:https://www.visitglenarbor.com/wp-content/uploads/2025/05/FVV-WINE-CLUB-RACK-CARD-3.png
ORGANIZER;CN="Bel Lago":MAILTO:info@bellago.com
END:VEVENT
END:VCALENDAR