BEGIN:VCALENDAR
VERSION:2.0
PRODID:-//Glen Lake Chamber of Commerce - ECPv6.15.19//NONSGML v1.0//EN
CALSCALE:GREGORIAN
METHOD:PUBLISH
X-WR-CALNAME:Glen Lake Chamber of Commerce
X-ORIGINAL-URL:https://www.visitglenarbor.com
X-WR-CALDESC:Events for Glen Lake Chamber of Commerce
REFRESH-INTERVAL;VALUE=DURATION:PT1H
X-Robots-Tag:noindex
X-PUBLISHED-TTL:PT1H
BEGIN:VTIMEZONE
TZID:America/Detroit
BEGIN:DAYLIGHT
TZOFFSETFROM:-0500
TZOFFSETTO:-0400
TZNAME:EDT
DTSTART:20140309T070000
END:DAYLIGHT
BEGIN:STANDARD
TZOFFSETFROM:-0400
TZOFFSETTO:-0500
TZNAME:EST
DTSTART:20141102T060000
END:STANDARD
BEGIN:DAYLIGHT
TZOFFSETFROM:-0500
TZOFFSETTO:-0400
TZNAME:EDT
DTSTART:20150308T070000
END:DAYLIGHT
BEGIN:STANDARD
TZOFFSETFROM:-0400
TZOFFSETTO:-0500
TZNAME:EST
DTSTART:20151101T060000
END:STANDARD
BEGIN:DAYLIGHT
TZOFFSETFROM:-0500
TZOFFSETTO:-0400
TZNAME:EDT
DTSTART:20160313T070000
END:DAYLIGHT
BEGIN:STANDARD
TZOFFSETFROM:-0400
TZOFFSETTO:-0500
TZNAME:EST
DTSTART:20161106T060000
END:STANDARD
END:VTIMEZONE
BEGIN:VEVENT
DTSTART;TZID=America/Detroit:20150813T200000
DTEND;TZID=America/Detroit:20150813T210000
DTSTAMP:20260423T185309
CREATED:20150813T232322Z
LAST-MODIFIED:20200309T054712Z
UID:10002573-1439496000-1439499600@www.visitglenarbor.com
SUMMARY:Yoga on the Beach
DESCRIPTION:Yoga on the Beach\nLet’s relax\, get some fresh air and enjoy yoga during sunset at Glen Haven Beach. Our next class will be Thursday\, August 13 at 8:00 – 9:00 PM at Glen Haven Beach by the Cannery. A suggested donation of $10 per person would be appreciated. For more information and to RSVP (Join)\, click here. \nYoga classes accepting donations for Friends of Sleeping Bear Dunes. Hosted by Yoga on the Beach\, Leelanau County\, Northern MI
URL:https://www.visitglenarbor.com/event/yoga-on-the-beach/
LOCATION:Glen Haven Cannery\, Glen Arbor\, MI\, MI\, 49636\, United States
CATEGORIES:Community Events,Recreation
END:VEVENT
END:VCALENDAR