BEGIN:VCALENDAR
VERSION:2.0
PRODID:-//Glen Lake Chamber of Commerce - ECPv6.15.19//NONSGML v1.0//EN
CALSCALE:GREGORIAN
METHOD:PUBLISH
X-ORIGINAL-URL:https://www.visitglenarbor.com
X-WR-CALDESC:Events for Glen Lake Chamber of Commerce
REFRESH-INTERVAL;VALUE=DURATION:PT1H
X-Robots-Tag:noindex
X-PUBLISHED-TTL:PT1H
BEGIN:VTIMEZONE
TZID:America/Detroit
BEGIN:DAYLIGHT
TZOFFSETFROM:-0500
TZOFFSETTO:-0400
TZNAME:EDT
DTSTART:20140309T070000
END:DAYLIGHT
BEGIN:STANDARD
TZOFFSETFROM:-0400
TZOFFSETTO:-0500
TZNAME:EST
DTSTART:20141102T060000
END:STANDARD
BEGIN:DAYLIGHT
TZOFFSETFROM:-0500
TZOFFSETTO:-0400
TZNAME:EDT
DTSTART:20150308T070000
END:DAYLIGHT
BEGIN:STANDARD
TZOFFSETFROM:-0400
TZOFFSETTO:-0500
TZNAME:EST
DTSTART:20151101T060000
END:STANDARD
BEGIN:DAYLIGHT
TZOFFSETFROM:-0500
TZOFFSETTO:-0400
TZNAME:EDT
DTSTART:20160313T070000
END:DAYLIGHT
BEGIN:STANDARD
TZOFFSETFROM:-0400
TZOFFSETTO:-0500
TZNAME:EST
DTSTART:20161106T060000
END:STANDARD
BEGIN:DAYLIGHT
TZOFFSETFROM:-0500
TZOFFSETTO:-0400
TZNAME:EDT
DTSTART:20170312T070000
END:DAYLIGHT
BEGIN:STANDARD
TZOFFSETFROM:-0400
TZOFFSETTO:-0500
TZNAME:EST
DTSTART:20171105T060000
END:STANDARD
END:VTIMEZONE
BEGIN:VEVENT
DTSTART;TZID=America/Detroit:20160725T090000
DTEND;TZID=America/Detroit:20160725T223000
DTSTAMP:20260421T042522
CREATED:20160624T202117Z
LAST-MODIFIED:20200309T054736Z
UID:10002699-1469437200-1469485800@www.visitglenarbor.com
SUMMARY:Monday Movies with Ernest Hemingway
DESCRIPTION:Monday Movies with Ernest Hemingway\nMonday July 11 and 25 at 9:00 p.m.\nBehind Forest Gallery\nJoin us for for Movie Night with Ernest Hemingway\, we will be showing two of the many film adaptations of his novels.\nThe original film version of A Farewell to Arms released in 1932 and starred Helen Hayes and Gary Cooper.\nTo Have or Have Not\, the great Bogey and Bacall star in this romance-war-adventure that released in 1944
URL:https://www.visitglenarbor.com/event/monday-movies-with-ernest-hemingway/
LOCATION:Forest Gallery\, 6023 S. Lake St.\, Glen Arbor\, MI\, 49636\, United States
CATEGORIES:Community Events,Local Business Event,Recreation
END:VEVENT
BEGIN:VEVENT
DTSTART;TZID=America/Detroit:20160720T110000
DTEND;TZID=America/Detroit:20160720T113000
DTSTAMP:20260421T042522
CREATED:20160624T202209Z
LAST-MODIFIED:20200309T054737Z
UID:10002700-1469012400-1469014200@www.visitglenarbor.com
SUMMARY:Lisa Maxbauer Price\, author of Squash Boom Beet Book Signing
DESCRIPTION:Lisa Maxbauer Price\, author of Squash Boom Beet\nWednesday\, July 20\nStorytime\, book signing and craft \nSquash Boom Beet\nBy Lisa Maxbauer Price\n$18.95\nTasting new vegetables can be an exciting adventure for  children\, especially when trying foods like dragon tongue beans\, dinosaur kale\, fairy tale eggplant and candy cane beets. Journey from A to Z and enjoy beautiful photography of exciting farm foods: everything from awesome Asparagus to green tiger Zucchini. Kids will love this new book all about fun foods\, and parents will love how it inspires and educates their little ones to be brave\, healthy eaters!\n(Ages 2 and up)
URL:https://www.visitglenarbor.com/event/lisa-maxbauer-price-author-of-squash-boom-beet-book-signing/
LOCATION:Cottage Book Shop\, 5989 Lake St\, Glen Arbor\, MI\, 49636\, United States
CATEGORIES:Kids + Family Friendly,Local Business Event,Recreation
END:VEVENT
BEGIN:VEVENT
DTSTART;TZID=America/Detroit:20150622T130000
DTEND;TZID=America/Detroit:20150622T150000
DTSTAMP:20260421T042522
CREATED:20150602T231425Z
LAST-MODIFIED:20150602T231425Z
UID:10002481-1434978000-1434985200@www.visitglenarbor.com
SUMMARY:"Up North" Book Launch of Vintage Views Along Scenic M-22 including Sleeping Bear Dunes
DESCRIPTION:Up North Book Launch of Vintage Views Along Scenic M-22 including Sleeping Bear Dunes\nBy M. Christine Byron and Thomas R. Wilson\nSunday June 21 from 1 to 3 p.m.\nVintage Views Along Scenic M-22 including Sleeping Bear Dunes (Vintage Views Press $40.00\, due June 21) follows a trail of vacationers and travelers along one of Michigan’s most scenic roads. M-22 winds through northern Manistee County\, along the western side of Benzie County and outlines the Leelanau Peninsula. Vintage postcards\, photographs\, maps and advertisements illustrate a time when M-22 first beckoned motorists to come north to the land of beautiful beaches and sand dunes\, lakes and rivers\, forests and woodlands\, farms and orchards. Featured are quaint towns and villages\, old hotels and resorts\, and attractions along the road. You’ll visit lighthouses and life saving stations\, take a trip in a dunesmobile\, fish for Mackinaw trout\, and shop for souvenirs. You’ll visit state parks and learn how Sleeping Bear Dunes became a National Lakeshore.\nTo reserve your copy call 231-334-4223.
URL:https://www.visitglenarbor.com/event/up-north-book-launch-of-vintage-views-along-scenic-m-22-including-sleeping-bear-dunes/
LOCATION:Cottage Book Shop\, 5989 Lake St\, Glen Arbor\, MI\, 49636\, United States
CATEGORIES:Local Business Event
ATTACH;FMTTYPE=:
END:VEVENT
END:VCALENDAR