BEGIN:VCALENDAR
VERSION:2.0
PRODID:-//Glen Lake Chamber of Commerce - ECPv6.15.19//NONSGML v1.0//EN
CALSCALE:GREGORIAN
METHOD:PUBLISH
X-WR-CALNAME:Glen Lake Chamber of Commerce
X-ORIGINAL-URL:https://www.visitglenarbor.com
X-WR-CALDESC:Events for Glen Lake Chamber of Commerce
REFRESH-INTERVAL;VALUE=DURATION:PT1H
X-Robots-Tag:noindex
X-PUBLISHED-TTL:PT1H
BEGIN:VTIMEZONE
TZID:America/Detroit
BEGIN:DAYLIGHT
TZOFFSETFROM:-0500
TZOFFSETTO:-0400
TZNAME:EDT
DTSTART:20150308T070000
END:DAYLIGHT
BEGIN:STANDARD
TZOFFSETFROM:-0400
TZOFFSETTO:-0500
TZNAME:EST
DTSTART:20151101T060000
END:STANDARD
BEGIN:DAYLIGHT
TZOFFSETFROM:-0500
TZOFFSETTO:-0400
TZNAME:EDT
DTSTART:20160313T070000
END:DAYLIGHT
BEGIN:STANDARD
TZOFFSETFROM:-0400
TZOFFSETTO:-0500
TZNAME:EST
DTSTART:20161106T060000
END:STANDARD
BEGIN:DAYLIGHT
TZOFFSETFROM:-0500
TZOFFSETTO:-0400
TZNAME:EDT
DTSTART:20170312T070000
END:DAYLIGHT
BEGIN:STANDARD
TZOFFSETFROM:-0400
TZOFFSETTO:-0500
TZNAME:EST
DTSTART:20171105T060000
END:STANDARD
END:VTIMEZONE
BEGIN:VEVENT
DTSTART;TZID=America/Detroit:20160502T090000
DTEND;TZID=America/Detroit:20160530T170000
DTSTAMP:20260420T035336
CREATED:20160412T003232Z
LAST-MODIFIED:20200309T054020Z
UID:10002478-1462179600-1464627600@www.visitglenarbor.com
SUMMARY:Nature's Palette
DESCRIPTION:The Visitor Center at the Botanic Garden along with Studio One 6 presents Nature’s Palette. This is a fine art exhibition featuring the exceptional paintings of 14 local artists. The exhibition dates are May 2 through May 30\, 2016. The hours are Monday – Saturday 9:00 a.m. to 5:00 p.m. and Sunday 12:30 p.m. to 5:00 p.m. The Botanic Garden is located with Historic Barns Park on the ground of Grand Traverse Commons. A portion of the sales supports the Botanic Garden.
URL:https://www.visitglenarbor.com/event/natures-palette/
ORGANIZER;CN="Studio One 6 and Botanic Garden":MAILTO:grow@thebotanicgarden.com
END:VEVENT
END:VCALENDAR