BEGIN:VCALENDAR
VERSION:2.0
PRODID:-//Glen Lake Chamber of Commerce - ECPv6.15.19//NONSGML v1.0//EN
CALSCALE:GREGORIAN
METHOD:PUBLISH
X-ORIGINAL-URL:https://www.visitglenarbor.com
X-WR-CALDESC:Events for Glen Lake Chamber of Commerce
REFRESH-INTERVAL;VALUE=DURATION:PT1H
X-Robots-Tag:noindex
X-PUBLISHED-TTL:PT1H
BEGIN:VTIMEZONE
TZID:America/Detroit
BEGIN:DAYLIGHT
TZOFFSETFROM:-0500
TZOFFSETTO:-0400
TZNAME:EDT
DTSTART:20180311T070000
END:DAYLIGHT
BEGIN:STANDARD
TZOFFSETFROM:-0400
TZOFFSETTO:-0500
TZNAME:EST
DTSTART:20181104T060000
END:STANDARD
BEGIN:DAYLIGHT
TZOFFSETFROM:-0500
TZOFFSETTO:-0400
TZNAME:EDT
DTSTART:20190310T070000
END:DAYLIGHT
BEGIN:STANDARD
TZOFFSETFROM:-0400
TZOFFSETTO:-0500
TZNAME:EST
DTSTART:20191103T060000
END:STANDARD
BEGIN:DAYLIGHT
TZOFFSETFROM:-0500
TZOFFSETTO:-0400
TZNAME:EDT
DTSTART:20200308T070000
END:DAYLIGHT
BEGIN:STANDARD
TZOFFSETFROM:-0400
TZOFFSETTO:-0500
TZNAME:EST
DTSTART:20201101T060000
END:STANDARD
END:VTIMEZONE
BEGIN:VEVENT
DTSTART;TZID=America/Detroit:20190925T093000
DTEND;TZID=America/Detroit:20190925T170000
DTSTAMP:20260421T214552
CREATED:20190910T222838Z
LAST-MODIFIED:20200309T055015Z
UID:10003022-1569403800-1569430800@www.visitglenarbor.com
SUMMARY:Sleeping Bear Gateways Community Conference: Frankfort Garden Theater
DESCRIPTION:Sleeping Bear Gateway Council (SBGC) is sponsoring a workshop/conference about the National Park Gateway Community to discuss the issues and opportunities surrounding Gateway Communities on Sept. 24 and 25\, 2019. This workshop is open to Businesses\, Municipal leaders and Community members.\n \n\n\n\n\nDestry Jarvis is the guest speaker. Mr. Jarvis has 46 years working on natural and cultural resources management\, public land management practices\, and national park and gateway community issues and strategies.\n\nFACTS:\n\n•2020 marks the 50th anniversary of the Sleeping Bear Dunes National Lakeshore. •1.7 million visitors enjoyed the Sleeping Bear National Park in 2017. •The 50 millionth visitor was logged into the park headquarters in August 2019. \nSCHEDULE OF EVENTS:\n\n\n\n\nSeptember 24\, 2019 – Glen Arbor Township Hall\n\n\n\n\n9:30 – 11:00 – Business owners and Entrepreneurs  \n12:30 – 2:00 – Workshop – Board \n3:30 – 5:00 –    Municipal\, Non-profits\, and Resident \n\n\nSeptember 25\, 2019 – Frankfort Garden Theater\n\n\n\n\n9:30 – 11:00 – Municipal\, Non Profits\, and Residents Workshop  \n12:30 – 2:00 – Workshop- Board \n3:30 – 5:00 –   Business owners and Entrepreneurs \n\n\nThe mission of the Sleeping Bear Gateway Council is as follows:\n\n\n\n\n“In anticipation of continued rapid growth of residents and visitors to the Sleeping Bear Dunes Area\, we seek to work with local communities\, stakeholders\, and the National Park Service in preserving the unique character and natural resources of the area for the benefit of its citizens\, visitors\, economy and environment.”  \n\n\n\n\n\n\n\n\n\n\n\nWe would also like to encourage you to attend one of the workshops and also support our group by becoming a member of SBGC or by becoming a Workshop sponsor. Please contact president Mike Rlvard at (617)838-1272 or email Judy Cheney: judygcheney@gmail.com
URL:https://www.visitglenarbor.com/event/sleeping-bear-gateways-community-conference-frankfort-garden-theater/
LOCATION:Frankfort Garden Theater\, 301 Main St\, Frankfort\, MI\, 49635
CATEGORIES:Community Events
ORGANIZER;CN="Sleeping Bear Gateways Council":MAILTO:judygcheney@gmail.com
END:VEVENT
BEGIN:VEVENT
DTSTART;TZID=America/Detroit:20190924T093000
DTEND;TZID=America/Detroit:20190924T170000
DTSTAMP:20260421T214552
CREATED:20190910T222415Z
LAST-MODIFIED:20200309T055014Z
UID:10003020-1569317400-1569344400@www.visitglenarbor.com
SUMMARY:Sleeping Bear Gateways Community Conference
DESCRIPTION:Sleeping Bear Gateway Council (SBGC) is sponsoring a workshop/conference about the National Park Gateway Community to discuss the issues and opportunities surrounding Gateway Communities on Sept. 24 and 25\, 2019. This workshop is open to Businesses\, Municipal leaders and Community members.\n \n\n\n\n\nDestry Jarvis is the guest speaker. Mr. Jarvis has 46 years working on natural and cultural resources management\, public land management practices\, and national park and gateway community issues and strategies.\n \n\nFACTS:\n\n•2020 marks the 50th anniversary of the Sleeping Bear Dunes National Lakeshore. •1.7 million visitors enjoyed the Sleeping Bear National Park in 2017. •The 50 millionth visitor was logged into the park headquarters in August 2019. \n \nSCHEDULE OF EVENTS:\n\n\n\n\nSeptember 24\, 2019 – Glen Arbor Township Hall- Workshop schedule\n\n\n\n\n9:30 – 11:00 – Business owners and Entrepreneurs  \n12:30 – 2:00 – Workshop – Board \n3:30 – 5:00 –    Municipal\, Non-profits\, and Resident \n\n\nSeptember 25\, 2019 – Frankfort Garden Theater\n\n\n\n\n9:30 – 11:00 – Municipal\, Non Profits\, and Residents Workshop  \n12:30 – 2:00 – Workshop- Board \n3:30 – 5:00-   Business owners and Entrepreneurs \n\n\nThe mission of the Sleeping Bear Gateway Council is as follows:\n\n\n\n\n“In anticipation of continued rapid growth of residents and visitors to the Sleeping Bear Dunes Area\, we seek to work with local communities\, stakeholders\, and the National Park Service in preserving the unique character and natural resources of the area for the benefit of its citizens\, visitors\, economy and environment.”  \n\n\n\n\n\n\n\n\n\n\n\nWe would also like to encourage you to attend one of the workshops and also support our group by becoming a member of SBGC or by becoming a Workshop sponsor. Please contact president Mike Rlvard at (617)838-1272 or email Judy Cheney: judygcheney@gmail.com
URL:https://www.visitglenarbor.com/event/sleeping-bear-gateways-community-conference/
LOCATION:Glen Arbor Township Hall
CATEGORIES:Community Events
ORGANIZER;CN="Sleeping Bear Gateways Council":MAILTO:judygcheney@gmail.com
END:VEVENT
END:VCALENDAR