BEGIN:VCALENDAR
VERSION:2.0
PRODID:-//Glen Lake Chamber of Commerce - ECPv6.15.19//NONSGML v1.0//EN
CALSCALE:GREGORIAN
METHOD:PUBLISH
X-WR-CALNAME:Glen Lake Chamber of Commerce
X-ORIGINAL-URL:https://www.visitglenarbor.com
X-WR-CALDESC:Events for Glen Lake Chamber of Commerce
REFRESH-INTERVAL;VALUE=DURATION:PT1H
X-Robots-Tag:noindex
X-PUBLISHED-TTL:PT1H
BEGIN:VTIMEZONE
TZID:America/Detroit
BEGIN:DAYLIGHT
TZOFFSETFROM:-0500
TZOFFSETTO:-0400
TZNAME:EDT
DTSTART:20180311T070000
END:DAYLIGHT
BEGIN:STANDARD
TZOFFSETFROM:-0400
TZOFFSETTO:-0500
TZNAME:EST
DTSTART:20181104T060000
END:STANDARD
BEGIN:DAYLIGHT
TZOFFSETFROM:-0500
TZOFFSETTO:-0400
TZNAME:EDT
DTSTART:20190310T070000
END:DAYLIGHT
BEGIN:STANDARD
TZOFFSETFROM:-0400
TZOFFSETTO:-0500
TZNAME:EST
DTSTART:20191103T060000
END:STANDARD
BEGIN:DAYLIGHT
TZOFFSETFROM:-0500
TZOFFSETTO:-0400
TZNAME:EDT
DTSTART:20200308T070000
END:DAYLIGHT
BEGIN:STANDARD
TZOFFSETFROM:-0400
TZOFFSETTO:-0500
TZNAME:EST
DTSTART:20201101T060000
END:STANDARD
BEGIN:DAYLIGHT
TZOFFSETFROM:-0500
TZOFFSETTO:-0400
TZNAME:EDT
DTSTART:20210314T070000
END:DAYLIGHT
BEGIN:STANDARD
TZOFFSETFROM:-0400
TZOFFSETTO:-0500
TZNAME:EST
DTSTART:20211107T060000
END:STANDARD
BEGIN:DAYLIGHT
TZOFFSETFROM:-0500
TZOFFSETTO:-0400
TZNAME:EDT
DTSTART:20220313T070000
END:DAYLIGHT
BEGIN:STANDARD
TZOFFSETFROM:-0400
TZOFFSETTO:-0500
TZNAME:EST
DTSTART:20221106T060000
END:STANDARD
BEGIN:DAYLIGHT
TZOFFSETFROM:-0500
TZOFFSETTO:-0400
TZNAME:EDT
DTSTART:20230312T070000
END:DAYLIGHT
BEGIN:STANDARD
TZOFFSETFROM:-0400
TZOFFSETTO:-0500
TZNAME:EST
DTSTART:20231105T060000
END:STANDARD
BEGIN:DAYLIGHT
TZOFFSETFROM:-0500
TZOFFSETTO:-0400
TZNAME:EDT
DTSTART:20240310T070000
END:DAYLIGHT
BEGIN:STANDARD
TZOFFSETFROM:-0400
TZOFFSETTO:-0500
TZNAME:EST
DTSTART:20241103T060000
END:STANDARD
END:VTIMEZONE
BEGIN:VEVENT
DTSTART;TZID=America/Detroit:20231209T160000
DTEND;TZID=America/Detroit:20231209T173000
DTSTAMP:20260422T140205
CREATED:20231105T192223Z
LAST-MODIFIED:20231107T182728Z
UID:10005291-1702137600-1702143000@www.visitglenarbor.com
SUMMARY:Manitou Winds presents Winter Songs & Carols
DESCRIPTION:Now celebrating its ninth season\, Winter Songs & Carols is our musical celebration of the holidays. More than a concert of holiday-themed music\, it’s an invitation to explore the many moods of winter. \nAs always\, the ensemble brings an eclectic offering of exciting instrumentals featuring winds\, guitar\, harp\, and piano. In addition\, we’re excited to be joined by special guest soloist Emily Curtin Culler\, soprano\, plus a choir featuring the voices of many talented community members under the direction of Michael Beery. Together we’ll unveil four brand-new arrangements by Jason McKinney for full choir and Manitou Winds! \nThis festive evening of traditional carols\, holiday favorites\, and wintry originals interspersed with inspiring spoken word is a wonderful way to begin your holiday season. \nAdmission is FREE. Proceeds from a freewill offering will benefit a ministry of St. Andrews. \nVisit ManitouWinds.com for more information\, and stay tuned to our Facebook page for inside details about this year’s special program!
URL:https://www.visitglenarbor.com/event/manitou-winds-presents-winter-songs-carols/
LOCATION:St. Andrews Presbyterian Church\, 8190 Lincoln Rd.\, Beulah\, 49617\, United States
CATEGORIES:Music
ATTACH;FMTTYPE=image/png:https://www.visitglenarbor.com/wp-content/uploads/2023/11/generic_image.png
ORGANIZER;CN="Manitou Winds":MAILTO:manitouwinds@gmail.com
END:VEVENT
BEGIN:VEVENT
DTSTART;TZID=America/Detroit:20191213T193000
DTEND;TZID=America/Detroit:20191213T210000
DTSTAMP:20260422T140205
CREATED:20191021T180221Z
LAST-MODIFIED:20200309T054758Z
UID:10004182-1576265400-1576270800@www.visitglenarbor.com
SUMMARY:Winter Songs & Carols
DESCRIPTION:Friday\, Dec. 13 @ 7:30pm to 9pm\, Manitou Winds will be performing their annual “Winter Songs & Carols” at The Leelanau School\, located at 1 Old Homestead Rd.\, in Glen Arbor\, MI.\nThe event is FREE to attend; Goodwill donations to benefit art/music programs at The Leelanau School and Manitou Winds.\nPerformed in the festively-decorated dining hall\, this special presentation is a chance to hear our one-of-a-kind program performed in an intimate setting welcoming our friends\, neighbors\, and also newcomers.\n\nMore than a concert filled with holiday-themed music\, Winter Songs & Carols is an invitation to celebrate the entire season of winter. Our annual winter presentation brings together the entire ensemble performing on a wide variety of instruments in an eclectic program of traditional carols and original compositions. \nOur 2019 program will feature some of your favorites from past seasons while boasting seven brand new works including familiar holiday tunes and a few surprises you definitely won’t hear anywhere else. The program also includes selected poetry and prose to get you in the holiday spirit: an inspiring mix of music and spoken word to create a contemplative start to the season. Join us and our special guest\, soprano Emily Curtin Culler\, as we welcome winter home to Northern Michigan. \n\n \nMore details are found here: https://manitouwinds.com/upcoming-performances/\n 
URL:https://www.visitglenarbor.com/event/winter-songs-carols/
LOCATION:The Leelanau School\, 1 Old Homestead Road\, Glen Arbor\, Michigan\, 49636
CATEGORIES:Community Events,Music
ATTACH;FMTTYPE=image/jpeg:https://www.visitglenarbor.com/wp-content/uploads/2020/03/Manitou-Winds-logo_rgb_low-res-1.jpg
ORGANIZER;CN="Manitou Winds":MAILTO:manitouwinds@gmail.com
END:VEVENT
END:VCALENDAR