BEGIN:VCALENDAR
VERSION:2.0
PRODID:-//Glen Lake Chamber of Commerce - ECPv6.15.19//NONSGML v1.0//EN
CALSCALE:GREGORIAN
METHOD:PUBLISH
X-ORIGINAL-URL:https://www.visitglenarbor.com
X-WR-CALDESC:Events for Glen Lake Chamber of Commerce
REFRESH-INTERVAL;VALUE=DURATION:PT1H
X-Robots-Tag:noindex
X-PUBLISHED-TTL:PT1H
BEGIN:VTIMEZONE
TZID:America/Detroit
BEGIN:DAYLIGHT
TZOFFSETFROM:-0500
TZOFFSETTO:-0400
TZNAME:EDT
DTSTART:20150308T070000
END:DAYLIGHT
BEGIN:STANDARD
TZOFFSETFROM:-0400
TZOFFSETTO:-0500
TZNAME:EST
DTSTART:20151101T060000
END:STANDARD
BEGIN:DAYLIGHT
TZOFFSETFROM:-0500
TZOFFSETTO:-0400
TZNAME:EDT
DTSTART:20160313T070000
END:DAYLIGHT
BEGIN:STANDARD
TZOFFSETFROM:-0400
TZOFFSETTO:-0500
TZNAME:EST
DTSTART:20161106T060000
END:STANDARD
BEGIN:DAYLIGHT
TZOFFSETFROM:-0500
TZOFFSETTO:-0400
TZNAME:EDT
DTSTART:20170312T070000
END:DAYLIGHT
BEGIN:STANDARD
TZOFFSETFROM:-0400
TZOFFSETTO:-0500
TZNAME:EST
DTSTART:20171105T060000
END:STANDARD
BEGIN:DAYLIGHT
TZOFFSETFROM:-0500
TZOFFSETTO:-0400
TZNAME:EDT
DTSTART:20180311T070000
END:DAYLIGHT
BEGIN:STANDARD
TZOFFSETFROM:-0400
TZOFFSETTO:-0500
TZNAME:EST
DTSTART:20181104T060000
END:STANDARD
BEGIN:DAYLIGHT
TZOFFSETFROM:-0500
TZOFFSETTO:-0400
TZNAME:EDT
DTSTART:20190310T070000
END:DAYLIGHT
BEGIN:STANDARD
TZOFFSETFROM:-0400
TZOFFSETTO:-0500
TZNAME:EST
DTSTART:20191103T060000
END:STANDARD
BEGIN:DAYLIGHT
TZOFFSETFROM:-0500
TZOFFSETTO:-0400
TZNAME:EDT
DTSTART:20200308T070000
END:DAYLIGHT
BEGIN:STANDARD
TZOFFSETFROM:-0400
TZOFFSETTO:-0500
TZNAME:EST
DTSTART:20201101T060000
END:STANDARD
BEGIN:DAYLIGHT
TZOFFSETFROM:-0500
TZOFFSETTO:-0400
TZNAME:EDT
DTSTART:20210314T070000
END:DAYLIGHT
BEGIN:STANDARD
TZOFFSETFROM:-0400
TZOFFSETTO:-0500
TZNAME:EST
DTSTART:20211107T060000
END:STANDARD
BEGIN:DAYLIGHT
TZOFFSETFROM:-0500
TZOFFSETTO:-0400
TZNAME:EDT
DTSTART:20220313T070000
END:DAYLIGHT
BEGIN:STANDARD
TZOFFSETFROM:-0400
TZOFFSETTO:-0500
TZNAME:EST
DTSTART:20221106T060000
END:STANDARD
END:VTIMEZONE
BEGIN:VEVENT
DTSTART;VALUE=DATE:20211001
DTEND;VALUE=DATE:20211030
DTSTAMP:20260423T191433
CREATED:20210921T161213Z
LAST-MODIFIED:20210924T125612Z
UID:10004376-1633046400-1635551999@www.visitglenarbor.com
SUMMARY:Hunt for the Reds of October
DESCRIPTION:Leelanau Peninsula has become well-known for its incredible ability to craft and produce wines such as Chardonnay\, Sauvignon Blanc and other beautiful cool-climate white wines. What is often overlooked; however\, is the regions unique ability to grow and create some worlds finest red wine varietals\, ranging from Cabernet Franc\, Blaufränkisch\, Pinot Noir and more! \n\n\n\nThe LP Wine Trail hosts a fun event that allows consumers to indulge in many of the reds available on the Leelanau Peninsula. \n\n\n\nEnjoy the event for an entire month on weekdays at participating wineries. (Saturdays & Sundays Excluded) to celebrate our annual ‘Hunt For The Reds of October’ event. Enticing you with the beautiful landscapes of the Autumn season in Northern Michigan paired with some of the finest red wines in the world. \n\n\n\nEvent benefits include a pour of selected red\, from each of the participating wineries. Tickets are $35.00 each and for every ticket sold\, $5.00 goes to the American Red Cross Association. \n\n\n\nGet Tickets • View the various Winery Loops
URL:https://www.visitglenarbor.com/event/hunt-for-the-reds-of-october-2021/
LOCATION:MI\, United States
CATEGORIES:Food/Dining Event,Wine/Beer or Tasting Event
ATTACH;FMTTYPE=image/png:https://www.visitglenarbor.com/wp-content/uploads/2021/09/Screen-Shot-2021-09-21-at-12.10.43-PM-e1632488194437.png
ORGANIZER;CN="Leelanau Peninsula Wine Trail":MAILTO:info@lpwines.com
END:VEVENT
BEGIN:VEVENT
DTSTART;TZID=America/Detroit:20190323T120000
DTEND;TZID=America/Detroit:20190323T170000
DTSTAMP:20260423T191433
CREATED:20181214T205227Z
LAST-MODIFIED:20181214T205227Z
UID:10003208-1553342400-1553360400@www.visitglenarbor.com
SUMMARY:Sips\, Chips & Dips
DESCRIPTION:Sips\, Chips & Dips\nLeelanau Peninsula Wine Trail\nSaturday\, March 23\, 2019\n12 PM to 5 PM\n$10 per person \nJoin the casual fun on Saturday\, March 23\, 2019\, from 12 PM to 5 PM as participating wineries pair everyday snacks with Leelanau wine. This is a fantastic way to try lots of your favorite munchies and see how great they taste when complemented by wine. Tickets are $10 per person and include a snack-and-wine pairing at each participating winery\, along with a fun souvenir wine glass. \nMore info and tickets: https://www.lpwines.com/events/sips-chips-dips/
URL:https://www.visitglenarbor.com/event/sips-chips-dips/
LOCATION:Leelanau Peninsula Wine Trail\, 10781 E Cherry Bend Road\, Studio 1\, Traverse City\, MI\, 49684\, United States
CATEGORIES:Community Events,Food/Dining Event,Local Business Event,Wine/Beer or Tasting Event
ATTACH;FMTTYPE=:
ORGANIZER;CN="Leelanau Peninsula Wine Trail":MAILTO:info@lpwines.com
END:VEVENT
BEGIN:VEVENT
DTSTART;TZID=America/Detroit:20190209T110000
DTEND;TZID=America/Detroit:20190210T170000
DTSTAMP:20260423T191433
CREATED:20181214T205246Z
LAST-MODIFIED:20181214T205246Z
UID:10003207-1549710000-1549818000@www.visitglenarbor.com
SUMMARY:Taste the Passion
DESCRIPTION:Taste the Passion\nLeelanau Peninsula Wine Trail\nSaturday & Sunday\, February 9 & 10\, 2019\n$40 per person \nJoin Taste the Passion – the SWEETEST event of the year! Winter Wonderland is here\, and there’s “snow” much fun to be had along the trail! Gather your friends and embark on an adventure of snow-covered vineyards and sweet and savory bites paired with amazing wine\, a Snow Fun Photo Contest\, pop-up shopping and the chance to create your own wintery bliss. This fun-filled winter celebration along the Leelanau Peninsula Wine Trail takes place Saturday\, February 9\, from 11 AM to 5 PM and Sunday\, February 10\, from 12 PM to 5 PM. Tickets are $40 per person for both days and include a souvenir wine glass and delish wine and food pairings at each of the 24 participating wineries. Whether you’re hand-in-hand with your valentine or traversing the trail with your gal pals\, it’s sure to be an unforgettable blast! Ages 21+\, no refunds. \nMore info and tickets: https://www.lpwines.com/events/taste-the-passion/
URL:https://www.visitglenarbor.com/event/taste-the-passion-2/
LOCATION:Leelanau Peninsula Wine Trail\, 10781 E Cherry Bend Road\, Studio 1\, Traverse City\, MI\, 49684\, United States
CATEGORIES:Wine/Beer or Tasting Event
ATTACH;FMTTYPE=:
ORGANIZER;CN="Leelanau Peninsula Wine Trail":MAILTO:info@lpwines.com
END:VEVENT
BEGIN:VEVENT
DTSTART;TZID=America/Detroit:20190112T120000
DTEND;TZID=America/Detroit:20190112T170000
DTSTAMP:20260423T191433
CREATED:20181214T205301Z
LAST-MODIFIED:20181214T205301Z
UID:10003204-1547294400-1547312400@www.visitglenarbor.com
SUMMARY:Sips & Soups
DESCRIPTION:Sips & Soups\nLeelanau Peninsula Wine Trail\nSaturday\, January 12\, 2019\n12 to 5 pm\n$20 per person \nExperience the magic of the wine trail covered in a glistening blanket of snow\, while sipping savory soups and hearty chilis paired with delicious Pinot Noirs\, Rieslings\, Chardonnays and more! Tickets to this SOUPer event are $20 and include a souvenir wine glass and soup and wine pairings at 20 wineries. In addition\, $5 for each ticket sold is being donated to local food banks coordinated by Leelanau Christian Neighbors. Ages 21+\, no refunds. \nMore info and tickets: https://www.lpwines.com/events/sips-soups/
URL:https://www.visitglenarbor.com/event/sips-soups-2/
LOCATION:Leelanau Peninsula Wine Trail\, 10781 E Cherry Bend Road\, Studio 1\, Traverse City\, MI\, 49684\, United States
CATEGORIES:Food/Dining Event,Wine/Beer or Tasting Event
ATTACH;FMTTYPE=:
ORGANIZER;CN="Leelanau Peninsula Wine Trail":MAILTO:info@lpwines.com
END:VEVENT
BEGIN:VEVENT
DTSTART;TZID=America/Detroit:20170408T180000
DTEND;TZID=America/Detroit:20170408T210000
DTSTAMP:20260423T191433
CREATED:20170310T014032Z
LAST-MODIFIED:20200309T054808Z
UID:10002851-1491674400-1491685200@www.visitglenarbor.com
SUMMARY:Small Plates
DESCRIPTION:Small Plates – A Progressive Dinner: April 8th\, with Seatings and 6\, 7 and 8pm \nDine with Leelanau Winemakers! \nThe next wildly popular Small Plates\, an intimate progressive dinner\, is Saturday\, April 8\, 2017 from 6:00 to 9:00 pm. Enjoy a glass of wine paired with a gourmet tapas dish in the tasting rooms during this progressive dinner. Many wineries partner with local chefs to prepare and serve each delicious pairing. Culinary aficionados will enjoy this upscale\, gourmet food event! \nTickets are $15 per seating\, and you may get tickets for one\, two or three seatings\, each at the winery of your choice. Seating times are roughly 6:00 pm\, 7:00 pm and 8:00 pm. Tickets must be ordered in advance for this event and always sell out quickly\, so be sure to get yours today!
URL:https://www.visitglenarbor.com/event/small-plates/
LOCATION:Leelanau Peninsula Wine Trail\, 10781 E Cherry Bend Road\, Studio 1\, Traverse City\, MI\, 49684\, United States
CATEGORIES:Food/Dining Event
ATTACH;FMTTYPE=image/jpeg:https://www.visitglenarbor.com/wp-content/uploads/2020/03/SmallPlates-470x246-banner.jpg
ORGANIZER;CN="Leelanau Peninsula Wine Trail":MAILTO:info@lpwines.com
END:VEVENT
BEGIN:VEVENT
DTSTART;TZID=America/Detroit:20170211T110000
DTEND;TZID=America/Detroit:20170211T170000
DTSTAMP:20260423T191433
CREATED:20170131T195150Z
LAST-MODIFIED:20200309T054914Z
UID:10002843-1486810800-1486832400@www.visitglenarbor.com
SUMMARY:Taste the Passion
DESCRIPTION:Winter Wonderland is here\, and there’s “snow” much fun to be had along the trail! Gather your friends and embark on an adventure of snow-covered vineyards and sweet & savory bites paired with superb wine varieties. This fun-filled winter celebration along the trail takes place Saturday from 11:00 am to 5:00 pm and Sunday from 12:00 pm to 5:00 pm. Tickets are $35 per person for both days and include a souvenir wine glass\, delish Leelanau wine and food pairings\, and snow-filled photo contests with super cool prizes. Whether you’re hand-in-hand with your valentine or traversing the trail with your gal pals\, it’s sure to be an unforgettable blast!  \nShare the love! Post your favorite photos with the hashtags #leelanauwine and #snowfun for a chance to snag some winederful swag.
URL:https://www.visitglenarbor.com/event/taste-the-passion/
LOCATION:Leelanau Peninsula Wine Trail\, 10781 E Cherry Bend Road\, Studio 1\, Traverse City\, MI\, 49684\, United States
CATEGORIES:Wine/Beer or Tasting Event
ATTACH;FMTTYPE=image/png:https://www.visitglenarbor.com/wp-content/uploads/2020/03/TasteThePassion2019.png
ORGANIZER;CN="Leelanau Peninsula Wine Trail":MAILTO:info@lpwines.com
END:VEVENT
BEGIN:VEVENT
DTSTART;TZID=America/Detroit:20170121T120000
DTEND;TZID=America/Detroit:20170121T170000
DTSTAMP:20260423T191433
CREATED:20161221T001032Z
LAST-MODIFIED:20200309T054102Z
UID:10002827-1485000000-1485018000@www.visitglenarbor.com
SUMMARY:Sips & Soups
DESCRIPTION:Warm up your weekend with scrumptious soup and wine pairings along the trail on Saturday\, January 21\, 2017 from 12:00 to 5:00 pm. Experience the magic of our wineries covered in a glistening blanket of snow\, while sipping savory soups\, hearty chilis\, and delicious Pinot Noirs\, Rieslings\, Chardonnays and more. Tickets to this SOUPer event are $20 and include a souvenir wine glass. In addition\, $5 for each ticket sold is being donated the local food banks coordinated by Leelanau Christian Neighbors. Sips & Soups sold out in 2015 and 2016\, so get your tickets right away! (Please note: after your featured food and wine pairing\, standard tasting fees for each winery apply.) Sponsored by Baabaazuzu.
URL:https://www.visitglenarbor.com/event/sips-soups/
LOCATION:Leelanau Peninsula Wine Trail\, 10781 E Cherry Bend Road\, Studio 1\, Traverse City\, MI\, 49684\, United States
CATEGORIES:Wine/Beer or Tasting Event
ATTACH;FMTTYPE=image/jpeg:https://www.visitglenarbor.com/wp-content/uploads/2020/03/cbac7b0f-3014-45d0-9b38-5c0fdc583075.jpg
ORGANIZER;CN="Leelanau Peninsula Wine Trail":MAILTO:info@lpwines.com
END:VEVENT
BEGIN:VEVENT
DTSTART;TZID=America/Detroit:20161112T110000
DTEND;TZID=America/Detroit:20161113T180000
DTSTAMP:20260423T191433
CREATED:20160913T205800Z
LAST-MODIFIED:20160913T205800Z
UID:10002794-1478948400-1479060000@www.visitglenarbor.com
SUMMARY:Toast the Season
DESCRIPTION:November 5-6 OR 12-13\, 2016\n11 to 5 pm Saturday\, 12 to 5 pm Sunday\n$50 per person\, $75 per couple\n\nCelebrate the upcoming holiday season enjoying local wine and delicious fare along the Leelanau Peninsula Wine Trail. Each year in November\, enjoy tasting and touring during one of two consecutive weekends – November 5 and 6 or November 12 and 13\, 2016. Tickets are $75 for couples or $50 for singles and include a featured wine and food pairing at 25 wineries\, a souvenir wine glass and the wildly popular holiday gift. Take a self-guided tour through the tasting rooms between the hours of 11:00 am to 5:00 pm on Saturday and noon to 5:00 pm on Sunday.
URL:https://www.visitglenarbor.com/event/toast-the-season-2/
CATEGORIES:Food/Dining Event,Wine/Beer or Tasting Event
ATTACH;FMTTYPE=:
ORGANIZER;CN="Leelanau Peninsula Wine Trail":MAILTO:info@lpwines.com
END:VEVENT
BEGIN:VEVENT
DTSTART;TZID=America/Detroit:20161105T110000
DTEND;TZID=America/Detroit:20161106T180000
DTSTAMP:20260423T191433
CREATED:20160913T205616Z
LAST-MODIFIED:20200309T054754Z
UID:10002793-1478343600-1478455200@www.visitglenarbor.com
SUMMARY:Toast the Season
DESCRIPTION:November 5-6 OR 12-13\, 2016\n11 to 5 pm Saturday\, 12 to 5 pm Sunday\n$50 per person\, $75 per couple\n\nCelebrate the upcoming holiday season enjoying local wine and delicious fare along the Leelanau Peninsula Wine Trail. Each year in November\, enjoy tasting and touring during one of two consecutive weekends – November 5 and 6 or November 12 and 13\, 2016. Tickets are $75 for couples or $50 for singles and include a featured wine and food pairing at 25 wineries\, a souvenir wine glass and the wildly popular holiday gift. Take a self-guided tour through the tasting rooms between the hours of 11:00 am to 5:00 pm on Saturday and noon to 5:00 pm on Sunday.
URL:https://www.visitglenarbor.com/event/toast-the-season/
CATEGORIES:Food/Dining Event,Wine/Beer or Tasting Event
ATTACH;FMTTYPE=image/jpeg:https://www.visitglenarbor.com/wp-content/uploads/2020/03/TTS-generic-banner-1.jpg
ORGANIZER;CN="Leelanau Peninsula Wine Trail":MAILTO:info@lpwines.com
END:VEVENT
BEGIN:VEVENT
DTSTART;TZID=America/Detroit:20161001T110000
DTEND;TZID=America/Detroit:20161031T170000
DTSTAMP:20260423T191433
CREATED:20160913T205053Z
LAST-MODIFIED:20200309T054754Z
UID:10002792-1475319600-1477933200@www.visitglenarbor.com
SUMMARY:The Hunt for the Reds of October
DESCRIPTION:October 2016\n\n\nLeelanau Peninsula has become well-known for its Riesling and other cool-climate white varietals and blends. What is often overlooked\, however\, are the high-quality red wines being grown in the region. To help get beneath the surface\, the Leelanau Peninsula Wine Trail hosts a fun event to explore and discover great red wines of Leelanau Peninsula.\n\nThe Hunt for the Reds of October takes place weekdays during the month of October. For the entire month of October\, your $10 ticket gets you a complimentary pour at each of 20+ participating wineries offering diverse red wines: big and bold Cabernet Francs and Merlots\, aromatic and spicy Pinot Noirs and many more.\n\nIn addition\, the event benefits the American Red Cross of Northern Michigan with $5 for every ticket being donated the cause. Great wine for a great cause? It doesn’t get better than that!
URL:https://www.visitglenarbor.com/event/the-hunt-for-the-reds-of-october/
LOCATION:Leelanau Peninsula Wine Trail\, 10781 E Cherry Bend Road\, Studio 1\, Traverse City\, MI\, 49684\, United States
CATEGORIES:Recreation,Wine/Beer or Tasting Event
ATTACH;FMTTYPE=image/jpeg:https://www.visitglenarbor.com/wp-content/uploads/2020/03/the-hunt-for-the-reds-of-October_wine-trail_leelanau_MI.jpg
ORGANIZER;CN="Leelanau Peninsula Wine Trail":MAILTO:info@lpwines.com
END:VEVENT
BEGIN:VEVENT
DTSTART;TZID=America/Detroit:20160430T080000
DTEND;TZID=America/Detroit:20160501T190000
DTSTAMP:20260423T191433
CREATED:20160413T005810Z
LAST-MODIFIED:20200309T054729Z
UID:10002480-1462003200-1462129200@www.visitglenarbor.com
SUMMARY:Spring Sip and Savor
DESCRIPTION:  \nJoin us the weekend of April 30 and May 1\, 2016 for the annual Spring Sip & Savor wine trail weekend.\nSaturday 11:00 to 6:00 pm\nSunday 12:00 to 5:00 pm\n$35 per person\n\n \nAs our vineyards wake to the sun and warmth of May\, enjoy delicious wine and food pairings at 23 wineries along the wine trail. Celebrate spring\, indulge in your senses and learn more about Leelanau Peninsula wines. Most importantly\, it’s really fun! Take the self-guided tour by visiting the tasting rooms in any order on Saturday from 11:00 to 6:00 pm and Sunday from noon to 5:00 pm. Tickets are limited and typically sell out\, so get yours TODAY! \nTickets are $35 and include wine and food pairings at each winery and a souvenir wine glass. In addition\, a $5 donation for every ticket sold goes to the Bruce Simpson Winemakers Scholarship to help students in their quest for a career in viticulture or enology in Northern Michigan. \nGet Tickets from My North \nClick here for Lodging Packages \nTransportation Packages \nFood and Wine Pairings
URL:https://www.visitglenarbor.com/event/spring-sip-and-savor/
CATEGORIES:Local Business Event,Recreation
ORGANIZER;CN="Leelanau Peninsula Wine Trail":MAILTO:info@lpwines.com
END:VEVENT
END:VCALENDAR