BEGIN:VCALENDAR
VERSION:2.0
PRODID:-//Glen Lake Chamber of Commerce - ECPv6.15.19//NONSGML v1.0//EN
CALSCALE:GREGORIAN
METHOD:PUBLISH
X-WR-CALNAME:Glen Lake Chamber of Commerce
X-ORIGINAL-URL:https://www.visitglenarbor.com
X-WR-CALDESC:Events for Glen Lake Chamber of Commerce
REFRESH-INTERVAL;VALUE=DURATION:PT1H
X-Robots-Tag:noindex
X-PUBLISHED-TTL:PT1H
BEGIN:VTIMEZONE
TZID:America/Detroit
BEGIN:DAYLIGHT
TZOFFSETFROM:-0500
TZOFFSETTO:-0400
TZNAME:EDT
DTSTART:20130310T070000
END:DAYLIGHT
BEGIN:STANDARD
TZOFFSETFROM:-0400
TZOFFSETTO:-0500
TZNAME:EST
DTSTART:20131103T060000
END:STANDARD
BEGIN:DAYLIGHT
TZOFFSETFROM:-0500
TZOFFSETTO:-0400
TZNAME:EDT
DTSTART:20140309T070000
END:DAYLIGHT
BEGIN:STANDARD
TZOFFSETFROM:-0400
TZOFFSETTO:-0500
TZNAME:EST
DTSTART:20141102T060000
END:STANDARD
BEGIN:DAYLIGHT
TZOFFSETFROM:-0500
TZOFFSETTO:-0400
TZNAME:EDT
DTSTART:20150308T070000
END:DAYLIGHT
BEGIN:STANDARD
TZOFFSETFROM:-0400
TZOFFSETTO:-0500
TZNAME:EST
DTSTART:20151101T060000
END:STANDARD
BEGIN:DAYLIGHT
TZOFFSETFROM:-0500
TZOFFSETTO:-0400
TZNAME:EDT
DTSTART:20160313T070000
END:DAYLIGHT
BEGIN:STANDARD
TZOFFSETFROM:-0400
TZOFFSETTO:-0500
TZNAME:EST
DTSTART:20161106T060000
END:STANDARD
BEGIN:DAYLIGHT
TZOFFSETFROM:-0500
TZOFFSETTO:-0400
TZNAME:EDT
DTSTART:20170312T070000
END:DAYLIGHT
BEGIN:STANDARD
TZOFFSETFROM:-0400
TZOFFSETTO:-0500
TZNAME:EST
DTSTART:20171105T060000
END:STANDARD
BEGIN:DAYLIGHT
TZOFFSETFROM:-0500
TZOFFSETTO:-0400
TZNAME:EDT
DTSTART:20180311T070000
END:DAYLIGHT
BEGIN:STANDARD
TZOFFSETFROM:-0400
TZOFFSETTO:-0500
TZNAME:EST
DTSTART:20181104T060000
END:STANDARD
BEGIN:DAYLIGHT
TZOFFSETFROM:-0500
TZOFFSETTO:-0400
TZNAME:EDT
DTSTART:20190310T070000
END:DAYLIGHT
BEGIN:STANDARD
TZOFFSETFROM:-0400
TZOFFSETTO:-0500
TZNAME:EST
DTSTART:20191103T060000
END:STANDARD
END:VTIMEZONE
BEGIN:VEVENT
DTSTART;TZID=America/Detroit:20180720T180000
DTEND;TZID=America/Detroit:20180720T190000
DTSTAMP:20260421T214655
CREATED:20180509T201211Z
LAST-MODIFIED:20180509T201211Z
UID:10003031-1532109600-1532113200@www.visitglenarbor.com
SUMMARY:Lynn Uhlmann | Artist Reception & Exhibition
DESCRIPTION:Leelanau County painter Lynn Uhlmann sees the forest\, and the trees\, and it’s all there on her canvases. Uhlmann returns to Center Gallery in Glen Arbor for a show of her favorite subject\, Northern Michigan’s woods\, July 20 – 26. A reception to open this show is Friday\, July 20\, 6 pm – sundown in the gallery at 6023 S. Lake St. \n“I see my work to be a series with trees as the main subject of my paintings\,” said Uhlmann. who works in both gouache and oil paint. “For the past 10 years I have returned to my favorite Leelanau County landscapes to paint. These familiar scenes evolve each time I paint them. Changes in various times of day\, weather and seasons provide endless possibilities for painting. Each time I go out I observe something new.” \nCenter Gallery is open daily 11 am – 5 pm. For more information go to www.lakestreetstudiosglenarbor.com\, or call 231-334-3179
URL:https://www.visitglenarbor.com/event/lynn-uhlmann-artist-reception-exhibition/
LOCATION:Center Gallery at Lake Street Studios
CATEGORIES:Art/Gallery/Exhibit
ATTACH;FMTTYPE=:
END:VEVENT
BEGIN:VEVENT
DTSTART;TZID=America/Detroit:20180713T180000
DTEND;TZID=America/Detroit:20180713T190000
DTSTAMP:20260421T214655
CREATED:20180509T200531Z
LAST-MODIFIED:20180509T200531Z
UID:10003030-1531504800-1531508400@www.visitglenarbor.com
SUMMARY:Joseph Lombardo | Artist Reception & Exhibition
DESCRIPTION:Ohio painter Joseph Lombardo revisits some of his favorite and signature motifs — Glen Arbor night scenes\, Lake Michigan beaches\, and up-close looks at some of the region’s historic barns — in his next show at Center Gallery\, 6023 S. Lake St.\, Glen Arbor. The exhibition opens Friday\, July 13 with a 6 p.m. reception. \n“Most of the subjects in my painting are local\, and within walking distance of Center Gallery\,” Lombardo said. Lombardo paints in oil and in a rapid-fire style that fuses plein air immediacy with some follow-up in his studio. He teaches at several Ohio colleges including the Columbus College of Art and Design. \nCenter Gallery’s show of work by Joseph Lombardo continues through Thursday\, July 19. \nCenter Gallery is open daily 11 am – 5 pm. For more information go to www.lakestreetstudiosglenarbor.com\, or call 231-334-3179
URL:https://www.visitglenarbor.com/event/joseph-lombardo-artist-reception-exhibition/
LOCATION:Center Gallery at Lake Street Studios
CATEGORIES:Art/Gallery/Exhibit
ATTACH;FMTTYPE=:
END:VEVENT
BEGIN:VEVENT
DTSTART;TZID=America/Detroit:20180706T180000
DTEND;TZID=America/Detroit:20180706T190000
DTSTAMP:20260421T214655
CREATED:20180509T200237Z
LAST-MODIFIED:20180509T200237Z
UID:10003029-1530900000-1530903600@www.visitglenarbor.com
SUMMARY:Margo Burian artist reception & exhibition
DESCRIPTION:For her 11th consecutive solo show at Center Gallery in Glen Arbor\, Maple City painter Margo Burian breaks with her tradition of landscape painting\, and for the first time shows a group of mixed media abstracted paintings on panel. This exhibition of new works opens Friday\, July 6 with a 6 p.m. reception. \nBurian has traditionally worked in oil paint. In these new works\, she explores water- based media including acrylic paint\, graphite\, collage\, and image transfer. “The paintings are deeply layered and consist of multiple sessions in the studio\,” she said. “They’re derived from a combination of observation\, memory\, sketch\, and photo reference. Often times the original image becomes lost in the layering process until it becomes a separate image onto itself.” \nCenter Gallery’s show of work by Margo Burian continues through July 12. \nCenter Gallery is open daily 11 am – 5 pm. For more information go to www.lakestreetstudiosglenarbor.com\, or call 231-334-3179
URL:https://www.visitglenarbor.com/event/margo-burian-artist-reception-exhibition/
LOCATION:Center Gallery at Lake Street Studios
CATEGORIES:Art/Gallery/Exhibit
ATTACH;FMTTYPE=:
END:VEVENT
BEGIN:VEVENT
DTSTART;TZID=America/Detroit:20180629T180000
DTEND;TZID=America/Detroit:20180629T190000
DTSTAMP:20260421T214655
CREATED:20180509T194459Z
LAST-MODIFIED:20180509T194459Z
UID:10003025-1530295200-1530298800@www.visitglenarbor.com
SUMMARY:Center Gallery | Exhibition and Sundown Reception
DESCRIPTION:Painter Robert Ross likes “to paint ordinary\, often overlooked scenes and subjects.” Ross takes viewers on a tour of these places and things in an exhibition of new work at\nCenter Gallery\, 6023 S. Lake St.\, Glen Arbor. \nThe show opens Friday\, June 29 with a 6pm – sundown reception\, and continues through Thursday\, July 5. \nBorn and raised in Michigan\, Ross now lives in Florida and makes annual visits to northern Michigan to renew his relationship with the local landscape. “My theme is the ongoing visual conversation between the abandoned farm buildings and surrounding fields\, hills\, trees and sky in the Port Oneida district of Sleeping Bear Dunes National Lakeshore\,” he said. “The classic shapes of these sentinels from the past are altered subtly by changing light and weather\, giving them a sense of mystery and movement.” Ross works in oil paint\, and combines plein air studies with studio work. \nFor more information and Spring gallery hours go to www.lakestreetstudiosglenarbor.com\, or call 231-334-3179
URL:https://www.visitglenarbor.com/event/center-gallery-exhibition-and-sundown-reception/
LOCATION:Center Gallery at Lake Street Studios
CATEGORIES:Art/Gallery/Exhibit
ATTACH;FMTTYPE=:
END:VEVENT
BEGIN:VEVENT
DTSTART;TZID=America/Detroit:20150301T150000
DTEND;TZID=America/Detroit:20150301T163000
DTSTAMP:20260421T214655
CREATED:20150202T071911Z
LAST-MODIFIED:20150202T071911Z
UID:10002437-1425222000-1425227400@www.visitglenarbor.com
SUMMARY:Motherhood Out Loud
DESCRIPTION:Motherhood Out Loud is coming to Glen Arbor from off-Broadway on Friday\, Feb. 27\, Sat.\, Feb. 28 and Sunday\, March 1st. \nThis delightful play encompasses the hilarity and struggles of motherhood. The cast includes Karen and Peter Van Nort\, Susan McConnell\, Teddy House\, Rhonda Richards\, Mary Sharry\, Linda Dewey\, Pete La Placa and Mike Duwe\, each playing multiple roles. \nMotherhood Out Loud has mature themes and is rated 14+ for the public. For all you mothers\, grandmothers\, daughters and the men who love them\, this play is for you. \nPerformances will be at the Glen Arbor Art Association\, 6031 S. Lake St. in Glen Arbor. Show times are Feb. 27 and 28 at 7:00 p.m. and March 1 at 3:00 p.m. As always\, admission is free but reservations may be made at glenarborart.org.
URL:https://www.visitglenarbor.com/event/motherhood-out-loud/
CATEGORIES:Community Events
ATTACH;FMTTYPE=:
END:VEVENT
BEGIN:VEVENT
DTSTART;TZID=America/Detroit:20140627T180000
DTEND;TZID=America/Detroit:20140627T210000
DTSTAMP:20260421T214655
CREATED:20140202T225108Z
LAST-MODIFIED:20200309T054553Z
UID:10002330-1403892000-1403902800@www.visitglenarbor.com
SUMMARY:Art Openings at Lake Street Studios/Center Gallery
DESCRIPTION:2014 is our 23rd year of weekly art openings every Friday evening\, June 27 through September 12. Each week we showcase new work by emerging and established artists inspired by the region’s landscape. Paintings in both traditional and contemporary styles\, ceramics\, fiber and other media. A new artist each week. Please join us for wine\, refreshments and art. Center Gallery is open in May\, and runs 7 days from July-October. Everyone welcome.
URL:https://www.visitglenarbor.com/event/art-openings-at-lake-street-studioscenter-gallery/
LOCATION:Lake Street Studios/Center Gallery\, 6023 S. Lake St.\, Glen Arbor\, MI\, 49636\, United States
END:VEVENT
END:VCALENDAR