BEGIN:VCALENDAR
VERSION:2.0
PRODID:-//Glen Lake Chamber of Commerce - ECPv6.15.19//NONSGML v1.0//EN
CALSCALE:GREGORIAN
METHOD:PUBLISH
X-ORIGINAL-URL:https://www.visitglenarbor.com
X-WR-CALDESC:Events for Glen Lake Chamber of Commerce
REFRESH-INTERVAL;VALUE=DURATION:PT1H
X-Robots-Tag:noindex
X-PUBLISHED-TTL:PT1H
BEGIN:VTIMEZONE
TZID:America/Detroit
BEGIN:DAYLIGHT
TZOFFSETFROM:-0500
TZOFFSETTO:-0400
TZNAME:EDT
DTSTART:20180311T070000
END:DAYLIGHT
BEGIN:STANDARD
TZOFFSETFROM:-0400
TZOFFSETTO:-0500
TZNAME:EST
DTSTART:20181104T060000
END:STANDARD
BEGIN:DAYLIGHT
TZOFFSETFROM:-0500
TZOFFSETTO:-0400
TZNAME:EDT
DTSTART:20190310T070000
END:DAYLIGHT
BEGIN:STANDARD
TZOFFSETFROM:-0400
TZOFFSETTO:-0500
TZNAME:EST
DTSTART:20191103T060000
END:STANDARD
BEGIN:DAYLIGHT
TZOFFSETFROM:-0500
TZOFFSETTO:-0400
TZNAME:EDT
DTSTART:20200308T070000
END:DAYLIGHT
BEGIN:STANDARD
TZOFFSETFROM:-0400
TZOFFSETTO:-0500
TZNAME:EST
DTSTART:20201101T060000
END:STANDARD
END:VTIMEZONE
BEGIN:VEVENT
DTSTART;TZID=America/Detroit:20190928T150000
DTEND;TZID=America/Detroit:20190928T170000
DTSTAMP:20260422T180302
CREATED:20190910T214004Z
LAST-MODIFIED:20200309T055013Z
UID:10004178-1569682800-1569690000@www.visitglenarbor.com
SUMMARY:Live Music at M22 Winery with Andre Villoch
DESCRIPTION:Live Music on the Glen Arbor Village Wine Trail\nPair your fall weekends in September and October with live music and great wine on Michigan’s teeniest wine trail.\nLive Music at M22 Winery with Andre Villoch on Saturdays from 3-5pm\, September 28\, October 5\, 12\, 19\, 26.\nOther live music tasting events are happening on the trail…\n(Sundays) September 15\, 22\, 29\, October 6\, 13\, 20\, 27:  11 a.m to 1 p.m. Mimosas and Live Music with Clint Weaner at Glen Arbor Wines \nOktoberfest with Live Music at Cherry Republic on Fridays\, September 27th & October 4th from 5-8pm. \n(Friday) October 25: 5 to 8 p.m. Live Music at Cherry Republic
URL:https://www.visitglenarbor.com/event/live-music-at-m22-winery-with-andre-villoch/
LOCATION:M22 Glen Arbor\, Western Ave W Western Ave\, Glen Arbor\, Michigan\, 49636
CATEGORIES:Kids + Family Friendly,Local Business Event,Music,Wine/Beer or Tasting Event
ORGANIZER;CN="Glen Arbor Wine Trail":MAILTO:glenarborwines@gmail.com
END:VEVENT
BEGIN:VEVENT
DTSTART;VALUE=DATE:20190928
DTEND;VALUE=DATE:20190930
DTSTAMP:20260422T180302
CREATED:20190910T203250Z
LAST-MODIFIED:20200309T055011Z
UID:10004166-1569628800-1569801599@www.visitglenarbor.com
SUMMARY:Wine And Doughnuts on the Glen Arbor Wine Trail
DESCRIPTION:Wine And Doughnuts \non the Glen Arbor Village Wine Trail\nSaturday & Sunday\, September 28 & 29\, 2019\nThe three wineries of the Glen Arbor Wine trail (•Cherry Republic\, •M22 Winery\, •Glen Arbor Wines) pair doughnuts from their favorite bakeries with wine!  \nDough-nut miss this fun event!
URL:https://www.visitglenarbor.com/event/wine-and-doughnuts-on-the-glen-arbor-wine-trail/
CATEGORIES:Food/Dining Event,Kids + Family Friendly,Wine/Beer or Tasting Event
ATTACH;FMTTYPE=image/jpeg:https://www.visitglenarbor.com/wp-content/uploads/2020/03/Glen-Arbor-Village-Wine-Trail-2019-10-21.jpg
ORGANIZER;CN="Glen Arbor Wine Trail":MAILTO:glenarborwines@gmail.com
END:VEVENT
BEGIN:VEVENT
DTSTART;TZID=America/Detroit:20190927T170000
DTEND;TZID=America/Detroit:20190927T200000
DTSTAMP:20260422T180302
CREATED:20190910T213224Z
LAST-MODIFIED:20200309T055012Z
UID:10004175-1569603600-1569614400@www.visitglenarbor.com
SUMMARY:Oktoberfest at Cherry Republic: Glen Arbor Village Wine Trail
DESCRIPTION:Oktoberfest at Cherry Republic on Friday\, September 27th & October 4th from 5-8pm featuring a buffet style dinner. \n\nOther tasting events coming up on the Wine Trail…\n(Sundays) September 15\, 22\, 29\, October 6\, 13\, 20\, 27:  11 a.m to 1 p.m. Mimosas and Live Music with Clint Weaner at Glen Arbor Wines \n(Saturdays) September 28\, October 5\, 12\, 19\, 26: 3 to 5 p.m. Live Music at M22 Winery with Andre Villoch. \n(Friday) October 25: 5 to 8 p.m. Live Music at Cherry Republic
URL:https://www.visitglenarbor.com/event/oktoberfest-at-cherry-republic-glen-arbor-village-wine-trail/
LOCATION:Cherry Republic
CATEGORIES:Kids + Family Friendly,Local Business Event,Music,Wine/Beer or Tasting Event
ATTACH;FMTTYPE=image/jpeg:https://www.visitglenarbor.com/wp-content/uploads/2020/03/Glen-Arbor-Village-Wine-Trail-2019-10-21.jpg
ORGANIZER;CN="Glen Arbor Wine Trail":MAILTO:glenarborwines@gmail.com
END:VEVENT
BEGIN:VEVENT
DTSTART;TZID=America/Detroit:20190922T110000
DTEND;TZID=America/Detroit:20190922T130000
DTSTAMP:20260422T180302
CREATED:20190910T211659Z
LAST-MODIFIED:20200309T055012Z
UID:10004169-1569150000-1569157200@www.visitglenarbor.com
SUMMARY:Live Music on the Glen Arbor Wine Trail
DESCRIPTION:Live Music on the Glen Arbor Wine Trail\, September – October\, 2019\nPair your fall weekends with live music and great wine on Michigan’s teeniest wine trail. Here’s where and when the music is playing.\n(Sundays) September 15\, 22\, 29\, October 6\, 13\, 20\, 27:  11 a.m to 1 p.m. Mimosas and Live Music with Clint Weaner at Glen Arbor Wines \n(Fridays) September 27\, October 4: 5 to 8 p.m. Oktoberfest with Live Music at Cherry Republic \n(Saturdays) September 28\, October 5\, 12\, 19\, 26: 3 to 5 p.m. Live Music at M22 Winery with Andre Villoch. \n(Friday) October 25: 5 to 8 p.m. Live Music at Cherry Republic
URL:https://www.visitglenarbor.com/event/live-music-on-the-glen-arbor-wine-trail/
LOCATION:United States
CATEGORIES:Kids + Family Friendly,Local Business Event,Music,Wine/Beer or Tasting Event
ATTACH;FMTTYPE=image/png:https://www.visitglenarbor.com/wp-content/uploads/2020/03/Glen-Arbor-Village-Wine-Trail_logo-horizontal.png
ORGANIZER;CN="Glen Arbor Wine Trail":MAILTO:glenarborwines@gmail.com
END:VEVENT
BEGIN:VEVENT
DTSTART;TZID=America/Detroit:20190915T110000
DTEND;TZID=America/Detroit:20190915T130000
DTSTAMP:20260422T180302
CREATED:20190910T204235Z
LAST-MODIFIED:20200309T055011Z
UID:10004168-1568545200-1568552400@www.visitglenarbor.com
SUMMARY:Mimosas and Live Music with Clint Weaner at Glen Arbor Wines
DESCRIPTION:Live Music on the Glen Arbor Wine Trail\, September – October\, 2019\nPair your fall weekends with live music and great wine on Michigan’s teeniest wine trail. Here’s where and when the music is playing.\n(Sundays) September 15\, 22\, 29\, October 6\, 13\, 20\, 27:  11 a.m to 1 p.m. Mimosas and Live Music with Clint Weaner at Glen Arbor Wines \n(Fridays) September 27\, October 4: 5 to 8 p.m. Oktoberfest with Live Music at Cherry Republic \n(Saturdays) September 28\, October 5\, 12\, 19\, 26: 3 to 5 p.m. Live Music at M22 Winery with Andre Villoch. \n(Friday) October 25: 5 to 8 p.m. Live Music at Cherry Republic
URL:https://www.visitglenarbor.com/event/mimosas-and-live-music-with-clint-weaner-at-glen-arbor-wines/
LOCATION:United States
CATEGORIES:Kids + Family Friendly,Music,Wine/Beer or Tasting Event
ATTACH;FMTTYPE=image/jpeg:https://www.visitglenarbor.com/wp-content/uploads/2020/03/Glen-Arbor-Village-Wine-Trail-2019-10-21.jpg
ORGANIZER;CN="Glen Arbor Wine Trail":MAILTO:glenarborwines@gmail.com
END:VEVENT
END:VCALENDAR