BEGIN:VCALENDAR
VERSION:2.0
PRODID:-//Glen Lake Chamber of Commerce - ECPv6.15.19//NONSGML v1.0//EN
CALSCALE:GREGORIAN
METHOD:PUBLISH
X-ORIGINAL-URL:https://www.visitglenarbor.com
X-WR-CALDESC:Events for Glen Lake Chamber of Commerce
REFRESH-INTERVAL;VALUE=DURATION:PT1H
X-Robots-Tag:noindex
X-PUBLISHED-TTL:PT1H
BEGIN:VTIMEZONE
TZID:America/Detroit
BEGIN:DAYLIGHT
TZOFFSETFROM:-0500
TZOFFSETTO:-0400
TZNAME:EDT
DTSTART:20130310T070000
END:DAYLIGHT
BEGIN:STANDARD
TZOFFSETFROM:-0400
TZOFFSETTO:-0500
TZNAME:EST
DTSTART:20131103T060000
END:STANDARD
BEGIN:DAYLIGHT
TZOFFSETFROM:-0500
TZOFFSETTO:-0400
TZNAME:EDT
DTSTART:20140309T070000
END:DAYLIGHT
BEGIN:STANDARD
TZOFFSETFROM:-0400
TZOFFSETTO:-0500
TZNAME:EST
DTSTART:20141102T060000
END:STANDARD
BEGIN:DAYLIGHT
TZOFFSETFROM:-0500
TZOFFSETTO:-0400
TZNAME:EDT
DTSTART:20150308T070000
END:DAYLIGHT
BEGIN:STANDARD
TZOFFSETFROM:-0400
TZOFFSETTO:-0500
TZNAME:EST
DTSTART:20151101T060000
END:STANDARD
BEGIN:DAYLIGHT
TZOFFSETFROM:-0500
TZOFFSETTO:-0400
TZNAME:EDT
DTSTART:20160313T070000
END:DAYLIGHT
BEGIN:STANDARD
TZOFFSETFROM:-0400
TZOFFSETTO:-0500
TZNAME:EST
DTSTART:20161106T060000
END:STANDARD
BEGIN:DAYLIGHT
TZOFFSETFROM:-0500
TZOFFSETTO:-0400
TZNAME:EDT
DTSTART:20170312T070000
END:DAYLIGHT
BEGIN:STANDARD
TZOFFSETFROM:-0400
TZOFFSETTO:-0500
TZNAME:EST
DTSTART:20171105T060000
END:STANDARD
BEGIN:DAYLIGHT
TZOFFSETFROM:-0500
TZOFFSETTO:-0400
TZNAME:EDT
DTSTART:20180311T070000
END:DAYLIGHT
BEGIN:STANDARD
TZOFFSETFROM:-0400
TZOFFSETTO:-0500
TZNAME:EST
DTSTART:20181104T060000
END:STANDARD
BEGIN:DAYLIGHT
TZOFFSETFROM:-0500
TZOFFSETTO:-0400
TZNAME:EDT
DTSTART:20190310T070000
END:DAYLIGHT
BEGIN:STANDARD
TZOFFSETFROM:-0400
TZOFFSETTO:-0500
TZNAME:EST
DTSTART:20191103T060000
END:STANDARD
BEGIN:DAYLIGHT
TZOFFSETFROM:-0500
TZOFFSETTO:-0400
TZNAME:EDT
DTSTART:20200308T070000
END:DAYLIGHT
BEGIN:STANDARD
TZOFFSETFROM:-0400
TZOFFSETTO:-0500
TZNAME:EST
DTSTART:20201101T060000
END:STANDARD
BEGIN:DAYLIGHT
TZOFFSETFROM:-0500
TZOFFSETTO:-0400
TZNAME:EDT
DTSTART:20210314T070000
END:DAYLIGHT
BEGIN:STANDARD
TZOFFSETFROM:-0400
TZOFFSETTO:-0500
TZNAME:EST
DTSTART:20211107T060000
END:STANDARD
BEGIN:DAYLIGHT
TZOFFSETFROM:-0500
TZOFFSETTO:-0400
TZNAME:EDT
DTSTART:20220313T070000
END:DAYLIGHT
BEGIN:STANDARD
TZOFFSETFROM:-0400
TZOFFSETTO:-0500
TZNAME:EST
DTSTART:20221106T060000
END:STANDARD
BEGIN:DAYLIGHT
TZOFFSETFROM:-0500
TZOFFSETTO:-0400
TZNAME:EDT
DTSTART:20230312T070000
END:DAYLIGHT
BEGIN:STANDARD
TZOFFSETFROM:-0400
TZOFFSETTO:-0500
TZNAME:EST
DTSTART:20231105T060000
END:STANDARD
BEGIN:DAYLIGHT
TZOFFSETFROM:-0500
TZOFFSETTO:-0400
TZNAME:EDT
DTSTART:20240310T070000
END:DAYLIGHT
BEGIN:STANDARD
TZOFFSETFROM:-0400
TZOFFSETTO:-0500
TZNAME:EST
DTSTART:20241103T060000
END:STANDARD
END:VTIMEZONE
BEGIN:VEVENT
DTSTART;TZID=America/Detroit:20230926T150000
DTEND;TZID=America/Detroit:20230926T160000
DTSTAMP:20260421T234053
CREATED:20230920T022030Z
LAST-MODIFIED:20230920T022030Z
UID:10005269-1695740400-1695744000@www.visitglenarbor.com
SUMMARY:Tech Tuesday at the GLCL
DESCRIPTION:Learn how to access electronic books and more from the Up North Digital Collection\, your 24/7 virtual library. Public Services Librarian Dave Ulrich will demonstrate how to navigate this dynamic collection using the Libby app\, providing access to thousands of ebooks\, audiobooks\, and magazines. Bring your e-reader or other mobile device\, and your questions! And\, stay tuned for more Tech Tuesday sessions in coming months\, presented by your Leelanau County libraries.
URL:https://www.visitglenarbor.com/event/tech-tuesday-at-the-glcl/
LOCATION:Glen Lake Community Library\, 10115 Front Street\, Empire\, MI\, 49630\, United States
CATEGORIES:Community Events
ATTACH;FMTTYPE=image/jpeg:https://www.visitglenarbor.com/wp-content/uploads/2023/09/libby-icon.jpg
END:VEVENT
BEGIN:VEVENT
DTSTART;TZID=America/Detroit:20220728T100000
DTEND;TZID=America/Detroit:20220728T160000
DTSTAMP:20260421T234053
CREATED:20220531T140127Z
LAST-MODIFIED:20220531T140127Z
UID:10004603-1659002400-1659024000@www.visitglenarbor.com
SUMMARY:Glen Lake Community Library Home Tour
DESCRIPTION:The Friends of the Glen Lake Community Library will hold their biennial Home Tour on Thursday\, July 28\, 2022\, from 10:00 a.m. to 4:00 pm. Tour six area homes in Empire and on Glen Lake. Tickets available starting June 15 at the Library\, at the Cottage Book Shop and Northwoods Hardware in Glen Arbor\, and from members of the Friends of the Library and the Glen Lake Garden Club. Ticket price $25 per person.
URL:https://www.visitglenarbor.com/event/glen-lake-community-library-home-tour-2/
LOCATION:MI\, United States
ATTACH;FMTTYPE=image/png:https://www.visitglenarbor.com/wp-content/uploads/2020/03/HomeTour-LymanHouse-620x362-1.png
END:VEVENT
BEGIN:VEVENT
DTSTART;TZID=America/Detroit:20190809T090000
DTEND;TZID=America/Detroit:20190809T150000
DTSTAMP:20260421T234053
CREATED:20190806T194059Z
LAST-MODIFIED:20200309T055007Z
UID:10004126-1565341200-1565362800@www.visitglenarbor.com
SUMMARY:Book Sale: Friday Aug 9th
DESCRIPTION:The Friends of the Glen Lake Community Library will their annual used book sale Aug. 7-9 at the Glen Arbor Township Hall. This three-day fundraising event offers gently used books for adults and children in more than 50 categories\, games\, and puzzles\, as well as DVDs and CDs. This year the Friends have an extraordinary selection of beautiful coffee table books.  \nFriday\, August 9\, 9 am-3 pm | Bag Day ~ Free Admission \nThis last half day offers the best bargains. Fill a standard grocery bag full of books and pay just $5. \nFunds raised by the Friends contribute to ongoing programs\, such as the preschool children’s “Stories and More\,” general and special collections\, as well as future capital needs of the Glen Lake Community Library. This year the Friends have underwritten the purchase of scores of DVDs to replace popular VHS tapes as well as upgrades from Cassettes to CDs for many Audio Books.
URL:https://www.visitglenarbor.com/event/book-sale-friday-aug-9th/
LOCATION:Glen Arbor Township Hall
CATEGORIES:Community Events,Kids + Family Friendly
ATTACH;FMTTYPE=image/jpeg:https://www.visitglenarbor.com/wp-content/uploads/2020/03/Book-Sale-in-Glen-Arbor_photo-by-Glen-Arbor-Sun.jpg
END:VEVENT
BEGIN:VEVENT
DTSTART;TZID=America/Detroit:20190808T100000
DTEND;TZID=America/Detroit:20190808T190000
DTSTAMP:20260421T234053
CREATED:20190806T193942Z
LAST-MODIFIED:20200309T055007Z
UID:10004124-1565258400-1565290800@www.visitglenarbor.com
SUMMARY:Book Sale: Thursday Aug 8
DESCRIPTION:The Friends of the Glen Lake Community Library will their annual used book sale Aug. 7-9 at the Glen Arbor Township Hall. This three-day fundraising event offers gently used books for adults and children in more than 50 categories\, games\, and puzzles\, as well as DVDs and CDs. This year the Friends have an extraordinary selection of beautiful coffee table books.  \nThursday\, Aug. 8\, 10 am-7 pm Book Sale Free Admission \nOn Thursday\, the sale is open to the public free of charge. Everyone can select from various items at very reasonable prices. Everything is neatly categorized in more than 50 subject areas\, including many children’s books. \nFriday\, August 9\, 9 am-3 pm Bag Day Free Admission \nThis last half day offers the best bargains. Fill a standard grocery bag full of books and pay just $5. \nFunds raised by the Friends contribute to ongoing programs\, such as the preschool children’s “Stories and More\,” general and special collections\, as well as future capital needs of the Glen Lake Community Library. This year the Friends have underwritten the purchase of scores of DVDs to replace popular VHS tapes as well as upgrades from Cassettes to CDs for many Audio Books.
URL:https://www.visitglenarbor.com/event/book-sale-thursday-aug-8/
LOCATION:Glen Arbor Township Hall
CATEGORIES:Community Events,Kids + Family Friendly
ATTACH;FMTTYPE=image/jpeg:https://www.visitglenarbor.com/wp-content/uploads/2020/03/Book-Sale-in-Glen-Arbor_photo-by-Glen-Arbor-Sun.jpg
END:VEVENT
BEGIN:VEVENT
DTSTART;TZID=America/Detroit:20190807T180000
DTEND;TZID=America/Detroit:20190807T210000
DTSTAMP:20260421T234053
CREATED:20190806T193809Z
LAST-MODIFIED:20200309T055007Z
UID:10004122-1565200800-1565211600@www.visitglenarbor.com
SUMMARY:Book Sale: Preview Party Wed Aug 7
DESCRIPTION:The Friends of the Glen Lake Community Library will their annual used book sale Aug. 7-9 at the Glen Arbor Township Hall. This three-day fundraising event offers gently used books for adults and children in more than 50 categories\, games\, and puzzles\, as well as DVDs and CDs. This year the Friends have an extraordinary selection of beautiful coffee table books.  \nThe sale is scheduled as follows: \nWednesday\, Aug. 7\, 6 -9 pm | Preview Party ~ $5 Donation \nThis special event gives you the first chance to peruse and choose from thousands of hardcover and paperback books\, CDs\, DVDs\, and games and puzzles. Refreshments include homemade hors d’oeuvres and sweet treats. \nThursday\, Aug. 8\, 10 am-7 pm | Book Sale ~ Free Admission \nOn Thursday\, the sale is open to the public free of charge. Everyone can select from various items at very reasonable prices. Everything is neatly categorized in more than 50 subject areas\, including many children’s books. \nFriday\, August 9\, 9 am-3 pm | Bag Day ~ Free Admission \nThis last half day offers the best bargains. Fill a standard grocery bag full of books and pay just $5. \nFunds raised by the Friends contribute to ongoing programs\, such as the preschool children’s “Stories and More\,” general and special collections\, as well as future capital needs of the Glen Lake Community Library. This year the Friends have underwritten the purchase of scores of DVDs to replace popular VHS tapes as well as upgrades from Cassettes to CDs for many Audio Books.
URL:https://www.visitglenarbor.com/event/book-sale-preview-party/
LOCATION:Glen Arbor Township Hall
CATEGORIES:Community Events,Kids + Family Friendly,Shopping
ATTACH;FMTTYPE=image/jpeg:https://www.visitglenarbor.com/wp-content/uploads/2020/03/Book-Sale_Glen-Arbor.jpg
END:VEVENT
BEGIN:VEVENT
DTSTART;TZID=America/Detroit:20140808T090000
DTEND;TZID=America/Detroit:20140808T120000
DTSTAMP:20260421T234053
CREATED:20140415T213025Z
LAST-MODIFIED:20200309T053834Z
UID:10002340-1407488400-1407499200@www.visitglenarbor.com
SUMMARY:Glen Lake Community Library Annual Used Book sale\, "Bag Sale"
DESCRIPTION:The Annual Glen Lake Community Library Used Book Sale ends with a “Bag Sale”.  Buy a bag for $5.00 and fill it to the brim!!  We will be selling bags from 9 a.m. to 12 noon so don’t miss this chance to get some real bargains!  Join us at the Glen Arbor Township Hall in Glen Arbor.  For more information call 231-326-5361 or visit www.glenlakelibrary.net.
URL:https://www.visitglenarbor.com/event/glen-lake-community-library-annual-used-book-sale-bag-sale/
LOCATION:Glen Arbor Township Hall
CATEGORIES:Community Events
END:VEVENT
END:VCALENDAR