BEGIN:VCALENDAR
VERSION:2.0
PRODID:-//Glen Lake Chamber of Commerce - ECPv6.15.20//NONSGML v1.0//EN
CALSCALE:GREGORIAN
METHOD:PUBLISH
X-WR-CALNAME:Glen Lake Chamber of Commerce
X-ORIGINAL-URL:https://www.visitglenarbor.com
X-WR-CALDESC:Events for Glen Lake Chamber of Commerce
REFRESH-INTERVAL;VALUE=DURATION:PT1H
X-Robots-Tag:noindex
X-PUBLISHED-TTL:PT1H
BEGIN:VTIMEZONE
TZID:America/Detroit
BEGIN:DAYLIGHT
TZOFFSETFROM:-0500
TZOFFSETTO:-0400
TZNAME:EDT
DTSTART:20130310T070000
END:DAYLIGHT
BEGIN:STANDARD
TZOFFSETFROM:-0400
TZOFFSETTO:-0500
TZNAME:EST
DTSTART:20131103T060000
END:STANDARD
BEGIN:DAYLIGHT
TZOFFSETFROM:-0500
TZOFFSETTO:-0400
TZNAME:EDT
DTSTART:20140309T070000
END:DAYLIGHT
BEGIN:STANDARD
TZOFFSETFROM:-0400
TZOFFSETTO:-0500
TZNAME:EST
DTSTART:20141102T060000
END:STANDARD
BEGIN:DAYLIGHT
TZOFFSETFROM:-0500
TZOFFSETTO:-0400
TZNAME:EDT
DTSTART:20150308T070000
END:DAYLIGHT
BEGIN:STANDARD
TZOFFSETFROM:-0400
TZOFFSETTO:-0500
TZNAME:EST
DTSTART:20151101T060000
END:STANDARD
END:VTIMEZONE
BEGIN:VEVENT
DTSTART;TZID=America/Detroit:20140809T084500
DTEND;TZID=America/Detroit:20140809T153000
DTSTAMP:20260425T115539
CREATED:20140805T003749Z
LAST-MODIFIED:20200309T054624Z
UID:10002313-1407573900-1407598200@www.visitglenarbor.com
SUMMARY:Tennis Clinic with Emilio Sánchez Vicario
DESCRIPTION:Tennis Clinic with Emilio Sánchez Vicario\, in Glen Arbor\, MI!\n\nEmilio Sánchez Vicario is the founder of the Sanchez-Casal Academy\, the top leading Tennis Academy in Europe and one of the most prestigious in the world. He will be hosting a tennis clinic on the Glen Arbor Public Tennis Courts (rain location to be determined). Offering Adults and Juniors the opportunity to learn the Spanish methodology of training.\n \nSunday\, August 10\, 2014 – another tennis clinic will be held atthe Grand Traverse Resort in Acme\, Michigan beginning at 9:00am.   \nSATURDAY\, AUGUST 9th\n8:45 am | Registration at Glen Arbor Public Tennis Courts \n9:00 – 10:30 | Juniors – Spanish Methodology and Drills \n10:45 – 12:15 | Adults – Spanish Methodology and Drills \n1:30 – 3:30 | Pro Exhibition Match at The Homestead Resort \n  \nPrice is $60 per player ($50 per player if more than one family member registers\, Prices for the Grand Traverse Resort Clinic is $75 per player or $60 per player if more than one family member registers.  Club members receive $10 off. \nSPACE IS LIMITED. SIGN UP TODAY! \nPlease contact Fernando Belmar at 231-409-8768 or Email: fbelmar@premiumti.com
URL:https://www.visitglenarbor.com/event/tennis-clinic-with-emilio-sanchez-vicario/
LOCATION:Glen Arbor Public Tennis Courts\, Glen Arbor\, MI\, 49636\, United States
CATEGORIES:Community Events,Local Business Event,Recreation
ATTACH;FMTTYPE=image/png:https://www.visitglenarbor.com/wp-content/uploads/2020/03/tennis-header-action-shot-1185719_630x210.png
ORGANIZER;CN="Fernando Belmar":MAILTO:fbelmar@premiumti.com 
END:VEVENT
END:VCALENDAR