BEGIN:VCALENDAR
VERSION:2.0
PRODID:-//Glen Lake Chamber of Commerce - ECPv6.15.19//NONSGML v1.0//EN
CALSCALE:GREGORIAN
METHOD:PUBLISH
X-ORIGINAL-URL:https://www.visitglenarbor.com
X-WR-CALDESC:Events for Glen Lake Chamber of Commerce
REFRESH-INTERVAL;VALUE=DURATION:PT1H
X-Robots-Tag:noindex
X-PUBLISHED-TTL:PT1H
BEGIN:VTIMEZONE
TZID:America/Detroit
BEGIN:DAYLIGHT
TZOFFSETFROM:-0500
TZOFFSETTO:-0400
TZNAME:EDT
DTSTART:20140309T070000
END:DAYLIGHT
BEGIN:STANDARD
TZOFFSETFROM:-0400
TZOFFSETTO:-0500
TZNAME:EST
DTSTART:20141102T060000
END:STANDARD
BEGIN:DAYLIGHT
TZOFFSETFROM:-0500
TZOFFSETTO:-0400
TZNAME:EDT
DTSTART:20150308T070000
END:DAYLIGHT
BEGIN:STANDARD
TZOFFSETFROM:-0400
TZOFFSETTO:-0500
TZNAME:EST
DTSTART:20151101T060000
END:STANDARD
BEGIN:DAYLIGHT
TZOFFSETFROM:-0500
TZOFFSETTO:-0400
TZNAME:EDT
DTSTART:20160313T070000
END:DAYLIGHT
BEGIN:STANDARD
TZOFFSETFROM:-0400
TZOFFSETTO:-0500
TZNAME:EST
DTSTART:20161106T060000
END:STANDARD
BEGIN:DAYLIGHT
TZOFFSETFROM:-0500
TZOFFSETTO:-0400
TZNAME:EDT
DTSTART:20170312T070000
END:DAYLIGHT
BEGIN:STANDARD
TZOFFSETFROM:-0400
TZOFFSETTO:-0500
TZNAME:EST
DTSTART:20171105T060000
END:STANDARD
BEGIN:DAYLIGHT
TZOFFSETFROM:-0500
TZOFFSETTO:-0400
TZNAME:EDT
DTSTART:20180311T070000
END:DAYLIGHT
BEGIN:STANDARD
TZOFFSETFROM:-0400
TZOFFSETTO:-0500
TZNAME:EST
DTSTART:20181104T060000
END:STANDARD
BEGIN:DAYLIGHT
TZOFFSETFROM:-0500
TZOFFSETTO:-0400
TZNAME:EDT
DTSTART:20190310T070000
END:DAYLIGHT
BEGIN:STANDARD
TZOFFSETFROM:-0400
TZOFFSETTO:-0500
TZNAME:EST
DTSTART:20191103T060000
END:STANDARD
BEGIN:DAYLIGHT
TZOFFSETFROM:-0500
TZOFFSETTO:-0400
TZNAME:EDT
DTSTART:20200308T070000
END:DAYLIGHT
BEGIN:STANDARD
TZOFFSETFROM:-0400
TZOFFSETTO:-0500
TZNAME:EST
DTSTART:20201101T060000
END:STANDARD
BEGIN:DAYLIGHT
TZOFFSETFROM:-0500
TZOFFSETTO:-0400
TZNAME:EDT
DTSTART:20210314T070000
END:DAYLIGHT
BEGIN:STANDARD
TZOFFSETFROM:-0400
TZOFFSETTO:-0500
TZNAME:EST
DTSTART:20211107T060000
END:STANDARD
BEGIN:DAYLIGHT
TZOFFSETFROM:-0500
TZOFFSETTO:-0400
TZNAME:EDT
DTSTART:20220313T070000
END:DAYLIGHT
BEGIN:STANDARD
TZOFFSETFROM:-0400
TZOFFSETTO:-0500
TZNAME:EST
DTSTART:20221106T060000
END:STANDARD
BEGIN:DAYLIGHT
TZOFFSETFROM:-0500
TZOFFSETTO:-0400
TZNAME:EDT
DTSTART:20230312T070000
END:DAYLIGHT
BEGIN:STANDARD
TZOFFSETFROM:-0400
TZOFFSETTO:-0500
TZNAME:EST
DTSTART:20231105T060000
END:STANDARD
BEGIN:DAYLIGHT
TZOFFSETFROM:-0500
TZOFFSETTO:-0400
TZNAME:EDT
DTSTART:20240310T070000
END:DAYLIGHT
BEGIN:STANDARD
TZOFFSETFROM:-0400
TZOFFSETTO:-0500
TZNAME:EST
DTSTART:20241103T060000
END:STANDARD
BEGIN:DAYLIGHT
TZOFFSETFROM:-0500
TZOFFSETTO:-0400
TZNAME:EDT
DTSTART:20250309T070000
END:DAYLIGHT
BEGIN:STANDARD
TZOFFSETFROM:-0400
TZOFFSETTO:-0500
TZNAME:EST
DTSTART:20251102T060000
END:STANDARD
END:VTIMEZONE
BEGIN:VEVENT
DTSTART;TZID=America/Detroit:20241031T170000
DTEND;TZID=America/Detroit:20241031T180000
DTSTAMP:20260422T215621
CREATED:20241009T180206Z
LAST-MODIFIED:20241009T180206Z
UID:10006455-1730394000-1730397600@www.visitglenarbor.com
SUMMARY:Trunk or Treat in Downtown Empire
DESCRIPTION:All Ghosts\, Goblins\, Cowboys and Cowgirls! Come Join In The Fun! Trunk or Treat in Downtown Empire. Sliders provided by the Empire United Methodist Church (donations appreciated). Sponsored by The Empire Area Community Center. \nEvent will take place on Front Street in downtown Empire on Thursday\, October 31st from 5-6pm.
URL:https://www.visitglenarbor.com/event/trunk-or-treat-in-downtown-empire/
LOCATION:Downtown Empire
CATEGORIES:Community Events,Kids + Family Friendly
ATTACH;FMTTYPE=image/jpeg:https://www.visitglenarbor.com/wp-content/uploads/2024/10/Halloween-Poster-2024-empire-trunk-or-treat.jpg
ORGANIZER;CN="Empire Area Community Center":MAILTO:empireareacommunitycenter@gmail.com
END:VEVENT
BEGIN:VEVENT
DTSTART;TZID=America/Detroit:20240908T160000
DTEND;TZID=America/Detroit:20240908T190000
DTSTAMP:20260422T215621
CREATED:20240910T015444Z
LAST-MODIFIED:20240910T015444Z
UID:10006240-1725811200-1725822000@www.visitglenarbor.com
SUMMARY:Anne-Marie Oomen reception
DESCRIPTION:Join us for this Sunday afternoon celebration at the Empire Township Hall. The gathering will honor Empire’s own Anne-Marie Oomen\, recipient of the 2023 Michigan Author Award from the Library of Michigan. Festivities will include live music by Lisa and Ingemar Johansson of Song of the Lakes\, along with readings by Anne-Marie and various friends & colleagues. Appetizers and beverages will be provided. Attendees may also bring their own beverages. Copies of Anne-Marie’s books will be available for purchase\, with all proceeds benefiting the Empire Area Community Center and the Friends of the Glen Lake Library. Other charitable donations will also be welcome.
URL:https://www.visitglenarbor.com/event/anne-marie-oomen-reception/
LOCATION:Empire Township Hall\, 10088 W. Front Street\, Empire\, MI \, Empire\, MI\, 49630\, United States
CATEGORIES:Community Events
ATTACH;FMTTYPE=image/jpeg:https://www.visitglenarbor.com/wp-content/uploads/2024/08/AMOomen.jpg
ORGANIZER;CN="Glen Lake Community Library":MAILTO:info@glenlakelibrary.net
END:VEVENT
BEGIN:VEVENT
DTSTART;TZID=America/Detroit:20230715T120000
DTEND;TZID=America/Detroit:20230715T120000
DTSTAMP:20260422T215621
CREATED:20230424T170405Z
LAST-MODIFIED:20230701T001916Z
UID:10004819-1689422400-1689422400@www.visitglenarbor.com
SUMMARY:Anchor Days In Empire
DESCRIPTION:Day of celebration to commemorate the raising of the anchor from the depths of Lake Michigan in July of 1977. This anchor is currently located at the Empire Beach. \n• Festivities begin on July 14th with movie at the Empire Town hall about the rising of the anchor at 7pm \n• Parade at Noon on July 15th \n• Street dance on Front Street in front of the Glen Lake Community Library from 8-11pm
URL:https://www.visitglenarbor.com/event/anchor-days-in-empire/2023-07-15/
LOCATION:Downtown Empire
CATEGORIES:Community Events,Kids + Family Friendly
ATTACH;FMTTYPE=image/jpeg:https://www.visitglenarbor.com/wp-content/uploads/2020/03/Anchor-Days-in-July_empire-MI_community-events.jpg
ORGANIZER;CN="Empire Area Community Center":MAILTO:empireareacommunitycenter@gmail.com
END:VEVENT
BEGIN:VEVENT
DTSTART;TZID=America/Detroit:20230714T190000
DTEND;TZID=America/Detroit:20230714T190000
DTSTAMP:20260422T215621
CREATED:20230424T170405Z
LAST-MODIFIED:20230701T001916Z
UID:10004818-1689361200-1689361200@www.visitglenarbor.com
SUMMARY:Anchor Days In Empire
DESCRIPTION:Day of celebration to commemorate the raising of the anchor from the depths of Lake Michigan in July of 1977. This anchor is currently located at the Empire Beach. \n• Festivities begin on July 14th with movie at the Empire Town hall about the rising of the anchor at 7pm \n• Parade at Noon on July 15th \n• Street dance on Front Street in front of the Glen Lake Community Library from 8-11pm
URL:https://www.visitglenarbor.com/event/anchor-days-in-empire/2023-07-14/
LOCATION:Downtown Empire
CATEGORIES:Community Events,Kids + Family Friendly
ATTACH;FMTTYPE=image/jpeg:https://www.visitglenarbor.com/wp-content/uploads/2020/03/Anchor-Days-in-July_empire-MI_community-events.jpg
ORGANIZER;CN="Empire Area Community Center":MAILTO:empireareacommunitycenter@gmail.com
END:VEVENT
BEGIN:VEVENT
DTSTART;TZID=America/Detroit:20230415T200000
DTEND;TZID=America/Detroit:20230415T230000
DTSTAMP:20260422T215621
CREATED:20230424T170405Z
LAST-MODIFIED:20230701T001916Z
UID:10004817-1681588800-1681599600@www.visitglenarbor.com
SUMMARY:Anchor Days In Empire
DESCRIPTION:Day of celebration to commemorate the raising of the anchor from the depths of Lake Michigan in July of 1977. This anchor is currently located at the Empire Beach. \n• Festivities begin on July 14th with movie at the Empire Town hall about the rising of the anchor at 7pm \n• Parade at Noon on July 15th \n• Street dance on Front Street in front of the Glen Lake Community Library from 8-11pm
URL:https://www.visitglenarbor.com/event/anchor-days-in-empire/2023-04-15/
LOCATION:Downtown Empire
CATEGORIES:Community Events,Kids + Family Friendly
ATTACH;FMTTYPE=image/jpeg:https://www.visitglenarbor.com/wp-content/uploads/2020/03/Anchor-Days-in-July_empire-MI_community-events.jpg
ORGANIZER;CN="Empire Area Community Center":MAILTO:empireareacommunitycenter@gmail.com
END:VEVENT
BEGIN:VEVENT
DTSTART;TZID=America/Detroit:20220905T120000
DTEND;TZID=America/Detroit:20220905T123000
DTSTAMP:20260422T215621
CREATED:20220901T134334Z
LAST-MODIFIED:20220901T134354Z
UID:10004686-1662379200-1662381000@www.visitglenarbor.com
SUMMARY:Narrows Labor Day Bridge Walk
DESCRIPTION:Labor Day Bridge Walk to take place at the Narrows\, over Big Glen and Little Glen Lake in Glen Arbor on Labor Day\, September 5\, 2022 at 12 Noon. The Walk will begin with a fly over by Bruce Jacobs\, Weather permitting. Certificates will be given out. Tee Shirts Available.  \nThis event is Sponsored by EACC. The Empire Area Community Centerenhances the quality of life of those in the greater Empire area through the promotion of community activities and involvement. EMPIRE AREA COMMUNITY CENTER (EACC) (A Michigan Registered 501 (C) 3 Public Charity).
URL:https://www.visitglenarbor.com/event/narrows-labor-day-bridge-walk-22/
LOCATION:The Narrows Bridge\, 8137 S Glen Lake Rd\, Glen Arbor
CATEGORIES:Community Events,Kids + Family Friendly,Recreation
ATTACH;FMTTYPE=image/jpeg:https://www.visitglenarbor.com/wp-content/uploads/2022/09/labor-day-bridge-walk-the-narrows-glen-lake-graphic.jpg
ORGANIZER;CN="Empire Area Community Center":MAILTO:empireareacommunitycenter@gmail.com
END:VEVENT
BEGIN:VEVENT
DTSTART;TZID=America/Detroit:20220716T210000
DTEND;TZID=America/Detroit:20220716T230000
DTSTAMP:20260422T215621
CREATED:20220714T024553Z
LAST-MODIFIED:20220714T024553Z
UID:10003259-1658005200-1658012400@www.visitglenarbor.com
SUMMARY:Street Dance
DESCRIPTION:Dance with Live music By: “Doc Probes”\, The Music Doctor\nBYOB\, Chair & Dancing Shoes
URL:https://www.visitglenarbor.com/event/street-dance/
LOCATION:Empire Township Hall\, 10088 W. Front Street\, Empire\, MI \, Empire\, MI\, 49630\, United States
CATEGORIES:Community Events
ORGANIZER;CN="Empire Area Community Center":MAILTO:empireareacommunitycenter@gmail.com
END:VEVENT
BEGIN:VEVENT
DTSTART;TZID=America/Detroit:20220716T120000
DTEND;TZID=America/Detroit:20220716T130000
DTSTAMP:20260422T215621
CREATED:20220714T024550Z
LAST-MODIFIED:20220714T025341Z
UID:10003257-1657972800-1657976400@www.visitglenarbor.com
SUMMARY:Anchor Day Parade
DESCRIPTION:Parade – anything goes. Line up at Johnson Park at 11:15
URL:https://www.visitglenarbor.com/event/anchor-day/
LOCATION:Downtown Empire
CATEGORIES:Community Events
ORGANIZER;CN="Empire Area Community Center":MAILTO:empireareacommunitycenter@gmail.com
END:VEVENT
BEGIN:VEVENT
DTSTART;TZID=America/Detroit:20200217T080000
DTEND;TZID=America/Detroit:20200217T170000
DTSTAMP:20260422T215621
CREATED:20200217T234348Z
LAST-MODIFIED:20200309T055038Z
UID:10004247-1581926400-1581958800@www.visitglenarbor.com
SUMMARY:25th Glen Lake Labor Day Bridge Walk
DESCRIPTION:EMPIRE AREA COMMUNITY CENTER \n25th Annual Glen Lake Labor Day Bridge Walk\nA tradition that began here in 1995\, join the community on The Narrows Bridge for a .3 mile walk – “for one and for all!” at NOON on Monday\, Sept. 7th\, 2020.  Certificates will be given upon completion of the bridge walk.  T-shirts will be available and refreshments too! Meet at the north side of the Narrows bridge — 8137 S. Glen Lake Road.\n\nInformation: Jo Anne jbeareyogi@hotmail.com and 231-631-4316
URL:https://www.visitglenarbor.com/event/25th-glen-lake-labor-day-bridge-walk/
LOCATION:The Narrows Bridge\, 8137 S Glen Lake Rd\, Glen Arbor
CATEGORIES:Community Events,Kids + Family Friendly,Recreation
ATTACH;FMTTYPE=image/jpeg:https://www.visitglenarbor.com/wp-content/uploads/2020/03/labor-day-bridge-walk_glen-arbor_glen-lake.jpg
ORGANIZER;CN="Empire Area Community Center":MAILTO:empireareacommunitycenter@gmail.com
END:VEVENT
BEGIN:VEVENT
DTSTART;TZID=America/Detroit:20150329T160000
DTEND;TZID=America/Detroit:20150329T180000
DTSTAMP:20260422T215621
CREATED:20150327T213618Z
LAST-MODIFIED:20150327T213618Z
UID:10002459-1427644800-1427652000@www.visitglenarbor.com
SUMMARY:Empire Area Emergency Fund Concert
DESCRIPTION:The next Empire Area Community Emergency Fund Concert on Sunday March 29th 4:00 to 6:00pm at Art’s Tavern in Glen Arbor.\n\nThis will be a very special live performance by featured artists Sue and Bill Dungjen.\n\nWe are honored and grateful to have the gift of these and so many other fine performers willing to donate their time and talent to support the efforts of the Empire Area Community Emergency Fund.\n\n“The funds collected\, combined with thousands of volunteer hours has helped to bring much comfort\, hope and sustainability throughout our community. Thanks to each and every one of you\, we couldn’t do it without you!” ~Gerry
URL:https://www.visitglenarbor.com/event/empire-area-emergency-fund-concert-2/
LOCATION:Arts Tavern\, 6487 Western Ave\, Glen Arbor\, 49636
CATEGORIES:Community Events
ORGANIZER;CN="Empire Area Community Center":MAILTO:empireareacommunitycenter@gmail.com
END:VEVENT
BEGIN:VEVENT
DTSTART;TZID=America/Detroit:20150301T160000
DTEND;TZID=America/Detroit:20150301T180000
DTSTAMP:20260422T215621
CREATED:20150225T030157Z
LAST-MODIFIED:20150225T030157Z
UID:10002445-1425225600-1425232800@www.visitglenarbor.com
SUMMARY:Emergency Fund Concert | March 1\, 2015
DESCRIPTION:Empire Area Community Emergency Fund Concert will be held on Sunday\, March 1st from 4:00pm to 6pm at Boonedocks in Glen Arbor.\n\nThere will be outstanding performances by a multitude of talent featuring “Da Sista Hood ‘n Joe” as well as a feature performance by “Barbara Faith Jordan“\n\nSpread the word\, You won’t want to miss this one!
URL:https://www.visitglenarbor.com/event/emergency-fund-concert-march-1-2015/
LOCATION:Boonedocks\, 5858 Manitou Vw\, Glen Arbor\, MI\, 49636\, United States
CATEGORIES:Community Events
ATTACH;FMTTYPE=:
ORGANIZER;CN="Empire Area Community Center":MAILTO:empireareacommunitycenter@gmail.com
END:VEVENT
END:VCALENDAR