BEGIN:VCALENDAR
VERSION:2.0
PRODID:-//Glen Lake Chamber of Commerce - ECPv6.15.19//NONSGML v1.0//EN
CALSCALE:GREGORIAN
METHOD:PUBLISH
X-ORIGINAL-URL:https://www.visitglenarbor.com
X-WR-CALDESC:Events for Glen Lake Chamber of Commerce
REFRESH-INTERVAL;VALUE=DURATION:PT1H
X-Robots-Tag:noindex
X-PUBLISHED-TTL:PT1H
BEGIN:VTIMEZONE
TZID:America/Detroit
BEGIN:DAYLIGHT
TZOFFSETFROM:-0500
TZOFFSETTO:-0400
TZNAME:EDT
DTSTART:20240310T070000
END:DAYLIGHT
BEGIN:STANDARD
TZOFFSETFROM:-0400
TZOFFSETTO:-0500
TZNAME:EST
DTSTART:20241103T060000
END:STANDARD
BEGIN:DAYLIGHT
TZOFFSETFROM:-0500
TZOFFSETTO:-0400
TZNAME:EDT
DTSTART:20250309T070000
END:DAYLIGHT
BEGIN:STANDARD
TZOFFSETFROM:-0400
TZOFFSETTO:-0500
TZNAME:EST
DTSTART:20251102T060000
END:STANDARD
BEGIN:DAYLIGHT
TZOFFSETFROM:-0500
TZOFFSETTO:-0400
TZNAME:EDT
DTSTART:20260308T070000
END:DAYLIGHT
BEGIN:STANDARD
TZOFFSETFROM:-0400
TZOFFSETTO:-0500
TZNAME:EST
DTSTART:20261101T060000
END:STANDARD
END:VTIMEZONE
BEGIN:VEVENT
DTSTART;TZID=America/Detroit:20250618T150000
DTEND;TZID=America/Detroit:20250618T180000
DTSTAMP:20260420T030153
CREATED:20250605T153836Z
LAST-MODIFIED:20250605T153836Z
UID:10007893-1750258800-1750269600@www.visitglenarbor.com
SUMMARY:Live Music at Dune Bird Winery: Emily Faber
DESCRIPTION:Dune Bird Winery invites you to unwind and sip on your favorite wine\, handcrafted coffee or just soak in the vineyard views while enjoying live music by the wonderful Emily Faber.
URL:https://www.visitglenarbor.com/event/live-music-at-dune-bird-winery-emily-faber/2025-06-18/
LOCATION:Dune Bird Winery\, 5620 N Manitou Trail\,\, Northport\, MI\, 49670\, United States
CATEGORIES:Community Events,Music,Wine/Beer or Tasting Event
ATTACH;FMTTYPE=image/jpeg:https://www.visitglenarbor.com/wp-content/uploads/2025/05/dunebirdlivemusic2025-1.jpg
ORGANIZER;CN="Dune Bird Winery":MAILTO:info@dunebirdwinery.com
END:VEVENT
BEGIN:VEVENT
DTSTART;TZID=America/Detroit:20250615T150000
DTEND;TZID=America/Detroit:20250615T180000
DTSTAMP:20260420T030153
CREATED:20250605T153146Z
LAST-MODIFIED:20250605T153146Z
UID:10007890-1749999600-1750010400@www.visitglenarbor.com
SUMMARY:Live Music at Dune Bird Winery: Dennis Palmer
DESCRIPTION:Dune Bird Winery invites you to unwind and sip on your favorite wine\, handcrafted coffee or just soak in the vineyard views while enjoying live music by the wonderful Dennis Palmer.
URL:https://www.visitglenarbor.com/event/live-music-at-dune-bird-winery-dennis-palmer/2025-06-15/
LOCATION:Dune Bird Winery\, 5620 N Manitou Trail\,\, Northport\, MI\, 49670\, United States
CATEGORIES:Community Events,Music,Wine/Beer or Tasting Event
ATTACH;FMTTYPE=image/jpeg:https://www.visitglenarbor.com/wp-content/uploads/2025/05/dunebirdlivemusic2025-1.jpg
ORGANIZER;CN="Dune Bird Winery":MAILTO:info@dunebirdwinery.com
END:VEVENT
BEGIN:VEVENT
DTSTART;TZID=America/Detroit:20250611T150000
DTEND;TZID=America/Detroit:20250611T180000
DTSTAMP:20260420T030153
CREATED:20250605T152635Z
LAST-MODIFIED:20250605T152635Z
UID:10007885-1749654000-1749664800@www.visitglenarbor.com
SUMMARY:Live Music at Dune Bird Winery: Luke Woltanski
DESCRIPTION:Dune Bird Winery invites you to unwind and sip on your favorite wine\, handcrafted coffee or just soak in the vineyard views while enjoying live music by the wonderful Luke Woltanski.
URL:https://www.visitglenarbor.com/event/live-music-at-dune-bird-winery-luke-woltanski/2025-06-11/
LOCATION:Dune Bird Winery\, 5620 N Manitou Trail\,\, Northport\, MI\, 49670\, United States
CATEGORIES:Community Events,Music,Wine/Beer or Tasting Event
ATTACH;FMTTYPE=image/jpeg:https://www.visitglenarbor.com/wp-content/uploads/2025/05/dunebirdlivemusic2025.jpg
ORGANIZER;CN="Dune Bird Winery":MAILTO:info@dunebirdwinery.com
END:VEVENT
BEGIN:VEVENT
DTSTART;TZID=America/Detroit:20250608T150000
DTEND;TZID=America/Detroit:20250608T180000
DTSTAMP:20260420T030153
CREATED:20250528T165533Z
LAST-MODIFIED:20250605T154032Z
UID:10007863-1749394800-1749405600@www.visitglenarbor.com
SUMMARY:Live Music at Dune Bird Winery: Larry Perkins
DESCRIPTION:Dune Bird Winery invites you to unwind and sip on your favorite wine\, handcrafted coffee or just soak in the vineyard views while enjoying live music by the wonderful Larry Perkins. 
URL:https://www.visitglenarbor.com/event/live-music-at-dune-bird-winery-larry-perkins/2025-06-08/
LOCATION:Dune Bird Winery\, 5620 N Manitou Trail\,\, Northport\, MI\, 49670\, United States
CATEGORIES:Community Events,Music,Wine/Beer or Tasting Event
ATTACH;FMTTYPE=image/jpeg:https://www.visitglenarbor.com/wp-content/uploads/2025/05/dunebirdlivemusic2025-1.jpg
ORGANIZER;CN="Dune Bird Winery":MAILTO:info@dunebirdwinery.com
END:VEVENT
BEGIN:VEVENT
DTSTART;TZID=America/Detroit:20250604T150000
DTEND;TZID=America/Detroit:20250604T180000
DTSTAMP:20260420T030153
CREATED:20250528T162735Z
LAST-MODIFIED:20250528T162735Z
UID:10007859-1749049200-1749060000@www.visitglenarbor.com
SUMMARY:Live Music at Dune Bird Winery: Highway North
DESCRIPTION:Dune Bird Winery invites you to unwind and sip on your favorite wine\, handcrafted coffee or just soak in the vineyard views while enjoying live music by the wonderful Highway North. 
URL:https://www.visitglenarbor.com/event/live-music-at-dune-bird-winery-highway-north/2025-06-04/
LOCATION:Dune Bird Winery\, 5620 N Manitou Trail\,\, Northport\, MI\, 49670\, United States
CATEGORIES:Community Events,Music,Wine/Beer or Tasting Event
ATTACH;FMTTYPE=image/jpeg:https://www.visitglenarbor.com/wp-content/uploads/2025/05/dunebirdlivemusic2025-1.jpg
ORGANIZER;CN="Dune Bird Winery":MAILTO:info@dunebirdwinery.com
END:VEVENT
BEGIN:VEVENT
DTSTART;TZID=America/Detroit:20250601T150000
DTEND;TZID=America/Detroit:20250601T180000
DTSTAMP:20260420T030153
CREATED:20250528T160422Z
LAST-MODIFIED:20250528T160422Z
UID:10007858-1748790000-1748800800@www.visitglenarbor.com
SUMMARY:Live Music at Dune Bird Winery: Legal Rehab
DESCRIPTION:Dune Bird Winery invites you to unwind and sip on your favorite wine\, handcrafted coffee or just soak in the vineyard views while enjoying live music by the wonderful Legal Rehab. 
URL:https://www.visitglenarbor.com/event/live-music-at-dune-bird-winery-legal-rehab/
LOCATION:Dune Bird Winery\, 5620 N Manitou Trail\,\, Northport\, MI\, 49670\, United States
CATEGORIES:Community Events,Music,Wine/Beer or Tasting Event
ATTACH;FMTTYPE=image/jpeg:https://www.visitglenarbor.com/wp-content/uploads/2025/05/dunebirdlivemusic2025-1.jpg
ORGANIZER;CN="Dune Bird Winery":MAILTO:info@dunebirdwinery.com
END:VEVENT
BEGIN:VEVENT
DTSTART;TZID=America/Detroit:20250528T150000
DTEND;TZID=America/Detroit:20250528T180000
DTSTAMP:20260420T030153
CREATED:20250527T124119Z
LAST-MODIFIED:20250527T124119Z
UID:10007844-1748444400-1748455200@www.visitglenarbor.com
SUMMARY:Live Music at Dune Bird Winery: Touch of Grey
DESCRIPTION:Dune Bird Winery invites you to unwind and sip on your favorite wine\, handcrafted coffee or just soak in the vineyard views while enjoying live music by the wonderful Touch of Grey. 
URL:https://www.visitglenarbor.com/event/live-music-at-dune-bird-winery-touch-of-grey/2025-05-28/
LOCATION:Dune Bird Winery\, 5620 N Manitou Trail\,\, Northport\, MI\, 49670\, United States
CATEGORIES:Community Events,Music,Wine/Beer or Tasting Event
ATTACH;FMTTYPE=image/jpeg:https://www.visitglenarbor.com/wp-content/uploads/2025/05/dunebirdlivemusic2025.jpg
ORGANIZER;CN="Dune Bird Winery":MAILTO:info@dunebirdwinery.com
END:VEVENT
BEGIN:VEVENT
DTSTART;TZID=America/Detroit:20250525T150000
DTEND;TZID=America/Detroit:20250525T180000
DTSTAMP:20260420T030153
CREATED:20250522T152224Z
LAST-MODIFIED:20250522T152224Z
UID:10007823-1748185200-1748196000@www.visitglenarbor.com
SUMMARY:Live Music at Dune Bird Winery: Swingbone North
DESCRIPTION:Dune Bird Winery invites you to unwind and sip on your favorite wine\, handcrafted coffee or just soak in the vineyard views while enjoying live music by the wonderful Swingbone North. 
URL:https://www.visitglenarbor.com/event/live-music-at-dune-bird-winery-swingbone-north/2025-05-25/
LOCATION:Dune Bird Winery\, 5620 N Manitou Trail\,\, Northport\, MI\, 49670\, United States
CATEGORIES:Community Events,Music,Wine/Beer or Tasting Event
ATTACH;FMTTYPE=image/jpeg:https://www.visitglenarbor.com/wp-content/uploads/2025/05/dunebirdlivemusic2025.jpg
ORGANIZER;CN="Dune Bird Winery":MAILTO:info@dunebirdwinery.com
END:VEVENT
END:VCALENDAR