BEGIN:VCALENDAR
VERSION:2.0
PRODID:-//Glen Lake Chamber of Commerce - ECPv6.15.19//NONSGML v1.0//EN
CALSCALE:GREGORIAN
METHOD:PUBLISH
X-ORIGINAL-URL:https://www.visitglenarbor.com
X-WR-CALDESC:Events for Glen Lake Chamber of Commerce
REFRESH-INTERVAL;VALUE=DURATION:PT1H
X-Robots-Tag:noindex
X-PUBLISHED-TTL:PT1H
BEGIN:VTIMEZONE
TZID:America/Detroit
BEGIN:DAYLIGHT
TZOFFSETFROM:-0500
TZOFFSETTO:-0400
TZNAME:EDT
DTSTART:20160313T070000
END:DAYLIGHT
BEGIN:STANDARD
TZOFFSETFROM:-0400
TZOFFSETTO:-0500
TZNAME:EST
DTSTART:20161106T060000
END:STANDARD
BEGIN:DAYLIGHT
TZOFFSETFROM:-0500
TZOFFSETTO:-0400
TZNAME:EDT
DTSTART:20170312T070000
END:DAYLIGHT
BEGIN:STANDARD
TZOFFSETFROM:-0400
TZOFFSETTO:-0500
TZNAME:EST
DTSTART:20171105T060000
END:STANDARD
BEGIN:DAYLIGHT
TZOFFSETFROM:-0500
TZOFFSETTO:-0400
TZNAME:EDT
DTSTART:20180311T070000
END:DAYLIGHT
BEGIN:STANDARD
TZOFFSETFROM:-0400
TZOFFSETTO:-0500
TZNAME:EST
DTSTART:20181104T060000
END:STANDARD
BEGIN:DAYLIGHT
TZOFFSETFROM:-0500
TZOFFSETTO:-0400
TZNAME:EDT
DTSTART:20190310T070000
END:DAYLIGHT
BEGIN:STANDARD
TZOFFSETFROM:-0400
TZOFFSETTO:-0500
TZNAME:EST
DTSTART:20191103T060000
END:STANDARD
BEGIN:DAYLIGHT
TZOFFSETFROM:-0500
TZOFFSETTO:-0400
TZNAME:EDT
DTSTART:20200308T070000
END:DAYLIGHT
BEGIN:STANDARD
TZOFFSETFROM:-0400
TZOFFSETTO:-0500
TZNAME:EST
DTSTART:20201101T060000
END:STANDARD
END:VTIMEZONE
BEGIN:VEVENT
DTSTART;TZID=America/Detroit:20190710T170000
DTEND;TZID=America/Detroit:20190710T190000
DTSTAMP:20260422T202223
CREATED:20190615T233110Z
LAST-MODIFIED:20200309T054940Z
UID:10003915-1562778000-1562785200@www.visitglenarbor.com
SUMMARY:Magic Thursday Artists at the City Opera House in Traverse
DESCRIPTION:Opening Reception for the Magic Thursday Artists at the City Opera House\, 106 E. Front Street\, Traverse City.  The opening reception is Wednesday\, 10 July 2019 from 5:00 p.m. to 7:00 p.m.  There will be over 100 pieces of art depicting northern Michigan will be on display.  Light refreshments will be served\, public is welcome\, free admission. \nMagic Thursday Artists Summer 2019 Art Show.  Over 100 pieces of original artwork depicting the northern Michigan area created in oil\, acrylic\, watercolor\, and pastel will be on display.  The show will run July and August on Monday thru Friday from 10:00 a.m. to 5:00 p.m.  A portion of proceeds from all sales benefits the historic City Opera House.  Public welcome\, admission is free.
URL:https://www.visitglenarbor.com/event/magic-thursday-artists-at-the-city-opera-house-in-traverse/
LOCATION:City Opera House\, 106 E. Front Street\, Traverse City\, MI\, 49684\, United States
CATEGORIES:Art/Gallery/Exhibit,Local Business Event
ATTACH;FMTTYPE=image/jpeg:https://www.visitglenarbor.com/wp-content/uploads/2020/03/Painters-on-the-Beach-at-Shalda-2015-e1560899773527.jpg
ORGANIZER;CN="City Opera House and Magic Thursday Artists":MAILTO:kikiwon@hotmail.com
END:VEVENT
BEGIN:VEVENT
DTSTART;TZID=America/Detroit:20180711T170000
DTEND;TZID=America/Detroit:20180711T190000
DTSTAMP:20260422T202223
CREATED:20180614T225126Z
LAST-MODIFIED:20200309T054854Z
UID:10003064-1531328400-1531335600@www.visitglenarbor.com
SUMMARY:Seeking Van Gogh: Artist Reception
DESCRIPTION:Opening Reception is Wednesday\, 11 July from 5:00 p.m. to 7:00 p.m. Admission is free. Sales benefit the City Opera House. \nNine artists will display over 100 pieces of work in oil\, watercolor\, pastel\, and acrylic.  A special feature is “Seeking Van Gogh.”  Each artist has painted a local view as Van Gogh would have painted it.  \nCity Opera House presents the Magic Thursday Artists Summer Art Show and Sale.  The show will be during July and August\, Monday thru Friday from 10:00 a.m. to 5:00 p.m. at the historic City Opera House\, 106 E. Front Street\, Traverse City.
URL:https://www.visitglenarbor.com/event/seeking-van-gogh-artist-reception/
LOCATION:City Opera House\, 106 E. Front Street\, Traverse City\, MI\, 49684\, United States
CATEGORIES:Art/Gallery/Exhibit
ATTACH;FMTTYPE=image/jpeg:https://www.visitglenarbor.com/wp-content/uploads/2020/03/Seeking-Van-Gogh_Magic-Thrusday-Artist_City-Opera-House-TC.jpg
ORGANIZER;CN="City Opera House and Magic Thursday Artists":MAILTO:kikiwon@hotmail.com
END:VEVENT
BEGIN:VEVENT
DTSTART;TZID=America/Detroit:20170701T100000
DTEND;TZID=America/Detroit:20170831T170000
DTSTAMP:20260422T202223
CREATED:20170519T051647Z
LAST-MODIFIED:20200309T054819Z
UID:10002888-1498903200-1504198800@www.visitglenarbor.com
SUMMARY:Magic Thursday Artists Summer 2017 Exhibition and Sale
DESCRIPTION:The City Opera House is proud to again present the Magic Thursday Artists for a two-month art exhibition and sale July 1\, 2017 through August 31\, 2017. The exhibition features original fine art paintings in oil\, watercolor\, pastel and acrylic. A portion of all sales benefits the City Opera House.  \nThe opening reception\, with refreshments\, will be held on July 6\, 2017 from 5 p.m. to 7 p.m. at the City Opera House\, 106 East Front Street\, Traverse City. \nFeatured artists are: Sue Bowerman\, Pat Dixon\, Nancy Donley\, Nan Frankland\, Linda Goodpaster\, Veronique Jonas\, Ruth Kitchen\, Dorothy Mudget\, Sherry McNamara\, Marilyn Rebant\, and Laura Swire. \nThis group of accomplished local artists has been painting together for many years\, both outside (plein air) and in the studio space on Thursdays. You may have seen them around the area at various beautiful locations. Their love and joy in the creative process\, inspired by nature\, is reflected in their fine work. \nThe exhibition is open Monday through Friday from 10 a.m. to 5 p.m. and during evening events.  \n  \n 
URL:https://www.visitglenarbor.com/event/magic-thursday-artists-summer-2017-exhibition-and-sale/
LOCATION:City Opera House\, 106 E. Front Street\, Traverse City\, MI\, 49684\, United States
CATEGORIES:Art/Gallery/Exhibit
ORGANIZER;CN="City Opera House and Magic Thursday Artists":MAILTO:kikiwon@hotmail.com
END:VEVENT
END:VCALENDAR