BEGIN:VCALENDAR
VERSION:2.0
PRODID:-//Glen Lake Chamber of Commerce - ECPv6.15.19//NONSGML v1.0//EN
CALSCALE:GREGORIAN
METHOD:PUBLISH
X-ORIGINAL-URL:https://www.visitglenarbor.com
X-WR-CALDESC:Events for Glen Lake Chamber of Commerce
REFRESH-INTERVAL;VALUE=DURATION:PT1H
X-Robots-Tag:noindex
X-PUBLISHED-TTL:PT1H
BEGIN:VTIMEZONE
TZID:America/Detroit
BEGIN:DAYLIGHT
TZOFFSETFROM:-0500
TZOFFSETTO:-0400
TZNAME:EDT
DTSTART:20130310T070000
END:DAYLIGHT
BEGIN:STANDARD
TZOFFSETFROM:-0400
TZOFFSETTO:-0500
TZNAME:EST
DTSTART:20131103T060000
END:STANDARD
BEGIN:DAYLIGHT
TZOFFSETFROM:-0500
TZOFFSETTO:-0400
TZNAME:EDT
DTSTART:20140309T070000
END:DAYLIGHT
BEGIN:STANDARD
TZOFFSETFROM:-0400
TZOFFSETTO:-0500
TZNAME:EST
DTSTART:20141102T060000
END:STANDARD
BEGIN:DAYLIGHT
TZOFFSETFROM:-0500
TZOFFSETTO:-0400
TZNAME:EDT
DTSTART:20150308T070000
END:DAYLIGHT
BEGIN:STANDARD
TZOFFSETFROM:-0400
TZOFFSETTO:-0500
TZNAME:EST
DTSTART:20151101T060000
END:STANDARD
END:VTIMEZONE
BEGIN:VEVENT
DTSTART;TZID=America/Detroit:20140804T030000
DTEND;TZID=America/Detroit:20140804T160000
DTSTAMP:20260422T230633
CREATED:20140608T170121Z
LAST-MODIFIED:20200309T054615Z
UID:10002371-1407121200-1407168000@www.visitglenarbor.com
SUMMARY:Painting Demonstration: Duncan Spratt Moran
DESCRIPTION:Traverse City artist Duncan Spratt Moran will conduct a painting demonstration Monday\, Aug. 4\, 3 p.m. at Center Gallery. This event is part of his exhibition at the gallery. Moran takes a mixed media approach to his depiction of his subject: human habitation\, agriculture and the Northern Michigan landscape. He uses a range of paint (milk paint\, watercolor and oil)\, along with woodblock and linoleum printing. The demonstration open to the public at no charge. For more information please call 231/334-3179.
URL:https://www.visitglenarbor.com/event/painting-demonstration-duncan-spratt-moran/
LOCATION:Center Gallery at Lake Street Studios
CATEGORIES:Community Events
ATTACH;FMTTYPE=image/jpeg:https://www.visitglenarbor.com/wp-content/uploads/2020/03/From-the-Top-of-the-Hill-scaled.jpg
END:VEVENT
BEGIN:VEVENT
DTSTART;TZID=America/Detroit:20140701T130000
DTEND;TZID=America/Detroit:20140701T140000
DTSTAMP:20260422T230633
CREATED:20140411T174306Z
LAST-MODIFIED:20200309T054828Z
UID:10002334-1404219600-1404223200@www.visitglenarbor.com
SUMMARY:Painting Demonstration
DESCRIPTION:Chicago artist Liz Wall conducts a painting demonstration July 1\, 1 p.m. as part of her exhibition “Leelanau Lake Effect” at Center Gallery\, 6023 S. Lake St.\, Glen Arbor. Wall works in both oil and pastel paint. She’ll demonstrate her technique and talk about process and painting in Leelanau County. For more information call 231/334-3179.
URL:https://www.visitglenarbor.com/event/painting-demonstration/
LOCATION:Center Gallery at Lake Street Studios
CATEGORIES:Community Events
ATTACH;FMTTYPE=image/jpeg:https://www.visitglenarbor.com/wp-content/uploads/2020/03/20170228_162648.jpg
END:VEVENT
END:VCALENDAR