BEGIN:VCALENDAR
VERSION:2.0
PRODID:-//Glen Lake Chamber of Commerce - ECPv6.15.19//NONSGML v1.0//EN
CALSCALE:GREGORIAN
METHOD:PUBLISH
X-ORIGINAL-URL:https://www.visitglenarbor.com
X-WR-CALDESC:Events for Glen Lake Chamber of Commerce
REFRESH-INTERVAL;VALUE=DURATION:PT1H
X-Robots-Tag:noindex
X-PUBLISHED-TTL:PT1H
BEGIN:VTIMEZONE
TZID:America/Detroit
BEGIN:DAYLIGHT
TZOFFSETFROM:-0500
TZOFFSETTO:-0400
TZNAME:EDT
DTSTART:20130310T070000
END:DAYLIGHT
BEGIN:STANDARD
TZOFFSETFROM:-0400
TZOFFSETTO:-0500
TZNAME:EST
DTSTART:20131103T060000
END:STANDARD
BEGIN:DAYLIGHT
TZOFFSETFROM:-0500
TZOFFSETTO:-0400
TZNAME:EDT
DTSTART:20140309T070000
END:DAYLIGHT
BEGIN:STANDARD
TZOFFSETFROM:-0400
TZOFFSETTO:-0500
TZNAME:EST
DTSTART:20141102T060000
END:STANDARD
BEGIN:DAYLIGHT
TZOFFSETFROM:-0500
TZOFFSETTO:-0400
TZNAME:EDT
DTSTART:20150308T070000
END:DAYLIGHT
BEGIN:STANDARD
TZOFFSETFROM:-0400
TZOFFSETTO:-0500
TZNAME:EST
DTSTART:20151101T060000
END:STANDARD
END:VTIMEZONE
BEGIN:VEVENT
DTSTART;TZID=America/Detroit:20140718T110000
DTEND;TZID=America/Detroit:20140724T160000
DTSTAMP:20260420T023446
CREATED:20140509T173056Z
LAST-MODIFIED:20200309T054614Z
UID:10002359-1405681200-1406217600@www.visitglenarbor.com
SUMMARY:Leelanau Land and Water: Paintings by Margo Burian
DESCRIPTION:Paintings of Leelanau County’s land and water – as processed through the imagination of Grand Rapids artist Margo Burian – are on display next at Center Gallery\, 6023 S. Lake St.\, Glen Arbor. A public reception opens the show July 18\, 6 p.m. \n  \nBurian’s lush\, atmospheric oil paintings of the region are not\, she says\, a strict record of natural features and landmarks. “I have taken liberties with place and nature to move the painting from an accounting or laundry list to an interpretation\,” Burian said. Water – and its “ability to change at a moment’s notice” – plays an important role in her painting\, which begin as field sketches\, then developed in her studio. \n  \nThis show continues through July 24. For more information\, please call 231/334-3179. \n 
URL:https://www.visitglenarbor.com/event/leelanau-land-and-water-paintings-by-margo-burian/
LOCATION:Center Gallery at Lake Street Studios
CATEGORIES:Local Business Event
ATTACH;FMTTYPE=image/jpeg:https://www.visitglenarbor.com/wp-content/uploads/2020/03/2013_DechowFarm_12x6-scaled.jpg
END:VEVENT
BEGIN:VEVENT
DTSTART;TZID=America/Detroit:20140712T130000
DTEND;TZID=America/Detroit:20140712T140000
DTSTAMP:20260420T023446
CREATED:20140505T174045Z
LAST-MODIFIED:20200309T054614Z
UID:10002357-1405170000-1405173600@www.visitglenarbor.com
SUMMARY:Painting Demonstration with Joseph Lombardo
DESCRIPTION:Ohio artist Joseph Lombardo demonstrates his plein air painting technique July 12\, 1 p.m. at Center Gallery\, 6023 S. Lake St.\, Glen Arbor. \n  \nLombardo\, an adjunct professor at Columbus College of Art and Design\, paints in oil and has created a body of work based on his summer visits to Glen Arbor. An exhibition of Lombardo’s new Glen Arbor paintings is on display at Center Gallery through July 17. Call 231/334-3179 for more information.
URL:https://www.visitglenarbor.com/event/painting-demonstration-with-joseph-lombardo/
LOCATION:Center Gallery at Lake Street Studios
CATEGORIES:Community Events
ATTACH;FMTTYPE=image/jpeg:https://www.visitglenarbor.com/wp-content/uploads/2020/03/Joe-Demo.jpg
END:VEVENT
BEGIN:VEVENT
DTSTART;TZID=America/Detroit:20140530T180000
DTEND;TZID=America/Detroit:20140530T210000
DTSTAMP:20260420T023446
CREATED:20140411T172344Z
LAST-MODIFIED:20200309T053831Z
UID:10002332-1401472800-1401483600@www.visitglenarbor.com
SUMMARY:'Color of Light' Reception
DESCRIPTION:A reception for “Color of Light\,” Center Gallery’s first show of its 2014 season\, is May 30\, 6 p.m. at the gallery.“Color of Light” features work by two artists in paint and porcelain. Ann Arbor ceramist Elizabeth Lurie and Maple City painter Carol Spaulding both draw on the world of flowers\, vegetables and other plant forms for their work. Center Gallery\, 6023 S. Lake St.\, Glen Arbor. Through June 26.
URL:https://www.visitglenarbor.com/event/color-of-light-reception/
LOCATION:Center Gallery at Lake Street Studios
CATEGORIES:Community Events
END:VEVENT
END:VCALENDAR