BEGIN:VCALENDAR
VERSION:2.0
PRODID:-//Glen Lake Chamber of Commerce - ECPv6.15.19//NONSGML v1.0//EN
CALSCALE:GREGORIAN
METHOD:PUBLISH
X-ORIGINAL-URL:https://www.visitglenarbor.com
X-WR-CALDESC:Events for Glen Lake Chamber of Commerce
REFRESH-INTERVAL;VALUE=DURATION:PT1H
X-Robots-Tag:noindex
X-PUBLISHED-TTL:PT1H
BEGIN:VTIMEZONE
TZID:America/Detroit
BEGIN:DAYLIGHT
TZOFFSETFROM:-0500
TZOFFSETTO:-0400
TZNAME:EDT
DTSTART:20240310T070000
END:DAYLIGHT
BEGIN:STANDARD
TZOFFSETFROM:-0400
TZOFFSETTO:-0500
TZNAME:EST
DTSTART:20241103T060000
END:STANDARD
BEGIN:DAYLIGHT
TZOFFSETFROM:-0500
TZOFFSETTO:-0400
TZNAME:EDT
DTSTART:20250309T070000
END:DAYLIGHT
BEGIN:STANDARD
TZOFFSETFROM:-0400
TZOFFSETTO:-0500
TZNAME:EST
DTSTART:20251102T060000
END:STANDARD
BEGIN:DAYLIGHT
TZOFFSETFROM:-0500
TZOFFSETTO:-0400
TZNAME:EDT
DTSTART:20260308T070000
END:DAYLIGHT
BEGIN:STANDARD
TZOFFSETFROM:-0400
TZOFFSETTO:-0500
TZNAME:EST
DTSTART:20261101T060000
END:STANDARD
END:VTIMEZONE
BEGIN:VEVENT
DTSTART;TZID=America/Detroit:20250808T173000
DTEND;TZID=America/Detroit:20250808T193000
DTSTAMP:20260423T133757
CREATED:20250609T183555Z
LAST-MODIFIED:20250609T183643Z
UID:10007915-1754674200-1754681400@www.visitglenarbor.com
SUMMARY:Live Music at Bel Lago: Andre Villoch
DESCRIPTION:Join us for an evening of live music at Bel Lago. Enjoy performances by the talented Andre Villoch while you sip your favorite Bel Lago wines and take in the stunning scenery of Lake Leelanau – the perfect way to unwind.
URL:https://www.visitglenarbor.com/event/live-music-at-bel-lago-andre-villoch/2025-08-08/
LOCATION:Bel Lago\, 6530 S LAKE SHORE DR\, CEDAR\, MI\, 49621-9615\, United States
CATEGORIES:Community Events,Music,Wine/Beer or Tasting Event
ATTACH;FMTTYPE=image/png:https://www.visitglenarbor.com/wp-content/uploads/2025/05/FVV-WINE-CLUB-RACK-CARD-3.png
ORGANIZER;CN="Bel Lago":MAILTO:info@bellago.com
END:VEVENT
BEGIN:VEVENT
DTSTART;TZID=America/Detroit:20250805T173000
DTEND;TZID=America/Detroit:20250805T193000
DTSTAMP:20260423T133757
CREATED:20250515T151517Z
LAST-MODIFIED:20250515T151517Z
UID:10007796-1754415000-1754422200@www.visitglenarbor.com
SUMMARY:Live Music at Bel Lago: Dominic Fortuna
DESCRIPTION:Join us at Bel Lago for live music with Dominic Fortuna.
URL:https://www.visitglenarbor.com/event/live-music-at-bel-lago-dominic-fortuna/2025-08-05/
LOCATION:Bel Lago\, 6530 S LAKE SHORE DR\, CEDAR\, MI\, 49621-9615\, United States
CATEGORIES:Community Events,Music
ATTACH;FMTTYPE=image/png:https://www.visitglenarbor.com/wp-content/uploads/2025/05/FVV-WINE-CLUB-RACK-CARD-3.png
ORGANIZER;CN="Bel Lago":MAILTO:info@bellago.com
END:VEVENT
BEGIN:VEVENT
DTSTART;TZID=America/Detroit:20250803T153000
DTEND;TZID=America/Detroit:20250803T173000
DTSTAMP:20260423T133757
CREATED:20250610T140441Z
LAST-MODIFIED:20250610T140441Z
UID:10007926-1754235000-1754242200@www.visitglenarbor.com
SUMMARY:Live Music at Bel Lago: Jesse Jefferson
DESCRIPTION:Join us for live music at Bel Lago. Enjoy performances by the talented Jesse Jefferson while you sip your favorite Bel Lago wines and take in the stunning scenery of Lake Leelanau – the perfect way to unwind. \nJesse is a one man band with a guitar and loop pedal who loves engaging with the audience and taking requests.
URL:https://www.visitglenarbor.com/event/live-music-at-bel-lago-jesse-jefferson/2025-08-03/
LOCATION:Bel Lago\, 6530 S LAKE SHORE DR\, CEDAR\, MI\, 49621-9615\, United States
CATEGORIES:Community Events,Music,Wine/Beer or Tasting Event
ATTACH;FMTTYPE=image/png:https://www.visitglenarbor.com/wp-content/uploads/2025/05/FVV-WINE-CLUB-RACK-CARD-3.png
ORGANIZER;CN="Bel Lago":MAILTO:info@bellago.com
END:VEVENT
BEGIN:VEVENT
DTSTART;TZID=America/Detroit:20250802T153000
DTEND;TZID=America/Detroit:20250802T173000
DTSTAMP:20260423T133757
CREATED:20250513T183101Z
LAST-MODIFIED:20250513T183101Z
UID:10007780-1754148600-1754155800@www.visitglenarbor.com
SUMMARY:Live Music at Bel Lago: Jacob Abraham
DESCRIPTION:Join us at Bel Lago for live music with Jakob Abraham from 3:30 – 5:30 PM.
URL:https://www.visitglenarbor.com/event/live-music-at-bel-lago-jacob-abraham/2025-08-02/
LOCATION:Bel Lago\, 6530 S LAKE SHORE DR\, CEDAR\, MI\, 49621-9615\, United States
CATEGORIES:Community Events,Music
ATTACH;FMTTYPE=image/jpeg:https://www.visitglenarbor.com/wp-content/uploads/2025/05/6CCFFA1D-EF96-424F-958F-35B4865A7E5B.jpg
ORGANIZER;CN="Bel Lago":MAILTO:info@bellago.com
END:VEVENT
BEGIN:VEVENT
DTSTART;TZID=America/Detroit:20250729T173000
DTEND;TZID=America/Detroit:20250729T193000
DTSTAMP:20260423T133757
CREATED:20250515T151517Z
LAST-MODIFIED:20250515T151517Z
UID:10007795-1753810200-1753817400@www.visitglenarbor.com
SUMMARY:Live Music at Bel Lago: Dominic Fortuna
DESCRIPTION:Join us at Bel Lago for live music with Dominic Fortuna.
URL:https://www.visitglenarbor.com/event/live-music-at-bel-lago-dominic-fortuna/2025-07-29/
LOCATION:Bel Lago\, 6530 S LAKE SHORE DR\, CEDAR\, MI\, 49621-9615\, United States
CATEGORIES:Community Events,Music
ATTACH;FMTTYPE=image/png:https://www.visitglenarbor.com/wp-content/uploads/2025/05/FVV-WINE-CLUB-RACK-CARD-3.png
ORGANIZER;CN="Bel Lago":MAILTO:info@bellago.com
END:VEVENT
BEGIN:VEVENT
DTSTART;TZID=America/Detroit:20250727T153000
DTEND;TZID=America/Detroit:20250727T173000
DTSTAMP:20260423T133757
CREATED:20250618T132001Z
LAST-MODIFIED:20250618T132001Z
UID:10008039-1753630200-1753637400@www.visitglenarbor.com
SUMMARY:Live Music at Bel Lago: Drew Hale
DESCRIPTION:Join us at Bel Lago for live music with Drew Hale\, Sunday\, 07/27\, from 3:30 – 5:30 PM.
URL:https://www.visitglenarbor.com/event/live-music-at-bel-lago-drew-hale/
LOCATION:Bel Lago\, 6530 S LAKE SHORE DR\, CEDAR\, MI\, 49621-9615\, United States
CATEGORIES:Community Events,Music,Wine/Beer or Tasting Event
ATTACH;FMTTYPE=image/png:https://www.visitglenarbor.com/wp-content/uploads/2025/05/FVV-WINE-CLUB-RACK-CARD-3.png
ORGANIZER;CN="Bel Lago":MAILTO:info@bellago.com
END:VEVENT
BEGIN:VEVENT
DTSTART;TZID=America/Detroit:20250727T150000
DTEND;TZID=America/Detroit:20250727T180000
DTSTAMP:20260423T133757
CREATED:20250519T173739Z
LAST-MODIFIED:20250519T173739Z
UID:10007812-1753628400-1753639200@www.visitglenarbor.com
SUMMARY:Live Music at Dune Bird Winery: Billy & the Kid
DESCRIPTION:Dune Bird Winery invites you to unwind and sip on your favorite wine\, handcrafted coffee or just soak in the vineyard views while enjoying live music by the wonderful Billy & the Kid.
URL:https://www.visitglenarbor.com/event/live-music-at-dune-bird-winery-billy-the-kid/2025-07-27/
LOCATION:Bel Lago\, 6530 S LAKE SHORE DR\, CEDAR\, MI\, 49621-9615\, United States
CATEGORIES:Community Events,Music,Wine/Beer or Tasting Event
ATTACH;FMTTYPE=image/jpeg:https://www.visitglenarbor.com/wp-content/uploads/2025/05/dunebirdlivemusic2025.jpg
ORGANIZER;CN="Bel Lago":MAILTO:info@bellago.com
END:VEVENT
BEGIN:VEVENT
DTSTART;TZID=America/Detroit:20250726T153000
DTEND;TZID=America/Detroit:20250726T173000
DTSTAMP:20260423T133757
CREATED:20250610T140104Z
LAST-MODIFIED:20250610T140104Z
UID:10007925-1753543800-1753551000@www.visitglenarbor.com
SUMMARY:Live Music at Bel Lago: Eye in Queue
DESCRIPTION:Join us for live music at Bel Lago. Enjoy a performance by the talented Eye in Queue while you sip your favorite Bel Lago wines and take in the stunning scenery of Lake Leelanau – the perfect way to unwind.
URL:https://www.visitglenarbor.com/event/live-music-at-bel-lago-eye-in-queue/
LOCATION:Bel Lago\, 6530 S LAKE SHORE DR\, CEDAR\, MI\, 49621-9615\, United States
CATEGORIES:Community Events,Music,Wine/Beer or Tasting Event
ATTACH;FMTTYPE=image/png:https://www.visitglenarbor.com/wp-content/uploads/2025/05/FVV-WINE-CLUB-RACK-CARD-3.png
ORGANIZER;CN="Bel Lago":MAILTO:info@bellago.com
END:VEVENT
BEGIN:VEVENT
DTSTART;TZID=America/Detroit:20250725T173000
DTEND;TZID=America/Detroit:20250725T193000
DTSTAMP:20260423T133757
CREATED:20250610T135822Z
LAST-MODIFIED:20250610T135822Z
UID:10007924-1753464600-1753471800@www.visitglenarbor.com
SUMMARY:Live Music at Bel Lago: Kevin Paul
DESCRIPTION:Join us for live music at Bel Lago. Enjoy a performance by the talented Kevin Paul while you sip your favorite Bel Lago wines and take in the stunning scenery of Lake Leelanau – the perfect way to unwind.
URL:https://www.visitglenarbor.com/event/live-music-at-bel-lago-kevin-paul/
LOCATION:Bel Lago\, 6530 S LAKE SHORE DR\, CEDAR\, MI\, 49621-9615\, United States
CATEGORIES:Community Events,Music,Wine/Beer or Tasting Event
ATTACH;FMTTYPE=image/png:https://www.visitglenarbor.com/wp-content/uploads/2025/05/FVV-WINE-CLUB-RACK-CARD-3.png
ORGANIZER;CN="Bel Lago":MAILTO:info@bellago.com
END:VEVENT
BEGIN:VEVENT
DTSTART;TZID=America/Detroit:20250722T173000
DTEND;TZID=America/Detroit:20250722T193000
DTSTAMP:20260423T133757
CREATED:20250610T133209Z
LAST-MODIFIED:20250610T133209Z
UID:10007923-1753205400-1753212600@www.visitglenarbor.com
SUMMARY:Live Music at Bel Lago: Jim Hawley
DESCRIPTION:Join us for live music at Bel Lago. Enjoy a performance by the talented Jim Hawley while you sip your favorite Bel Lago wines and take in the stunning scenery of Lake Leelanau – the perfect way to unwind.
URL:https://www.visitglenarbor.com/event/live-music-at-bel-lago-jim-hawley/
LOCATION:Bel Lago\, 6530 S LAKE SHORE DR\, CEDAR\, MI\, 49621-9615\, United States
CATEGORIES:Community Events,Music,Wine/Beer or Tasting Event
ATTACH;FMTTYPE=image/png:https://www.visitglenarbor.com/wp-content/uploads/2025/05/FVV-WINE-CLUB-RACK-CARD-3.png
ORGANIZER;CN="Bel Lago":MAILTO:info@bellago.com
END:VEVENT
BEGIN:VEVENT
DTSTART;TZID=America/Detroit:20250720T153000
DTEND;TZID=America/Detroit:20250720T173000
DTSTAMP:20260423T133757
CREATED:20250513T183101Z
LAST-MODIFIED:20250513T183101Z
UID:10007779-1753025400-1753032600@www.visitglenarbor.com
SUMMARY:Live Music at Bel Lago: Jacob Abraham
DESCRIPTION:Join us at Bel Lago for live music with Jakob Abraham from 3:30 – 5:30 PM.
URL:https://www.visitglenarbor.com/event/live-music-at-bel-lago-jacob-abraham/2025-07-20/
LOCATION:Bel Lago\, 6530 S LAKE SHORE DR\, CEDAR\, MI\, 49621-9615\, United States
CATEGORIES:Community Events,Music
ATTACH;FMTTYPE=image/jpeg:https://www.visitglenarbor.com/wp-content/uploads/2025/05/6CCFFA1D-EF96-424F-958F-35B4865A7E5B.jpg
ORGANIZER;CN="Bel Lago":MAILTO:info@bellago.com
END:VEVENT
BEGIN:VEVENT
DTSTART;TZID=America/Detroit:20250719T153000
DTEND;TZID=America/Detroit:20250719T173000
DTSTAMP:20260423T133757
CREATED:20250609T190112Z
LAST-MODIFIED:20250609T190112Z
UID:10007922-1752939000-1752946200@www.visitglenarbor.com
SUMMARY:Live Music at Bel Lago: Bryan Poirier
DESCRIPTION:Join us for live music at Bel Lago. Enjoy performances by the talented Bryan Poirier while you sip your favorite Bel Lago wines and take in the stunning scenery of Lake Leelanau – the perfect way to unwind.
URL:https://www.visitglenarbor.com/event/live-music-at-bel-lago-bryan-poirier/
LOCATION:Bel Lago\, 6530 S LAKE SHORE DR\, CEDAR\, MI\, 49621-9615\, United States
CATEGORIES:Community Events,Music,Wine/Beer or Tasting Event
ATTACH;FMTTYPE=image/png:https://www.visitglenarbor.com/wp-content/uploads/2025/05/FVV-WINE-CLUB-RACK-CARD-3.png
ORGANIZER;CN="Bel Lago":MAILTO:info@bellago.com
END:VEVENT
BEGIN:VEVENT
DTSTART;TZID=America/Detroit:20250718T173000
DTEND;TZID=America/Detroit:20250718T193000
DTSTAMP:20260423T133757
CREATED:20250514T193224Z
LAST-MODIFIED:20250610T141418Z
UID:10007783-1752859800-1752867000@www.visitglenarbor.com
SUMMARY:Live Music at Bel Lago: Larry Perkins
DESCRIPTION:Join us at Bel Lago for live music with Larry Perkins. \nLarry Perkins is a seasoned musician with over 40 years of experience\, bringing his earthy originals and raspy renditions of classic rock to the Northern Michigan and Gulf Coast music scenes. Known for his heartfelt vocals and twisty guitar licks\, Larry’s unique style and high-energy performances are sure to get you on your feet.
URL:https://www.visitglenarbor.com/event/live-music-at-bel-lago-larry-perkins/2025-07-18/
LOCATION:Bel Lago\, 6530 S LAKE SHORE DR\, CEDAR\, MI\, 49621-9615\, United States
CATEGORIES:Music
ATTACH;FMTTYPE=image/png:https://www.visitglenarbor.com/wp-content/uploads/2025/05/FVV-WINE-CLUB-RACK-CARD-3.png
ORGANIZER;CN="Bel Lago":MAILTO:info@bellago.com
END:VEVENT
BEGIN:VEVENT
DTSTART;TZID=America/Detroit:20250715T173000
DTEND;TZID=America/Detroit:20250715T193000
DTSTAMP:20260423T133757
CREATED:20250515T151517Z
LAST-MODIFIED:20250515T151517Z
UID:10007794-1752600600-1752607800@www.visitglenarbor.com
SUMMARY:Live Music at Bel Lago: Dominic Fortuna
DESCRIPTION:Join us at Bel Lago for live music with Dominic Fortuna.
URL:https://www.visitglenarbor.com/event/live-music-at-bel-lago-dominic-fortuna/2025-07-15/
LOCATION:Bel Lago\, 6530 S LAKE SHORE DR\, CEDAR\, MI\, 49621-9615\, United States
CATEGORIES:Community Events,Music
ATTACH;FMTTYPE=image/png:https://www.visitglenarbor.com/wp-content/uploads/2025/05/FVV-WINE-CLUB-RACK-CARD-3.png
ORGANIZER;CN="Bel Lago":MAILTO:info@bellago.com
END:VEVENT
BEGIN:VEVENT
DTSTART;TZID=America/Detroit:20250713T153000
DTEND;TZID=America/Detroit:20250713T173000
DTSTAMP:20260423T133757
CREATED:20250609T185445Z
LAST-MODIFIED:20250610T142334Z
UID:10007921-1752420600-1752427800@www.visitglenarbor.com
SUMMARY:Live Music at Bel Lago: Loose Change
DESCRIPTION:Join us at Bel Lago for live music with Loose Change. \nLoose Change is an eclectic acoustic duo offering versatile performances that suit any occasion. With their wide-ranging repertoire and dynamic style\, they create the perfect soundtrack for any event.
URL:https://www.visitglenarbor.com/event/live-music-at-bel-lago-loose-change/
LOCATION:Bel Lago\, 6530 S LAKE SHORE DR\, CEDAR\, MI\, 49621-9615\, United States
CATEGORIES:Community Events,Music,Wine/Beer or Tasting Event
ATTACH;FMTTYPE=image/png:https://www.visitglenarbor.com/wp-content/uploads/2025/05/FVV-WINE-CLUB-RACK-CARD-3.png
ORGANIZER;CN="Bel Lago":MAILTO:info@bellago.com
END:VEVENT
BEGIN:VEVENT
DTSTART;TZID=America/Detroit:20250712T153000
DTEND;TZID=America/Detroit:20250712T173000
DTSTAMP:20260423T133757
CREATED:20250514T193224Z
LAST-MODIFIED:20250610T141418Z
UID:10007782-1752334200-1752341400@www.visitglenarbor.com
SUMMARY:Live Music at Bel Lago: Larry Perkins
DESCRIPTION:Join us at Bel Lago for live music with Larry Perkins. \nLarry Perkins is a seasoned musician with over 40 years of experience\, bringing his earthy originals and raspy renditions of classic rock to the Northern Michigan and Gulf Coast music scenes. Known for his heartfelt vocals and twisty guitar licks\, Larry’s unique style and high-energy performances are sure to get you on your feet.
URL:https://www.visitglenarbor.com/event/live-music-at-bel-lago-larry-perkins/2025-07-12/
LOCATION:Bel Lago\, 6530 S LAKE SHORE DR\, CEDAR\, MI\, 49621-9615\, United States
CATEGORIES:Music
ATTACH;FMTTYPE=image/png:https://www.visitglenarbor.com/wp-content/uploads/2025/05/FVV-WINE-CLUB-RACK-CARD-3.png
ORGANIZER;CN="Bel Lago":MAILTO:info@bellago.com
END:VEVENT
BEGIN:VEVENT
DTSTART;TZID=America/Detroit:20250711T173000
DTEND;TZID=America/Detroit:20250711T193000
DTSTAMP:20260423T133757
CREATED:20250609T184731Z
LAST-MODIFIED:20250609T184731Z
UID:10007919-1752255000-1752262200@www.visitglenarbor.com
SUMMARY:Live Music at Bel Lago: Rhett and John
DESCRIPTION:Join for live music at Bel Lago. Enjoy performances by the talented Rhett & John while you sip your favorite Bel Lago wines and take in the stunning scenery of Lake Leelanau – the perfect way to unwind. \nRhett & John are a dynamic acoustic duo known for their crowd-pleasing performances\, featuring fresh takes on familiar hits. With tight vocal harmonies and unique arrangements\, they seamlessly blend timeless classics with today’s favorites\, creating a captivating live music experience.
URL:https://www.visitglenarbor.com/event/live-music-at-bel-lago-rhett-and-john/2025-07-11/
LOCATION:Bel Lago\, 6530 S LAKE SHORE DR\, CEDAR\, MI\, 49621-9615\, United States
CATEGORIES:Community Events,Music,Wine/Beer or Tasting Event
ATTACH;FMTTYPE=image/png:https://www.visitglenarbor.com/wp-content/uploads/2025/05/FVV-WINE-CLUB-RACK-CARD-3.png
ORGANIZER;CN="Bel Lago":MAILTO:info@bellago.com
END:VEVENT
BEGIN:VEVENT
DTSTART;TZID=America/Detroit:20250708T173000
DTEND;TZID=America/Detroit:20250708T193000
DTSTAMP:20260423T133757
CREATED:20250609T184052Z
LAST-MODIFIED:20250609T184052Z
UID:10007917-1751995800-1752003000@www.visitglenarbor.com
SUMMARY:Live Music at Bel Lago: Pinter Whitnick
DESCRIPTION:Join us for live music at Bel Lago. Enjoy performances by the talented Pinter Whitnick while you sip your favorite Bel Lago wines and take in the stunning scenery of Lake Leelanau – the perfect way to unwind. \nPinter Whitnick is a dynamic duo known for delivering energetic performances of ’80s and ’90s hits. With their infectious sound and lively stage presence\, they bring a nostalgic yet fresh experience to every show.
URL:https://www.visitglenarbor.com/event/live-music-at-bel-lago-pinter-whitnick/2025-07-08/
LOCATION:Bel Lago\, 6530 S LAKE SHORE DR\, CEDAR\, MI\, 49621-9615\, United States
CATEGORIES:Community Events,Music,Wine/Beer or Tasting Event
ATTACH;FMTTYPE=image/png:https://www.visitglenarbor.com/wp-content/uploads/2025/05/FVV-WINE-CLUB-RACK-CARD-3.png
ORGANIZER;CN="Bel Lago":MAILTO:info@bellago.com
END:VEVENT
BEGIN:VEVENT
DTSTART;TZID=America/Detroit:20250706T153000
DTEND;TZID=America/Detroit:20250706T173000
DTSTAMP:20260423T133757
CREATED:20250609T183555Z
LAST-MODIFIED:20250609T183643Z
UID:10007914-1751815800-1751823000@www.visitglenarbor.com
SUMMARY:Live Music at Bel Lago: Andre Villoch
DESCRIPTION:Join us for an evening of live music at Bel Lago. Enjoy performances by the talented Andre Villoch while you sip your favorite Bel Lago wines and take in the stunning scenery of Lake Leelanau – the perfect way to unwind.
URL:https://www.visitglenarbor.com/event/live-music-at-bel-lago-andre-villoch/2025-07-06/
LOCATION:Bel Lago\, 6530 S LAKE SHORE DR\, CEDAR\, MI\, 49621-9615\, United States
CATEGORIES:Community Events,Music,Wine/Beer or Tasting Event
ATTACH;FMTTYPE=image/png:https://www.visitglenarbor.com/wp-content/uploads/2025/05/FVV-WINE-CLUB-RACK-CARD-3.png
ORGANIZER;CN="Bel Lago":MAILTO:info@bellago.com
END:VEVENT
BEGIN:VEVENT
DTSTART;TZID=America/Detroit:20250705T153000
DTEND;TZID=America/Detroit:20250705T173000
DTSTAMP:20260423T133757
CREATED:20250516T165509Z
LAST-MODIFIED:20250610T142116Z
UID:10007809-1751729400-1751736600@www.visitglenarbor.com
SUMMARY:Live Music at Bel Lago: Delilah DeWylde
DESCRIPTION:Join us at Bel Lago for live music with Delilah DeWylde.
URL:https://www.visitglenarbor.com/event/live-music-at-bel-lago-delilah-dewylde/2025-07-05/
LOCATION:Bel Lago\, 6530 S LAKE SHORE DR\, CEDAR\, MI\, 49621-9615\, United States
CATEGORIES:Community Events,Music,Wine/Beer or Tasting Event
ATTACH;FMTTYPE=image/png:https://www.visitglenarbor.com/wp-content/uploads/2025/05/FVV-WINE-CLUB-RACK-CARD-3.png
ORGANIZER;CN="Bel Lago":MAILTO:info@bellago.com
END:VEVENT
BEGIN:VEVENT
DTSTART;TZID=America/Detroit:20250704T140000
DTEND;TZID=America/Detroit:20250704T160000
DTSTAMP:20260423T133757
CREATED:20250515T192013Z
LAST-MODIFIED:20250515T192013Z
UID:10007806-1751637600-1751644800@www.visitglenarbor.com
SUMMARY:Live Music at Bel Lago: Luke Woltanski
DESCRIPTION:Join us at Bel Lago for live music with Luke Woltanski.  \nLuke Woltanski is known for his high-energy\, captivating performances that keep audiences of all ages engaged. Backed by a talented group of handpicked musicians\, Luke delivers an exciting mix of songs from every generation\, making each family-friendly show a unique musical experience.
URL:https://www.visitglenarbor.com/event/live-music-at-bel-lago-luke-woltanski/2025-07-04/
LOCATION:Bel Lago\, 6530 S LAKE SHORE DR\, CEDAR\, MI\, 49621-9615\, United States
CATEGORIES:Community Events,Music,Wine/Beer or Tasting Event
ATTACH;FMTTYPE=image/png:https://www.visitglenarbor.com/wp-content/uploads/2025/05/FVV-WINE-CLUB-RACK-CARD-3.png
ORGANIZER;CN="Bel Lago":MAILTO:info@bellago.com
END:VEVENT
BEGIN:VEVENT
DTSTART;TZID=America/Detroit:20250701T173000
DTEND;TZID=America/Detroit:20250701T193000
DTSTAMP:20260423T133757
CREATED:20250515T181506Z
LAST-MODIFIED:20250618T131322Z
UID:10007803-1751391000-1751398200@www.visitglenarbor.com
SUMMARY:Live Music at Bel Lago: Chris Smith
DESCRIPTION:Join us at Bel Lago for live music with Chris Smith.  \nChris Smith is a Traverse City-based musician\, multi-instrumentalist\, and songwriter\, blending alternative acoustic and folk with live looping for a rich\, dynamic sound. With years of Midwest performances and world touring as an arts ambassador\, Chris brings a unique depth to every show.
URL:https://www.visitglenarbor.com/event/live-music-at-bel-lago-chris-smith/2025-07-01/
LOCATION:Bel Lago\, 6530 S LAKE SHORE DR\, CEDAR\, MI\, 49621-9615\, United States
CATEGORIES:Community Events,Music,Wine/Beer or Tasting Event
ATTACH;FMTTYPE=image/png:https://www.visitglenarbor.com/wp-content/uploads/2025/05/FVV-WINE-CLUB-RACK-CARD-3.png
ORGANIZER;CN="Bel Lago":MAILTO:info@bellago.com
END:VEVENT
BEGIN:VEVENT
DTSTART;TZID=America/Detroit:20250629T153000
DTEND;TZID=America/Detroit:20250629T173000
DTSTAMP:20260423T133757
CREATED:20250515T171525Z
LAST-MODIFIED:20250515T171525Z
UID:10007801-1751211000-1751218200@www.visitglenarbor.com
SUMMARY:Live Music at Bel Lago: Nick Veine
DESCRIPTION:Join us at Bel Lago for live music with Nick Veine.  \nNick Veine brings an eclectic blend of blues\, country\, jazz\, and original tunes to every performance. Imagine Johnny Cash meets James Taylor with a touch of Alan Menken.
URL:https://www.visitglenarbor.com/event/live-music-at-bel-lago-nick-veine/2025-06-29/
LOCATION:Bel Lago\, 6530 S LAKE SHORE DR\, CEDAR\, MI\, 49621-9615\, United States
CATEGORIES:Community Events,Music,Wine/Beer or Tasting Event
ATTACH;FMTTYPE=image/png:https://www.visitglenarbor.com/wp-content/uploads/2025/05/FVV-WINE-CLUB-RACK-CARD-3.png
ORGANIZER;CN="Bel Lago":MAILTO:info@bellago.com
END:VEVENT
BEGIN:VEVENT
DTSTART;TZID=America/Detroit:20250628T153000
DTEND;TZID=America/Detroit:20250628T173000
DTSTAMP:20260423T133757
CREATED:20250515T151517Z
LAST-MODIFIED:20250515T151517Z
UID:10007793-1751124600-1751131800@www.visitglenarbor.com
SUMMARY:Live Music at Bel Lago: Dominic Fortuna
DESCRIPTION:Join us at Bel Lago for live music with Dominic Fortuna.
URL:https://www.visitglenarbor.com/event/live-music-at-bel-lago-dominic-fortuna/2025-06-28/
LOCATION:Bel Lago\, 6530 S LAKE SHORE DR\, CEDAR\, MI\, 49621-9615\, United States
CATEGORIES:Community Events,Music
ATTACH;FMTTYPE=image/png:https://www.visitglenarbor.com/wp-content/uploads/2025/05/FVV-WINE-CLUB-RACK-CARD-3.png
ORGANIZER;CN="Bel Lago":MAILTO:info@bellago.com
END:VEVENT
BEGIN:VEVENT
DTSTART;TZID=America/Detroit:20250627T173000
DTEND;TZID=America/Detroit:20250627T193000
DTSTAMP:20260423T133757
CREATED:20250515T131752Z
LAST-MODIFIED:20250515T131752Z
UID:10007790-1751045400-1751052600@www.visitglenarbor.com
SUMMARY:Live Music at Bel Lago: John Piatek
DESCRIPTION:Join us at Bel Lago for live music with John Piatek.  \nJohn Piatek is a guitarist\, specializing in original music and live performance. John and his wife Madeline perform together\, as the “Fridays.” John has a collection of original songs as well as perfected classics to share with the Northern Michigan community and beyond.
URL:https://www.visitglenarbor.com/event/live-music-at-bel-lago-john-piatek/2025-06-27/
LOCATION:Bel Lago\, 6530 S LAKE SHORE DR\, CEDAR\, MI\, 49621-9615\, United States
CATEGORIES:Community Events,Music
ORGANIZER;CN="Bel Lago":MAILTO:info@bellago.com
END:VEVENT
BEGIN:VEVENT
DTSTART;TZID=America/Detroit:20250621T153000
DTEND;TZID=America/Detroit:20250621T173000
DTSTAMP:20260423T133757
CREATED:20250514T193224Z
LAST-MODIFIED:20250610T141418Z
UID:10007781-1750519800-1750527000@www.visitglenarbor.com
SUMMARY:Live Music at Bel Lago: Larry Perkins
DESCRIPTION:Join us at Bel Lago for live music with Larry Perkins. \nLarry Perkins is a seasoned musician with over 40 years of experience\, bringing his earthy originals and raspy renditions of classic rock to the Northern Michigan and Gulf Coast music scenes. Known for his heartfelt vocals and twisty guitar licks\, Larry’s unique style and high-energy performances are sure to get you on your feet.
URL:https://www.visitglenarbor.com/event/live-music-at-bel-lago-larry-perkins/2025-06-21/
LOCATION:Bel Lago\, 6530 S LAKE SHORE DR\, CEDAR\, MI\, 49621-9615\, United States
CATEGORIES:Music
ATTACH;FMTTYPE=image/png:https://www.visitglenarbor.com/wp-content/uploads/2025/05/FVV-WINE-CLUB-RACK-CARD-3.png
ORGANIZER;CN="Bel Lago":MAILTO:info@bellago.com
END:VEVENT
BEGIN:VEVENT
DTSTART;TZID=America/Detroit:20250525T153000
DTEND;TZID=America/Detroit:20250525T173000
DTSTAMP:20260423T133757
CREATED:20250513T183101Z
LAST-MODIFIED:20250513T183101Z
UID:10007778-1748187000-1748194200@www.visitglenarbor.com
SUMMARY:Live Music at Bel Lago: Jacob Abraham
DESCRIPTION:Join us at Bel Lago for live music with Jakob Abraham from 3:30 – 5:30 PM.
URL:https://www.visitglenarbor.com/event/live-music-at-bel-lago-jacob-abraham/2025-05-25/
LOCATION:Bel Lago\, 6530 S LAKE SHORE DR\, CEDAR\, MI\, 49621-9615\, United States
CATEGORIES:Community Events,Music
ATTACH;FMTTYPE=image/jpeg:https://www.visitglenarbor.com/wp-content/uploads/2025/05/6CCFFA1D-EF96-424F-958F-35B4865A7E5B.jpg
ORGANIZER;CN="Bel Lago":MAILTO:info@bellago.com
END:VEVENT
BEGIN:VEVENT
DTSTART;TZID=America/Detroit:20250521T170000
DTEND;TZID=America/Detroit:20250521T190000
DTSTAMP:20260423T133757
CREATED:20250519T173739Z
LAST-MODIFIED:20250519T173739Z
UID:10007811-1747846800-1747854000@www.visitglenarbor.com
SUMMARY:Live Music at Dune Bird Winery: Billy & the Kid
DESCRIPTION:Dune Bird Winery invites you to unwind and sip on your favorite wine\, handcrafted coffee or just soak in the vineyard views while enjoying live music by the wonderful Billy & the Kid.
URL:https://www.visitglenarbor.com/event/live-music-at-dune-bird-winery-billy-the-kid/2025-05-21/
LOCATION:Bel Lago\, 6530 S LAKE SHORE DR\, CEDAR\, MI\, 49621-9615\, United States
CATEGORIES:Community Events,Music,Wine/Beer or Tasting Event
ATTACH;FMTTYPE=image/jpeg:https://www.visitglenarbor.com/wp-content/uploads/2025/05/dunebirdlivemusic2025.jpg
ORGANIZER;CN="Bel Lago":MAILTO:info@bellago.com
END:VEVENT
BEGIN:VEVENT
DTSTART;TZID=America/Detroit:20250515T080000
DTEND;TZID=America/Detroit:20250515T170000
DTSTAMP:20260423T133757
CREATED:20250515T131752Z
LAST-MODIFIED:20250515T131752Z
UID:10007789-1747296000-1747328400@www.visitglenarbor.com
SUMMARY:Live Music at Bel Lago: John Piatek
DESCRIPTION:Join us at Bel Lago for live music with John Piatek.  \nJohn Piatek is a guitarist\, specializing in original music and live performance. John and his wife Madeline perform together\, as the “Fridays.” John has a collection of original songs as well as perfected classics to share with the Northern Michigan community and beyond.
URL:https://www.visitglenarbor.com/event/live-music-at-bel-lago-john-piatek/2025-05-15/
LOCATION:Bel Lago\, 6530 S LAKE SHORE DR\, CEDAR\, MI\, 49621-9615\, United States
CATEGORIES:Community Events,Music
ORGANIZER;CN="Bel Lago":MAILTO:info@bellago.com
END:VEVENT
BEGIN:VEVENT
DTSTART;TZID=America/Detroit:20250307T170000
DTEND;TZID=America/Detroit:20250307T210000
DTSTAMP:20260423T133757
CREATED:20250221T183111Z
LAST-MODIFIED:20250221T183111Z
UID:10007612-1741366800-1741381200@www.visitglenarbor.com
SUMMARY:The Vineyard Feast
DESCRIPTION:An Exquisite Evening of Wine & Food at Bel Lago North Farm Harmony House \n📅 March 7th | 📍 Bel Lago North Farm Harmony House\n🎟 $130 per person | 🍷 Five Courses & Wine Pairing \nIndulge in an intimate and unforgettable evening where fine wine\, gourmet cuisine\, and live music come together in the enchanting setting of our historic farmhouse. \nAn Evening to Savor \n✨ Begin your night with charcuterie and conversation\, sipping exquisite wines while the soft acoustic melodies of Elizabeth Landry set the mood. \n✨ Witness Chef Brad Roth in action as he masterfully creates and plates each course\, while sommelier Kate Vilter Stassen guides you through a curated wine pairing experience\, featuring Bel Lago’s award-winning wines. \n✨ Delight in a meticulously crafted five-course menu\, thoughtfully paired to showcase the depth and elegance of our wines. \nThe Menu \nShrimp-Stuffed Gougères with Trout Roe\nHouse-Made Charcuterie\nRadicchio\, Blood Orange & Grapefruit Salad with Shaved Manchego & Candied Pecans\nVenison Medallion Wrapped in Bacon with Cranberry Demi-Glace\nPistachio Trifle with Mango Crème Anglaise \nWine Pairings\nSparkling Auxerrois\nPinot Grigio\nDry Riesling\nCabernet Franc\nLate Harvest Riesling Reserve \nEnhance Your Experience \n💫 Luxury Overnight Stay – Extend the magic of the evening with an overnight stay for $75 per person. \n📲 Reserve Your Spot – Limited seating available! Text Sarah at 231-499-1617 to secure your tickets. \nJoin us for an evening where every sip\, every bite\, and every note of music creates an unforgettable experience. 🍷✨
URL:https://www.visitglenarbor.com/event/the-vineyard-feast/
LOCATION:Bel Lago North Farm\, MI\, United States
CATEGORIES:Food/Dining Event,Wine/Beer or Tasting Event
ATTACH;FMTTYPE=image/jpeg:https://www.visitglenarbor.com/wp-content/uploads/2025/02/winter-farm-house-scaled.jpg
ORGANIZER;CN="Bel Lago":MAILTO:info@bellago.com
END:VEVENT
END:VCALENDAR