BEGIN:VCALENDAR
VERSION:2.0
PRODID:-//Glen Lake Chamber of Commerce - ECPv6.15.19//NONSGML v1.0//EN
CALSCALE:GREGORIAN
METHOD:PUBLISH
X-ORIGINAL-URL:https://www.visitglenarbor.com
X-WR-CALDESC:Events for Glen Lake Chamber of Commerce
REFRESH-INTERVAL;VALUE=DURATION:PT1H
X-Robots-Tag:noindex
X-PUBLISHED-TTL:PT1H
BEGIN:VTIMEZONE
TZID:America/Detroit
BEGIN:DAYLIGHT
TZOFFSETFROM:-0500
TZOFFSETTO:-0400
TZNAME:EDT
DTSTART:20140309T070000
END:DAYLIGHT
BEGIN:STANDARD
TZOFFSETFROM:-0400
TZOFFSETTO:-0500
TZNAME:EST
DTSTART:20141102T060000
END:STANDARD
BEGIN:DAYLIGHT
TZOFFSETFROM:-0500
TZOFFSETTO:-0400
TZNAME:EDT
DTSTART:20150308T070000
END:DAYLIGHT
BEGIN:STANDARD
TZOFFSETFROM:-0400
TZOFFSETTO:-0500
TZNAME:EST
DTSTART:20151101T060000
END:STANDARD
BEGIN:DAYLIGHT
TZOFFSETFROM:-0500
TZOFFSETTO:-0400
TZNAME:EDT
DTSTART:20160313T070000
END:DAYLIGHT
BEGIN:STANDARD
TZOFFSETFROM:-0400
TZOFFSETTO:-0500
TZNAME:EST
DTSTART:20161106T060000
END:STANDARD
BEGIN:DAYLIGHT
TZOFFSETFROM:-0500
TZOFFSETTO:-0400
TZNAME:EDT
DTSTART:20170312T070000
END:DAYLIGHT
BEGIN:STANDARD
TZOFFSETFROM:-0400
TZOFFSETTO:-0500
TZNAME:EST
DTSTART:20171105T060000
END:STANDARD
BEGIN:DAYLIGHT
TZOFFSETFROM:-0500
TZOFFSETTO:-0400
TZNAME:EDT
DTSTART:20180311T070000
END:DAYLIGHT
BEGIN:STANDARD
TZOFFSETFROM:-0400
TZOFFSETTO:-0500
TZNAME:EST
DTSTART:20181104T060000
END:STANDARD
BEGIN:DAYLIGHT
TZOFFSETFROM:-0500
TZOFFSETTO:-0400
TZNAME:EDT
DTSTART:20190310T070000
END:DAYLIGHT
BEGIN:STANDARD
TZOFFSETFROM:-0400
TZOFFSETTO:-0500
TZNAME:EST
DTSTART:20191103T060000
END:STANDARD
BEGIN:DAYLIGHT
TZOFFSETFROM:-0500
TZOFFSETTO:-0400
TZNAME:EDT
DTSTART:20200308T070000
END:DAYLIGHT
BEGIN:STANDARD
TZOFFSETFROM:-0400
TZOFFSETTO:-0500
TZNAME:EST
DTSTART:20201101T060000
END:STANDARD
END:VTIMEZONE
BEGIN:VEVENT
DTSTART;TZID=America/Detroit:20191129T090000
DTEND;TZID=America/Detroit:20191129T093000
DTSTAMP:20260423T075803
CREATED:20190628T194840Z
LAST-MODIFIED:20211116T174222Z
UID:10003954-1575018000-1575019800@www.visitglenarbor.com
SUMMARY:Glen Arbor Bed Parade
DESCRIPTION:In its third year\, the quirky “Glen Arbor Bed Parade” brings another fun thing to Glen Arbor for Thanksgiving weekend. Join the new Black Friday tradition\, sponsored by Becky Thatcher Designs. Open to anyone and everyone to cheer from the curb or roll down Western Avenue.  \nWant to participate?  \nHaul that creatively decorated bed on wheels to Sylvan Inn’s parking at 9:00 Friday and join the parade. Your support team to push would be good\, too. Event begins at 9am and ends by 9:30am at Art’s Tavern. \n  \nPrior to the parade\, some wake up early dressed festive and cozy to shop the deals of the year during the Glen Arbor PJ Party from 6:30-9am. Following the Bed Parade\, many plan to dine at local eateries in and around Glen Arbor. \n  \nQuestions? Contact Organizers/Sponsors: Becky and Cookie Thatcher. Email: becky@beckythatcherdesigns.com or 314-422-5252 \n> Event on Facebook
URL:https://www.visitglenarbor.com/event/glen-arbor-bed-parade-2019/
LOCATION:Downtown Glen Arbor\, Glen Arbor\, MI\, 49636\, United States
CATEGORIES:Community Events,Kids + Family Friendly,Local Business Event
ATTACH;FMTTYPE=image/jpeg:https://www.visitglenarbor.com/wp-content/uploads/2020/03/IMG_8676-e1561736127726.jpg
ORGANIZER;CN="Becky  Thatcher":MAILTO:sales@beckythatcherdesigns.com
END:VEVENT
BEGIN:VEVENT
DTSTART;TZID=America/Detroit:20181123T090000
DTEND;TZID=America/Detroit:20181123T093000
DTSTAMP:20260423T075803
CREATED:20180823T225622Z
LAST-MODIFIED:20200309T054906Z
UID:10003172-1542963600-1542965400@www.visitglenarbor.com
SUMMARY:Bed Parade
DESCRIPTION:NEW! This will be the 2nd annual “Glen Arbor Bed Parade” for those who’d rather sleep in on Black Friday but do something fun Thanksgiving weekend. \nBefore and After the “Bed Parade” you may shop local retailers and dine at local eateries in and around Glen Arbor\, MI. \nOpen to the public\, any individual or business may participate in this event. Decorate a bed and wheel it out! Home Made Jam Bars by Art’s Tavern and Prizes will be awarded to participants!  \nQuestions? Contact Organizers/Sponsors: Becky and Cookie Thatcher. Email: becky@beckythatcherdesigns.com or 314-422-5252 \n \nEvent on Facebook \n\nMarketing for this event provided in part by the Glen Lake Chamber. 
URL:https://www.visitglenarbor.com/event/bed-parade-2018/
LOCATION:Downtown Glen Arbor\, Glen Arbor\, MI\, 49636\, United States
CATEGORIES:Community Events,Local Business Event
ATTACH;FMTTYPE=image/jpeg:https://www.visitglenarbor.com/wp-content/uploads/2020/03/Bed-Parade_Glen-Arbor_Black-Friday_2017-e1535050285739.jpg
ORGANIZER;CN="Becky  Thatcher":MAILTO:sales@beckythatcherdesigns.com
END:VEVENT
BEGIN:VEVENT
DTSTART;TZID=America/Detroit:20150714T150000
DTEND;TZID=America/Detroit:20150714T163000
DTSTAMP:20260423T075803
CREATED:20150605T202708Z
LAST-MODIFIED:20150605T202708Z
UID:10002486-1436886000-1436891400@www.visitglenarbor.com
SUMMARY:Tuesday Tea & Talk Series
DESCRIPTION:Explore the backgrounds of unique gemstones while enjoying tea in Becky’s garden. This weeks topic is Opals.\nBring a friend and join us. R.S.V.P 231-334-3826
URL:https://www.visitglenarbor.com/event/tuesday-tea-talk-series-2/
LOCATION:Becky Thatcher Designs\, 5795 Lake Street\, Glen Arbor\, MI\, 49636\, United States
CATEGORIES:Local Business Event
ATTACH;FMTTYPE=:
ORGANIZER;CN="Becky  Thatcher":MAILTO:sales@beckythatcherdesigns.com
END:VEVENT
END:VCALENDAR