BEGIN:VCALENDAR
VERSION:2.0
PRODID:-//Glen Lake Chamber of Commerce - ECPv6.15.20//NONSGML v1.0//EN
CALSCALE:GREGORIAN
METHOD:PUBLISH
X-WR-CALNAME:Glen Lake Chamber of Commerce
X-ORIGINAL-URL:https://www.visitglenarbor.com
X-WR-CALDESC:Events for Glen Lake Chamber of Commerce
REFRESH-INTERVAL;VALUE=DURATION:PT1H
X-Robots-Tag:noindex
X-PUBLISHED-TTL:PT1H
BEGIN:VTIMEZONE
TZID:America/Detroit
BEGIN:DAYLIGHT
TZOFFSETFROM:-0500
TZOFFSETTO:-0400
TZNAME:EDT
DTSTART:20160313T070000
END:DAYLIGHT
BEGIN:STANDARD
TZOFFSETFROM:-0400
TZOFFSETTO:-0500
TZNAME:EST
DTSTART:20161106T060000
END:STANDARD
BEGIN:DAYLIGHT
TZOFFSETFROM:-0500
TZOFFSETTO:-0400
TZNAME:EDT
DTSTART:20170312T070000
END:DAYLIGHT
BEGIN:STANDARD
TZOFFSETFROM:-0400
TZOFFSETTO:-0500
TZNAME:EST
DTSTART:20171105T060000
END:STANDARD
BEGIN:DAYLIGHT
TZOFFSETFROM:-0500
TZOFFSETTO:-0400
TZNAME:EDT
DTSTART:20180311T070000
END:DAYLIGHT
BEGIN:STANDARD
TZOFFSETFROM:-0400
TZOFFSETTO:-0500
TZNAME:EST
DTSTART:20181104T060000
END:STANDARD
END:VTIMEZONE
BEGIN:VEVENT
DTSTART;TZID=America/Detroit:20170430T113000
DTEND;TZID=America/Detroit:20170430T170000
DTSTAMP:20260425T081255
CREATED:20170406T233813Z
LAST-MODIFIED:20200309T054811Z
UID:10002871-1493551800-1493571600@www.visitglenarbor.com
SUMMARY:8th Annual Traverse City Chocolate Festival
DESCRIPTION:Sunday\, April 30\, 2017 \n11:30 AM–2:00PM and 2:30–5:00 PM \nCITY OPERA HOUSE \n106 East Front Street \nTraverse City\, MI 49684 \n  \nAdmission:  $15.50 Adults\, $8.50 12 yrs old and under* \n            Group discounts available. \n  \nA fundraiser for the Northwest Food Coalition \n  \n  \nEIGHT YEARS of chocolate in April in Traverse City.   \n  \nThat’s a LOT OF CHOCOLATE!  The TC Chocolate Festival gets better every year. Come be a part of the largest chocolate festival in Michigan.   \n  \nAs the Festival grows\, the variety of exhibitors and their offerings continue to evolve and surprise. The setting is as lovely as ever\, as City Opera House celebrates its 125th year.  And the support for the Northwest Food Coalition* continues to increase.  What could be better? \n  \nTickets go on sale February 10th.  What a great Valentine’s or Mother’s Day gift! \n  \nDon’t miss it; a year is a long time to wait for the next kaleidoscope of chocolate to come around to TC!  Purchasing tickets early is recommended. \n  \n  \n*The Northwest Food Coalition serves over 68 food kitchens and baby pantries\, helping to fill families’ tables in Antrim\, Benzie\, Grand Traverse\, Kalkaska\, Leelanau & Wexford counties. \n  \n  \n  \nFor Information\, contact: \nBarbara Disborough\, “The Chocolate Lady” \nChocolate Lady Productions\, LLC \nchocolady@aye.net \n231-421-5562 \nwww.TCChocolateFestival.com \nhttps://www.facebook.com/TCChocolateFestival \nTickets*: CityOperaHouse.org; 231-941-8082\, ext. 201 \n  \n*Tickets available in advance or at the door.  City Opera House ticketing fees apply.  \n  \n 
URL:https://www.visitglenarbor.com/event/8th-annual-traverse-city-chocolate-festival/
LOCATION:City Opera House\, 106 E. Front Street\, Traverse City\, MI\, 49684\, United States
CATEGORIES:Food/Dining Event
ORGANIZER;CN="Barbara Dinsborough":MAILTO:chocolady@aye.net
END:VEVENT
END:VCALENDAR