BEGIN:VCALENDAR
VERSION:2.0
PRODID:-//Glen Lake Chamber of Commerce - ECPv6.15.19//NONSGML v1.0//EN
CALSCALE:GREGORIAN
METHOD:PUBLISH
X-ORIGINAL-URL:https://www.visitglenarbor.com
X-WR-CALDESC:Events for Glen Lake Chamber of Commerce
REFRESH-INTERVAL;VALUE=DURATION:PT1H
X-Robots-Tag:noindex
X-PUBLISHED-TTL:PT1H
BEGIN:VTIMEZONE
TZID:America/Detroit
BEGIN:DAYLIGHT
TZOFFSETFROM:-0500
TZOFFSETTO:-0400
TZNAME:EDT
DTSTART:20170312T070000
END:DAYLIGHT
BEGIN:STANDARD
TZOFFSETFROM:-0400
TZOFFSETTO:-0500
TZNAME:EST
DTSTART:20171105T060000
END:STANDARD
BEGIN:DAYLIGHT
TZOFFSETFROM:-0500
TZOFFSETTO:-0400
TZNAME:EDT
DTSTART:20180311T070000
END:DAYLIGHT
BEGIN:STANDARD
TZOFFSETFROM:-0400
TZOFFSETTO:-0500
TZNAME:EST
DTSTART:20181104T060000
END:STANDARD
BEGIN:DAYLIGHT
TZOFFSETFROM:-0500
TZOFFSETTO:-0400
TZNAME:EDT
DTSTART:20190310T070000
END:DAYLIGHT
BEGIN:STANDARD
TZOFFSETFROM:-0400
TZOFFSETTO:-0500
TZNAME:EST
DTSTART:20191103T060000
END:STANDARD
END:VTIMEZONE
BEGIN:VEVENT
DTSTART;TZID=America/Detroit:20180803T100000
DTEND;TZID=America/Detroit:20180803T110000
DTSTAMP:20260419T224033
CREATED:20180710T192656Z
LAST-MODIFIED:20200309T054859Z
UID:10002772-1533290400-1533294000@www.visitglenarbor.com
SUMMARY:Yoga on the Beach - Glen Haven 8-03
DESCRIPTION:It is time to get your yoga mat or blanket out and head to Glen Haven Beach for Yoga on the Beach! Amy Hubbell is our instructor and there is nothing as soothing as doing yoga on a pristine Lake Michigan beach. \nAmy will lead a session each Friday mornings through August 10. These sessions are held at Glen Haven Beach at 10 AM. \nYoga on the Beach classes are fun\, laid back and suitable for all levels\, even beginner yogis. All classes are 60 minutes\, and we ask for a suggested donation of $10. \n(50% of donations from classes taught at Glen Haven go to the Friends of Sleeping Bear Dunes for a new Accessible Beach Deck at the Maritime Museum Beach!) \nWe recommend dressing in comfortable layers and bringing plenty of drinking water and a towel or blanket you can stretch out on. Sunscreen and bug spray are always a good idea too.  \nGlen Haven is a restored port village on Lake Michigan about 2 miles west of Glen Arbor off M109\, part of the Sleeping Bear Dunes National Lakeshore. Come down Glen Haven Road until it ends at a big red building (the old cannery)\, turn right to park in the parking lot\, then head toward the water to find us. Donations from classes here will benefit Friends of Sleeping Bear Dunes\, a volunteer-driven nonprofit that helps keep our beloved national park clean\, safe and accessible. Note that classes at this location will be cancelled if the weather is too nasty for yoga. If in doubt call/text 231-866-1451
URL:https://www.visitglenarbor.com/event/yoga-on-the-beach-glen-haven-8-03/
LOCATION:Glen Haven Cannery\, Glen Arbor\, MI\, MI\, 49636\, United States
CATEGORIES:Recreation
ATTACH;FMTTYPE=image/jpeg:https://www.visitglenarbor.com/wp-content/uploads/2020/03/Yoga-on-the-Beach-Leelanau_Glen-Haven-e1531236056277.jpg
ORGANIZER;CN="Friends of Sleeping Bear Dunes":MAILTO: info@friendsofsleepingbear.org
END:VEVENT
BEGIN:VEVENT
DTSTART;TZID=America/Detroit:20180810T100000
DTEND;TZID=America/Detroit:20180810T110000
DTSTAMP:20260419T224033
CREATED:20180710T192830Z
LAST-MODIFIED:20200309T054859Z
UID:10002774-1533895200-1533898800@www.visitglenarbor.com
SUMMARY:Yoga on the Beach - Glen Haven 8-10
DESCRIPTION:It is time to get your yoga mat or blanket out and head to Glen Haven Beach for Yoga on the Beach! Amy Hubbell is our instructor and there is nothing as soothing as doing yoga on a pristine Lake Michigan beach. \nAmy will lead a session each Friday mornings through August 10. These sessions are held at Glen Haven Beach at 10 AM. \nYoga on the Beach classes are fun\, laid back and suitable for all levels\, even beginner yogis. All classes are 60 minutes\, and we ask for a suggested donation of $10. \n(50% of donations from classes taught at Glen Haven go to the Friends of Sleeping Bear Dunes for a new Accessible Beach Deck at the Maritime Museum Beach!) \nWe recommend dressing in comfortable layers and bringing plenty of drinking water and a towel or blanket you can stretch out on. Sunscreen and bug spray are always a good idea too.  \nGlen Haven is a restored port village on Lake Michigan about 2 miles west of Glen Arbor off M109\, part of the Sleeping Bear Dunes National Lakeshore. Come down Glen Haven Road until it ends at a big red building (the old cannery)\, turn right to park in the parking lot\, then head toward the water to find us. Donations from classes here will benefit Friends of Sleeping Bear Dunes\, a volunteer-driven nonprofit that helps keep our beloved national park clean\, safe and accessible. Note that classes at this location will be cancelled if the weather is too nasty for yoga. If in doubt call/text 231-866-1451
URL:https://www.visitglenarbor.com/event/yoga-on-the-beach-glen-haven-8-10/
LOCATION:Glen Haven Cannery\, Glen Arbor\, MI\, MI\, 49636\, United States
CATEGORIES:Recreation
ATTACH;FMTTYPE=image/jpeg:https://www.visitglenarbor.com/wp-content/uploads/2020/03/Yoga-on-the-Beach-Leelanau_Glen-Haven-e1531236056277.jpg
ORGANIZER;CN="Friends of Sleeping Bear Dunes":MAILTO: info@friendsofsleepingbear.org
END:VEVENT
END:VCALENDAR