BEGIN:VCALENDAR
VERSION:2.0
PRODID:-//Glen Lake Chamber of Commerce - ECPv6.15.20//NONSGML v1.0//EN
CALSCALE:GREGORIAN
METHOD:PUBLISH
X-WR-CALNAME:Glen Lake Chamber of Commerce
X-ORIGINAL-URL:https://www.visitglenarbor.com
X-WR-CALDESC:Events for Glen Lake Chamber of Commerce
REFRESH-INTERVAL;VALUE=DURATION:PT1H
X-Robots-Tag:noindex
X-PUBLISHED-TTL:PT1H
BEGIN:VTIMEZONE
TZID:America/Detroit
BEGIN:DAYLIGHT
TZOFFSETFROM:-0500
TZOFFSETTO:-0400
TZNAME:EDT
DTSTART:20180311T070000
END:DAYLIGHT
BEGIN:STANDARD
TZOFFSETFROM:-0400
TZOFFSETTO:-0500
TZNAME:EST
DTSTART:20181104T060000
END:STANDARD
BEGIN:DAYLIGHT
TZOFFSETFROM:-0500
TZOFFSETTO:-0400
TZNAME:EDT
DTSTART:20190310T070000
END:DAYLIGHT
BEGIN:STANDARD
TZOFFSETFROM:-0400
TZOFFSETTO:-0500
TZNAME:EST
DTSTART:20191103T060000
END:STANDARD
BEGIN:DAYLIGHT
TZOFFSETFROM:-0500
TZOFFSETTO:-0400
TZNAME:EDT
DTSTART:20200308T070000
END:DAYLIGHT
BEGIN:STANDARD
TZOFFSETFROM:-0400
TZOFFSETTO:-0500
TZNAME:EST
DTSTART:20201101T060000
END:STANDARD
END:VTIMEZONE
BEGIN:VEVENT
DTSTART;TZID=America/Detroit:20191129T063000
DTEND;TZID=America/Detroit:20191129T090000
DTSTAMP:20260425T213114
CREATED:20190628T192050Z
LAST-MODIFIED:20200309T054942Z
UID:10003952-1575009000-1575018000@www.visitglenarbor.com
SUMMARY:PJ Party
DESCRIPTION:Participating retailers in Glen Arbor offer “once a year worthy specials” during this annually anticipated “better than black Friday” shopping experience. \nBusinesses open early to offer specials to shoppers from 6:30-9am. Come dressed festive and cozy to shop local. Plan to stay in town to grab a bite to eat and drink too! \n\nParticipating businesses* include:\n\n•Bay Wear\n•Cherry Republic\n\n\n•Coastal\n•Cottage Book Shop\n•Forest Gallery\n\n•Glen Arbor Wines\n•Leelanau Coffee Roasting Co.\n•M22 Glen Arbor\n•Northwoods Hardware\n•Northwoods Home & Gift\n\n•The Sportsman Shop\n\n \n \n*not limited to\, confirmed businesses listed here\n\n \nEvent on Facebook 
URL:https://www.visitglenarbor.com/event/pj-party-black-friday-2019/
LOCATION:Downtown Glen Arbor\, Glen Arbor\, MI\, 49636\, United States
CATEGORIES:Food/Dining Event,Kids + Family Friendly,Shopping
ATTACH;FMTTYPE=image/jpeg:https://www.visitglenarbor.com/wp-content/uploads/2020/03/IMG_8655-e1561736218677.jpg
END:VEVENT
END:VCALENDAR