BEGIN:VCALENDAR
VERSION:2.0
PRODID:-//Glen Lake Chamber of Commerce - ECPv6.15.20//NONSGML v1.0//EN
CALSCALE:GREGORIAN
METHOD:PUBLISH
X-WR-CALNAME:Glen Lake Chamber of Commerce
X-ORIGINAL-URL:https://www.visitglenarbor.com
X-WR-CALDESC:Events for Glen Lake Chamber of Commerce
REFRESH-INTERVAL;VALUE=DURATION:PT1H
X-Robots-Tag:noindex
X-PUBLISHED-TTL:PT1H
BEGIN:VTIMEZONE
TZID:America/Detroit
BEGIN:DAYLIGHT
TZOFFSETFROM:-0500
TZOFFSETTO:-0400
TZNAME:EDT
DTSTART:20150308T070000
END:DAYLIGHT
BEGIN:STANDARD
TZOFFSETFROM:-0400
TZOFFSETTO:-0500
TZNAME:EST
DTSTART:20151101T060000
END:STANDARD
BEGIN:DAYLIGHT
TZOFFSETFROM:-0500
TZOFFSETTO:-0400
TZNAME:EDT
DTSTART:20160313T070000
END:DAYLIGHT
BEGIN:STANDARD
TZOFFSETFROM:-0400
TZOFFSETTO:-0500
TZNAME:EST
DTSTART:20161106T060000
END:STANDARD
BEGIN:DAYLIGHT
TZOFFSETFROM:-0500
TZOFFSETTO:-0400
TZNAME:EDT
DTSTART:20170312T070000
END:DAYLIGHT
BEGIN:STANDARD
TZOFFSETFROM:-0400
TZOFFSETTO:-0500
TZNAME:EST
DTSTART:20171105T060000
END:STANDARD
END:VTIMEZONE
BEGIN:VEVENT
DTSTART;TZID=America/Detroit:20160430T080000
DTEND;TZID=America/Detroit:20160501T190000
DTSTAMP:20260425T102714
CREATED:20160413T005810Z
LAST-MODIFIED:20200309T054729Z
UID:10002480-1462003200-1462129200@www.visitglenarbor.com
SUMMARY:Spring Sip and Savor
DESCRIPTION:  \nJoin us the weekend of April 30 and May 1\, 2016 for the annual Spring Sip & Savor wine trail weekend.\nSaturday 11:00 to 6:00 pm\nSunday 12:00 to 5:00 pm\n$35 per person\n\n \nAs our vineyards wake to the sun and warmth of May\, enjoy delicious wine and food pairings at 23 wineries along the wine trail. Celebrate spring\, indulge in your senses and learn more about Leelanau Peninsula wines. Most importantly\, it’s really fun! Take the self-guided tour by visiting the tasting rooms in any order on Saturday from 11:00 to 6:00 pm and Sunday from noon to 5:00 pm. Tickets are limited and typically sell out\, so get yours TODAY! \nTickets are $35 and include wine and food pairings at each winery and a souvenir wine glass. In addition\, a $5 donation for every ticket sold goes to the Bruce Simpson Winemakers Scholarship to help students in their quest for a career in viticulture or enology in Northern Michigan. \nGet Tickets from My North \nClick here for Lodging Packages \nTransportation Packages \nFood and Wine Pairings
URL:https://www.visitglenarbor.com/event/spring-sip-and-savor/
LOCATION:MI
CATEGORIES:Local Business Event,Recreation
ORGANIZER;CN="Leelanau Peninsula Wine Trail":MAILTO:info@lpwines.com
END:VEVENT
BEGIN:VEVENT
DTSTART;TZID=America/Detroit:20160507T150000
DTEND;TZID=America/Detroit:20160507T180000
DTSTAMP:20260425T102714
CREATED:20160427T211559Z
LAST-MODIFIED:20160427T211559Z
UID:10002658-1462633200-1462644000@www.visitglenarbor.com
SUMMARY:Wine & Food Tasting Series
DESCRIPTION:Join us on Saturday\, May 7 from 3 – 6pm\, when we will be tasting 3 French wines with Griffin Beverage Co. wine representative Remy Chauchoy. The wines we will be tasting are Picpoul de Pinet (white)\,\nCorbieres Col des Vents 2012 (red) and Lirac Roquedon (red). Complimentary as always\, and appetizers included! \nVisit our website for a complete calendar of upcoming tastings and events at the market!
URL:https://www.visitglenarbor.com/event/wine-food-tasting-series/
LOCATION:Anderson’s Market
ATTACH;FMTTYPE=:
END:VEVENT
BEGIN:VEVENT
DTSTART;TZID=America/Detroit:20160521T150000
DTEND;TZID=America/Detroit:20160521T180000
DTSTAMP:20260425T102714
CREATED:20160416T220223Z
LAST-MODIFIED:20160416T220223Z
UID:10002652-1463842800-1463853600@www.visitglenarbor.com
SUMMARY:Anderson's Market Annual Tasting Celebration
DESCRIPTION:Enjoy new and familiar tastes from your favorite purveyors of edible delights at our annual tasting event\, held in and outside of the market on May 21st. Sample everything from local delicacies to international wines and regional craft beers. A full list will be soon be available of all of the amazing brands who will be at the market during the event. This celebration has quickly become a Glen Arbor tradition for locals & visitors to mingle and welcome the beginning of summer! \nVisit our website for more information: andersonsglenarbor.com/events
URL:https://www.visitglenarbor.com/event/andersons-market-annual-tasting-celebration/
LOCATION:Anderson’s Market
CATEGORIES:Local Business Event
END:VEVENT
END:VCALENDAR