BEGIN:VCALENDAR
VERSION:2.0
PRODID:-//Glen Lake Chamber of Commerce - ECPv6.15.19//NONSGML v1.0//EN
CALSCALE:GREGORIAN
METHOD:PUBLISH
X-WR-CALNAME:Glen Lake Chamber of Commerce
X-ORIGINAL-URL:https://www.visitglenarbor.com
X-WR-CALDESC:Events for Glen Lake Chamber of Commerce
REFRESH-INTERVAL;VALUE=DURATION:PT1H
X-Robots-Tag:noindex
X-PUBLISHED-TTL:PT1H
BEGIN:VTIMEZONE
TZID:America/Detroit
BEGIN:DAYLIGHT
TZOFFSETFROM:-0500
TZOFFSETTO:-0400
TZNAME:EDT
DTSTART:20230312T070000
END:DAYLIGHT
BEGIN:STANDARD
TZOFFSETFROM:-0400
TZOFFSETTO:-0500
TZNAME:EST
DTSTART:20231105T060000
END:STANDARD
BEGIN:DAYLIGHT
TZOFFSETFROM:-0500
TZOFFSETTO:-0400
TZNAME:EDT
DTSTART:20240310T070000
END:DAYLIGHT
BEGIN:STANDARD
TZOFFSETFROM:-0400
TZOFFSETTO:-0500
TZNAME:EST
DTSTART:20241103T060000
END:STANDARD
BEGIN:DAYLIGHT
TZOFFSETFROM:-0500
TZOFFSETTO:-0400
TZNAME:EDT
DTSTART:20250309T070000
END:DAYLIGHT
BEGIN:STANDARD
TZOFFSETFROM:-0400
TZOFFSETTO:-0500
TZNAME:EST
DTSTART:20251102T060000
END:STANDARD
END:VTIMEZONE
BEGIN:VEVENT
DTSTART;TZID=America/Detroit:20240506T180000
DTEND;TZID=America/Detroit:20240506T200000
DTSTAMP:20260422T231946
CREATED:20240411T183136Z
LAST-MODIFIED:20240411T183136Z
UID:10005418-1715018400-1715025600@www.visitglenarbor.com
SUMMARY:Verterra Winery Wine Pairing Dinner at Broomstack
DESCRIPTION:Join Broomstack as we celebrate small plates inspired by the creativity of Leelanau County’s Verterra Winery on Monday\, May 6 at 6PM. $60/pp. Reservations are required. \nPrice does not include tax or gratuity. Please call 231-228-8869 to reserve your seat or discuss menus.
URL:https://www.visitglenarbor.com/event/verterra-winery-wine-pairing-dinner-at-broomstack/
LOCATION:Broomstack Kitchen & Taphouse\, 172 W Burdickville Rd\, Maple City\, MI\, 49664
CATEGORIES:Food/Dining Event,Local Business Event
ATTACH;FMTTYPE=image/jpeg:https://www.visitglenarbor.com/wp-content/uploads/2024/04/Screenshot_20240409_131622_Chrome.jpg
END:VEVENT
END:VCALENDAR