BEGIN:VCALENDAR
VERSION:2.0
PRODID:-//Glen Lake Chamber of Commerce - ECPv6.15.19//NONSGML v1.0//EN
CALSCALE:GREGORIAN
METHOD:PUBLISH
X-WR-CALNAME:Glen Lake Chamber of Commerce
X-ORIGINAL-URL:https://www.visitglenarbor.com
X-WR-CALDESC:Events for Glen Lake Chamber of Commerce
REFRESH-INTERVAL;VALUE=DURATION:PT1H
X-Robots-Tag:noindex
X-PUBLISHED-TTL:PT1H
BEGIN:VTIMEZONE
TZID:America/Detroit
BEGIN:DAYLIGHT
TZOFFSETFROM:-0500
TZOFFSETTO:-0400
TZNAME:EDT
DTSTART:20180311T070000
END:DAYLIGHT
BEGIN:STANDARD
TZOFFSETFROM:-0400
TZOFFSETTO:-0500
TZNAME:EST
DTSTART:20181104T060000
END:STANDARD
BEGIN:DAYLIGHT
TZOFFSETFROM:-0500
TZOFFSETTO:-0400
TZNAME:EDT
DTSTART:20190310T070000
END:DAYLIGHT
BEGIN:STANDARD
TZOFFSETFROM:-0400
TZOFFSETTO:-0500
TZNAME:EST
DTSTART:20191103T060000
END:STANDARD
BEGIN:DAYLIGHT
TZOFFSETFROM:-0500
TZOFFSETTO:-0400
TZNAME:EDT
DTSTART:20200308T070000
END:DAYLIGHT
BEGIN:STANDARD
TZOFFSETFROM:-0400
TZOFFSETTO:-0500
TZNAME:EST
DTSTART:20201101T060000
END:STANDARD
END:VTIMEZONE
BEGIN:VEVENT
DTSTART;TZID=America/Detroit:20191027T110000
DTEND;TZID=America/Detroit:20191027T130000
DTSTAMP:20260422T085232
CREATED:20190910T212825Z
LAST-MODIFIED:20190910T212825Z
UID:10004174-1572174000-1572181200@www.visitglenarbor.com
SUMMARY:Live Music on the Glen Arbor Village Wine Trail
DESCRIPTION:Live Music on the Glen Arbor Village Wine Trail\nPair your fall weekends in September and October with live music and great wine on Michigan’s teeniest wine trail. Here’s where and when the music is playing…\n(Sundays) September 15\, 22\, 29\, October 6\, 13\, 20\, 27:  11 a.m to 1 p.m. Mimosas and Live Music with Clint Weaner at Glen Arbor Wines \n(Fridays) September 27\, October 4: 5 to 8 p.m. Oktoberfest with Live Music at Cherry Republic \n(Saturdays) September 28\, October 5\, 12\, 19\, 26: 3 to 5 p.m. Live Music at M22 Winery with Andre Villoch. \n(Friday) October 25: 5 to 8 p.m. Live Music at Cherry Republic
URL:https://www.visitglenarbor.com/event/live-music-on-the-glen-arbor-village-wine-trail-3/
LOCATION:MI\, United States
CATEGORIES:Food/Dining Event,Kids + Family Friendly,Local Business Event,Wine/Beer or Tasting Event
ATTACH;FMTTYPE=:
ORGANIZER;CN="Glen Arbor Wine Trail":MAILTO:glenarborwines@gmail.com
END:VEVENT
BEGIN:VEVENT
DTSTART;TZID=America/Detroit:20191027T120000
DTEND;TZID=America/Detroit:20191027T160000
DTSTAMP:20260422T085232
CREATED:20190626T190743Z
LAST-MODIFIED:20190626T190743Z
UID:10002893-1572177600-1572192000@www.visitglenarbor.com
SUMMARY:Trick or Treating in Glen Arbor
DESCRIPTION:Enjoy some autumn family fun and come out to Glen Arbor for daytime Trick or Treating the Sunday before Halloween\, October 27th 2019. (This year\, Halloween falls on a Thursday Oct 31st\, 2019). \nDress in costume and invite your friends\, family and neighbors to Trick or Treat at participating businesses from 12-4pm. Free to attend\, Open to the public.  \nEnjoy peak fall color\, shop and dine local retailers. This well attended\, walkable event that goes as long as the treats last!  \nBring non-perishable goods to give to the local food bank ~ trailer to accept goods located outside of Art’s Tavern. \nTake photos\, tag and share yours on social media…#glenarbor #trickortreat  \n                \n\n>> Browse our local Business Directory\, search by category.  \n>> Get “Special Offers & Rates” on places to stay in the Glen Arbor area!
URL:https://www.visitglenarbor.com/event/trick-or-treating-in-glen-arbor-2019/
LOCATION:Downtown Glen Arbor\, Glen Arbor\, MI\, 49636\, United States
CATEGORIES:Community Events,Kids + Family Friendly
ATTACH;FMTTYPE=:
END:VEVENT
END:VCALENDAR