BEGIN:VCALENDAR
VERSION:2.0
PRODID:-//Glen Lake Chamber of Commerce - ECPv6.15.19//NONSGML v1.0//EN
CALSCALE:GREGORIAN
METHOD:PUBLISH
X-ORIGINAL-URL:https://www.visitglenarbor.com
X-WR-CALDESC:Events for Glen Lake Chamber of Commerce
REFRESH-INTERVAL;VALUE=DURATION:PT1H
X-Robots-Tag:noindex
X-PUBLISHED-TTL:PT1H
BEGIN:VTIMEZONE
TZID:America/Detroit
BEGIN:DAYLIGHT
TZOFFSETFROM:-0500
TZOFFSETTO:-0400
TZNAME:EDT
DTSTART:20180311T070000
END:DAYLIGHT
BEGIN:STANDARD
TZOFFSETFROM:-0400
TZOFFSETTO:-0500
TZNAME:EST
DTSTART:20181104T060000
END:STANDARD
BEGIN:DAYLIGHT
TZOFFSETFROM:-0500
TZOFFSETTO:-0400
TZNAME:EDT
DTSTART:20190310T070000
END:DAYLIGHT
BEGIN:STANDARD
TZOFFSETFROM:-0400
TZOFFSETTO:-0500
TZNAME:EST
DTSTART:20191103T060000
END:STANDARD
BEGIN:DAYLIGHT
TZOFFSETFROM:-0500
TZOFFSETTO:-0400
TZNAME:EDT
DTSTART:20200308T070000
END:DAYLIGHT
BEGIN:STANDARD
TZOFFSETFROM:-0400
TZOFFSETTO:-0500
TZNAME:EST
DTSTART:20201101T060000
END:STANDARD
END:VTIMEZONE
BEGIN:VEVENT
DTSTART;TZID=America/Detroit:20190704T120000
DTEND;TZID=America/Detroit:20190704T130000
DTSTAMP:20260422T212005
CREATED:20190422T213719Z
LAST-MODIFIED:20190422T213719Z
UID:10003235-1562241600-1562245200@www.visitglenarbor.com
SUMMARY:4th of July Parade in Glen Arbor
DESCRIPTION:Glen Arbor 4th of July Parade\nHead on down to Glen Arbor and shop/dine – most places are open for at least half the day for visitors. Grab a spot and enjoy the big 4th of July Parade downtown Glen Arbor\, beginning at 12pm. The parade leaves from Glen Haven making its way through to the North/East end of town. This year’s parade Marshal is Jim Fowler and the Glen Arbor Park Commission. \nIf you’re a boater\, you can join in on the boat parade 4th of July evening on the Glen Lake beginning at 4pm in front of the Yacht Club. \n\nParticipate…\nEveryone is welcome and “anything goes!” \nWant to participate in the parade? Cyclists (kids and families) and Walkers can join in the parade starting at the Christian Science Church. Cars and Floats participating in the parade\, please meet at Glen Haven to line up 45 min prior to the parade start time. The parade begins at Noon.  \nWant a front row seat? Volunteer! We always need as many parade volunteers as possible. Bring your own broom to help walk with the parade and sweep the candy back towards the crowd\, to keep kids off the street and safe. \nEnjoy the area…\nMost shops and restaurants are open part of the day for you! Please make sure to come to town early to park and enjoy shopping the lovely retailers and art galleries. Whether you’ll end up back where you’re staying or head back home\, there’s a beach or lake or trail for you to enjoy some outdoor recreation the remainder of the holiday. \nMore to celebrate on the 4th…\n>>Flag Raising Ceremony | Old Settlers Park @ 10am \n>>Boat Parade | On the Glen Lakes @4pm \n>>Pancake Breakfast | Sunday\, July 7th at the Town Hall\n\nParade photos courtesy of Raquel Jackson \n#4thofJuly #glenarbor #parade #thingstodo #summertime #glenlake
URL:https://www.visitglenarbor.com/event/4th-of-july-parade-2019/
LOCATION:Downtown Glen Arbor\, Glen Arbor\, MI\, 49636\, United States
CATEGORIES:Community Events,Kids + Family Friendly
ATTACH;FMTTYPE=:
END:VEVENT
BEGIN:VEVENT
DTSTART;TZID=America/Detroit:20190704T160000
DTEND;TZID=America/Detroit:20190704T180000
DTSTAMP:20260422T212005
CREATED:20190626T044718Z
LAST-MODIFIED:20200309T054940Z
UID:10002891-1562256000-1562263200@www.visitglenarbor.com
SUMMARY:Glen Lake Boat Parade
DESCRIPTION:Thursday\, July 4th\, 2019 @4pm ~ Glen Lake Boat Parade \nAll boats Welcome\, the more the merrier! Boat Decorations encouraged but not required! Meet in front of the Glen Lake Yacht Club \nFollow the “On The Narrows Marina” lead boat along the shore of Glen Lake through the bridge and Little Glen and back . . . Come Join in the Fun! \n\nThis event not organized by the Yacht Club\, please keep off of and respect private property.\nEvent notice from: Carol McCahill
URL:https://www.visitglenarbor.com/event/2019-4th-of-july-glen-lake-boat-parade/
LOCATION:MI
CATEGORIES:Kids + Family Friendly
ATTACH;FMTTYPE=image/jpeg:https://www.visitglenarbor.com/wp-content/uploads/2020/03/Boat-Parade_4th-of-July_Glen-Lake-Glen-Arbor-MI.jpg
END:VEVENT
END:VCALENDAR