BEGIN:VCALENDAR
VERSION:2.0
PRODID:-//Glen Lake Chamber of Commerce - ECPv6.15.19//NONSGML v1.0//EN
CALSCALE:GREGORIAN
METHOD:PUBLISH
X-ORIGINAL-URL:https://www.visitglenarbor.com
X-WR-CALDESC:Events for Glen Lake Chamber of Commerce
REFRESH-INTERVAL;VALUE=DURATION:PT1H
X-Robots-Tag:noindex
X-PUBLISHED-TTL:PT1H
BEGIN:VTIMEZONE
TZID:America/Detroit
BEGIN:DAYLIGHT
TZOFFSETFROM:-0500
TZOFFSETTO:-0400
TZNAME:EDT
DTSTART:20220313T070000
END:DAYLIGHT
BEGIN:STANDARD
TZOFFSETFROM:-0400
TZOFFSETTO:-0500
TZNAME:EST
DTSTART:20221106T060000
END:STANDARD
BEGIN:DAYLIGHT
TZOFFSETFROM:-0500
TZOFFSETTO:-0400
TZNAME:EDT
DTSTART:20230312T070000
END:DAYLIGHT
BEGIN:STANDARD
TZOFFSETFROM:-0400
TZOFFSETTO:-0500
TZNAME:EST
DTSTART:20231105T060000
END:STANDARD
BEGIN:DAYLIGHT
TZOFFSETFROM:-0500
TZOFFSETTO:-0400
TZNAME:EDT
DTSTART:20240310T070000
END:DAYLIGHT
BEGIN:STANDARD
TZOFFSETFROM:-0400
TZOFFSETTO:-0500
TZNAME:EST
DTSTART:20241103T060000
END:STANDARD
END:VTIMEZONE
BEGIN:VEVENT
DTSTART;TZID=America/Detroit:20230601T180000
DTEND;TZID=America/Detroit:20230601T210000
DTSTAMP:20260423T153555
CREATED:20221121T183249Z
LAST-MODIFIED:20230126T202602Z
UID:10004723-1685642400-1685653200@www.visitglenarbor.com
SUMMARY:Blotter Reading/Game @ Glen Arbor Wines
DESCRIPTION:Join Darci Ricker at Glen Arbor Wines every Thursday for a fun weekly winter gathering. She presents a humorous reading of the (humorous) weekly Leelanau Enterprise Police Blotter calls. Stay for the infamous “Blotter Backstory” contest\, in which participants write the backstory/endings of the most humorous calls. Prizes are given for most creative!
URL:https://www.visitglenarbor.com/event/blotter-reading-game-glen-arbor-wines/2023-06-01/
LOCATION:Glen Arbor Wines
CATEGORIES:Local Business Event,Wine/Beer or Tasting Event
ATTACH;FMTTYPE=image/jpeg:https://www.visitglenarbor.com/wp-content/uploads/2022/11/blotter-reading-glen-arbor-wines-event.jpg
END:VEVENT
BEGIN:VEVENT
DTSTART;TZID=America/Detroit:20230607T173000
DTEND;TZID=America/Detroit:20230607T183000
DTSTAMP:20260423T153555
CREATED:20211004T141427Z
LAST-MODIFIED:20211004T141427Z
UID:10004468-1686159000-1686162600@www.visitglenarbor.com
SUMMARY:Yen Yoga at Nature
DESCRIPTION:Join us in an inspiring space for a community yoga class\, held weekly on Wednesday’s at 5:30 pm. Hosted at Nature in Maple City by Yen Yoga & Fitness. \nThis ia an all-level yoga flow class. Please bring your own yoga mat and practice social distancing. \nSign up to participate is required at yenyogafitness.com  You may sign up online up to 8 days in advance\, or feel free to call us at 231-421-5496
URL:https://www.visitglenarbor.com/event/yen-yoga-at-nature/2023-06-07/
LOCATION:Nature\, 2988 W Burdickville Rd\, Maple City\, MI\, 49664\, United States
CATEGORIES:Community Events,Kids + Family Friendly,Recreation
ATTACH;FMTTYPE=image/png:https://www.visitglenarbor.com/wp-content/uploads/2021/03/Green-Inspirational-Spring-Quote-Facebook-Post.png
ORGANIZER;CN="Nature - A Michigan Retreat":MAILTO:admin@naturemichigan.com
END:VEVENT
BEGIN:VEVENT
DTSTART;TZID=America/Detroit:20230608T180000
DTEND;TZID=America/Detroit:20230608T210000
DTSTAMP:20260423T153555
CREATED:20221121T183249Z
LAST-MODIFIED:20230126T202602Z
UID:10004724-1686247200-1686258000@www.visitglenarbor.com
SUMMARY:Blotter Reading/Game @ Glen Arbor Wines
DESCRIPTION:Join Darci Ricker at Glen Arbor Wines every Thursday for a fun weekly winter gathering. She presents a humorous reading of the (humorous) weekly Leelanau Enterprise Police Blotter calls. Stay for the infamous “Blotter Backstory” contest\, in which participants write the backstory/endings of the most humorous calls. Prizes are given for most creative!
URL:https://www.visitglenarbor.com/event/blotter-reading-game-glen-arbor-wines/2023-06-08/
LOCATION:Glen Arbor Wines
CATEGORIES:Local Business Event,Wine/Beer or Tasting Event
ATTACH;FMTTYPE=image/jpeg:https://www.visitglenarbor.com/wp-content/uploads/2022/11/blotter-reading-glen-arbor-wines-event.jpg
END:VEVENT
BEGIN:VEVENT
DTSTART;TZID=America/Detroit:20230614T173000
DTEND;TZID=America/Detroit:20230614T183000
DTSTAMP:20260423T153555
CREATED:20211004T141427Z
LAST-MODIFIED:20211004T141427Z
UID:10004469-1686763800-1686767400@www.visitglenarbor.com
SUMMARY:Yen Yoga at Nature
DESCRIPTION:Join us in an inspiring space for a community yoga class\, held weekly on Wednesday’s at 5:30 pm. Hosted at Nature in Maple City by Yen Yoga & Fitness. \nThis ia an all-level yoga flow class. Please bring your own yoga mat and practice social distancing. \nSign up to participate is required at yenyogafitness.com  You may sign up online up to 8 days in advance\, or feel free to call us at 231-421-5496
URL:https://www.visitglenarbor.com/event/yen-yoga-at-nature/2023-06-14/
LOCATION:Nature\, 2988 W Burdickville Rd\, Maple City\, MI\, 49664\, United States
CATEGORIES:Community Events,Kids + Family Friendly,Recreation
ATTACH;FMTTYPE=image/png:https://www.visitglenarbor.com/wp-content/uploads/2021/03/Green-Inspirational-Spring-Quote-Facebook-Post.png
ORGANIZER;CN="Nature - A Michigan Retreat":MAILTO:admin@naturemichigan.com
END:VEVENT
BEGIN:VEVENT
DTSTART;TZID=America/Detroit:20230615T180000
DTEND;TZID=America/Detroit:20230615T210000
DTSTAMP:20260423T153555
CREATED:20221121T183249Z
LAST-MODIFIED:20230126T202602Z
UID:10004725-1686852000-1686862800@www.visitglenarbor.com
SUMMARY:Blotter Reading/Game @ Glen Arbor Wines
DESCRIPTION:Join Darci Ricker at Glen Arbor Wines every Thursday for a fun weekly winter gathering. She presents a humorous reading of the (humorous) weekly Leelanau Enterprise Police Blotter calls. Stay for the infamous “Blotter Backstory” contest\, in which participants write the backstory/endings of the most humorous calls. Prizes are given for most creative!
URL:https://www.visitglenarbor.com/event/blotter-reading-game-glen-arbor-wines/2023-06-15/
LOCATION:Glen Arbor Wines
CATEGORIES:Local Business Event,Wine/Beer or Tasting Event
ATTACH;FMTTYPE=image/jpeg:https://www.visitglenarbor.com/wp-content/uploads/2022/11/blotter-reading-glen-arbor-wines-event.jpg
END:VEVENT
BEGIN:VEVENT
DTSTART;TZID=America/Detroit:20230621T173000
DTEND;TZID=America/Detroit:20230621T183000
DTSTAMP:20260423T153555
CREATED:20211004T141427Z
LAST-MODIFIED:20211004T141427Z
UID:10004470-1687368600-1687372200@www.visitglenarbor.com
SUMMARY:Yen Yoga at Nature
DESCRIPTION:Join us in an inspiring space for a community yoga class\, held weekly on Wednesday’s at 5:30 pm. Hosted at Nature in Maple City by Yen Yoga & Fitness. \nThis ia an all-level yoga flow class. Please bring your own yoga mat and practice social distancing. \nSign up to participate is required at yenyogafitness.com  You may sign up online up to 8 days in advance\, or feel free to call us at 231-421-5496
URL:https://www.visitglenarbor.com/event/yen-yoga-at-nature/2023-06-21/
LOCATION:Nature\, 2988 W Burdickville Rd\, Maple City\, MI\, 49664\, United States
CATEGORIES:Community Events,Kids + Family Friendly,Recreation
ATTACH;FMTTYPE=image/png:https://www.visitglenarbor.com/wp-content/uploads/2021/03/Green-Inspirational-Spring-Quote-Facebook-Post.png
ORGANIZER;CN="Nature - A Michigan Retreat":MAILTO:admin@naturemichigan.com
END:VEVENT
BEGIN:VEVENT
DTSTART;TZID=America/Detroit:20230628T173000
DTEND;TZID=America/Detroit:20230628T183000
DTSTAMP:20260423T153555
CREATED:20211004T141427Z
LAST-MODIFIED:20211004T141427Z
UID:10004471-1687973400-1687977000@www.visitglenarbor.com
SUMMARY:Yen Yoga at Nature
DESCRIPTION:Join us in an inspiring space for a community yoga class\, held weekly on Wednesday’s at 5:30 pm. Hosted at Nature in Maple City by Yen Yoga & Fitness. \nThis ia an all-level yoga flow class. Please bring your own yoga mat and practice social distancing. \nSign up to participate is required at yenyogafitness.com  You may sign up online up to 8 days in advance\, or feel free to call us at 231-421-5496
URL:https://www.visitglenarbor.com/event/yen-yoga-at-nature/2023-06-28/
LOCATION:Nature\, 2988 W Burdickville Rd\, Maple City\, MI\, 49664\, United States
CATEGORIES:Community Events,Kids + Family Friendly,Recreation
ATTACH;FMTTYPE=image/png:https://www.visitglenarbor.com/wp-content/uploads/2021/03/Green-Inspirational-Spring-Quote-Facebook-Post.png
ORGANIZER;CN="Nature - A Michigan Retreat":MAILTO:admin@naturemichigan.com
END:VEVENT
END:VCALENDAR