BEGIN:VCALENDAR
VERSION:2.0
PRODID:-//Glen Lake Chamber of Commerce - ECPv6.15.20//NONSGML v1.0//EN
CALSCALE:GREGORIAN
METHOD:PUBLISH
X-ORIGINAL-URL:https://www.visitglenarbor.com
X-WR-CALDESC:Events for Glen Lake Chamber of Commerce
REFRESH-INTERVAL;VALUE=DURATION:PT1H
X-Robots-Tag:noindex
X-PUBLISHED-TTL:PT1H
BEGIN:VTIMEZONE
TZID:America/Detroit
BEGIN:DAYLIGHT
TZOFFSETFROM:-0500
TZOFFSETTO:-0400
TZNAME:EDT
DTSTART:20210314T070000
END:DAYLIGHT
BEGIN:STANDARD
TZOFFSETFROM:-0400
TZOFFSETTO:-0500
TZNAME:EST
DTSTART:20211107T060000
END:STANDARD
BEGIN:DAYLIGHT
TZOFFSETFROM:-0500
TZOFFSETTO:-0400
TZNAME:EDT
DTSTART:20220313T070000
END:DAYLIGHT
BEGIN:STANDARD
TZOFFSETFROM:-0400
TZOFFSETTO:-0500
TZNAME:EST
DTSTART:20221106T060000
END:STANDARD
BEGIN:DAYLIGHT
TZOFFSETFROM:-0500
TZOFFSETTO:-0400
TZNAME:EDT
DTSTART:20230312T070000
END:DAYLIGHT
BEGIN:STANDARD
TZOFFSETFROM:-0400
TZOFFSETTO:-0500
TZNAME:EST
DTSTART:20231105T060000
END:STANDARD
END:VTIMEZONE
BEGIN:VEVENT
DTSTART;TZID=America/Detroit:20221201T160000
DTEND;TZID=America/Detroit:20221201T190000
DTSTAMP:20260424T143836
CREATED:20221018T165506Z
LAST-MODIFIED:20221130T173229Z
UID:10003881-1669910400-1669921200@www.visitglenarbor.com
SUMMARY:Locals Night
DESCRIPTION:Grab a friend or neighbor and come enjoy “Locals Night” in Glen Arbor for a fun\, festive evening of shopping and dining. Participating businesses may offer their own promotions and specials during this event on Thursday\, December 1st\, 2022 from 4-7pm.  \nVIEW EVENT ON FACEBOOK \n\nPlan your evening to visit these participating businesses:\nCottonseed Apparel \nCoastal \nM22 Glen Arbor \nCherry Republic \nInn & Trail Gourmet \nNorthwoods Hardware \nCottage Book Shop \nArts Tavern – The Annex store will be open\, plus grab a drink and some grub at your favorite Glen Arbor pub. \nBoonedocks – Shop then Eat! Feast at Boonedocks\, open for drinks and dinner. \nGlen Arbor Wines will be offering complimentary cheese fondue by Mel & Fell catering from 4 – 7pm along with our Christmas Marketplace. At 7 p.m. Darci Ricker conduct our hilarious Leelanau Enterprise Police Blotter readings along with holiday trivia. If you haven’t Blotted yet at Glen Arbor Wines this is a great chance to get in on the fun! \n\nWant to participate and be added here? Questions about the event? Contact us at info@visitglenarbor.com
URL:https://www.visitglenarbor.com/event/glen-arbor-locals-night-22/
LOCATION:Downtown Glen Arbor\, Glen Arbor\, MI\, 49636\, United States
CATEGORIES:Food/Dining Event,Local Business Event,Shopping,Wine/Beer or Tasting Event
ATTACH;FMTTYPE=image/png:https://www.visitglenarbor.com/wp-content/uploads/2022/10/locals-night-2022-glen-arbor-1.png
END:VEVENT
BEGIN:VEVENT
DTSTART;TZID=America/Detroit:20221201T160000
DTEND;TZID=America/Detroit:20221201T210000
DTSTAMP:20260424T143836
CREATED:20221121T145238Z
LAST-MODIFIED:20221121T183408Z
UID:10004726-1669910400-1669928400@www.visitglenarbor.com
SUMMARY:Holiday Mini Marketplace @ Glen Arbor Wine
DESCRIPTION:Local artisans display their craft for sale; Mel & Fell cheese fondue (complimentary) pop up all followed by a Locals Blowout Blotter Reading/Game. Don’t miss this fun event!
URL:https://www.visitglenarbor.com/event/holiday-mini-marketplace-glen-arbor-wine/
LOCATION:Glen Arbor Wines
CATEGORIES:Local Business Event
ATTACH;FMTTYPE=image/jpeg:https://www.visitglenarbor.com/wp-content/uploads/2022/11/marketplace.jpg
ORGANIZER;CN="Glen Arbor Wines":MAILTO:Glenarborwines@gmail.com
END:VEVENT
BEGIN:VEVENT
DTSTART;TZID=America/Detroit:20221201T180000
DTEND;TZID=America/Detroit:20221201T210000
DTSTAMP:20260424T143836
CREATED:20221121T183249Z
LAST-MODIFIED:20230126T202602Z
UID:10004697-1669917600-1669928400@www.visitglenarbor.com
SUMMARY:Blotter Reading/Game @ Glen Arbor Wines
DESCRIPTION:Join Darci Ricker at Glen Arbor Wines every Thursday for a fun weekly winter gathering. She presents a humorous reading of the (humorous) weekly Leelanau Enterprise Police Blotter calls. Stay for the infamous “Blotter Backstory” contest\, in which participants write the backstory/endings of the most humorous calls. Prizes are given for most creative!
URL:https://www.visitglenarbor.com/event/blotter-reading-game-glen-arbor-wines/2022-12-01/
LOCATION:Glen Arbor Wines
CATEGORIES:Local Business Event,Wine/Beer or Tasting Event
ATTACH;FMTTYPE=image/jpeg:https://www.visitglenarbor.com/wp-content/uploads/2022/11/blotter-reading-glen-arbor-wines-event.jpg
END:VEVENT
BEGIN:VEVENT
DTSTART;TZID=America/Detroit:20221207T173000
DTEND;TZID=America/Detroit:20221207T183000
DTSTAMP:20260424T143836
CREATED:20211004T141427Z
LAST-MODIFIED:20211004T141427Z
UID:10004442-1670434200-1670437800@www.visitglenarbor.com
SUMMARY:Yen Yoga at Nature
DESCRIPTION:Join us in an inspiring space for a community yoga class\, held weekly on Wednesday’s at 5:30 pm. Hosted at Nature in Maple City by Yen Yoga & Fitness. \nThis ia an all-level yoga flow class. Please bring your own yoga mat and practice social distancing. \nSign up to participate is required at yenyogafitness.com  You may sign up online up to 8 days in advance\, or feel free to call us at 231-421-5496
URL:https://www.visitglenarbor.com/event/yen-yoga-at-nature/2022-12-07/
LOCATION:Nature\, 2988 W Burdickville Rd\, Maple City\, MI\, 49664\, United States
CATEGORIES:Community Events,Kids + Family Friendly,Recreation
ATTACH;FMTTYPE=image/png:https://www.visitglenarbor.com/wp-content/uploads/2021/03/Green-Inspirational-Spring-Quote-Facebook-Post.png
ORGANIZER;CN="Nature - A Michigan Retreat":MAILTO:admin@naturemichigan.com
END:VEVENT
BEGIN:VEVENT
DTSTART;TZID=America/Detroit:20221208T180000
DTEND;TZID=America/Detroit:20221208T210000
DTSTAMP:20260424T143836
CREATED:20221121T183249Z
LAST-MODIFIED:20230126T202602Z
UID:10004698-1670522400-1670533200@www.visitglenarbor.com
SUMMARY:Blotter Reading/Game @ Glen Arbor Wines
DESCRIPTION:Join Darci Ricker at Glen Arbor Wines every Thursday for a fun weekly winter gathering. She presents a humorous reading of the (humorous) weekly Leelanau Enterprise Police Blotter calls. Stay for the infamous “Blotter Backstory” contest\, in which participants write the backstory/endings of the most humorous calls. Prizes are given for most creative!
URL:https://www.visitglenarbor.com/event/blotter-reading-game-glen-arbor-wines/2022-12-08/
LOCATION:Glen Arbor Wines
CATEGORIES:Local Business Event,Wine/Beer or Tasting Event
ATTACH;FMTTYPE=image/jpeg:https://www.visitglenarbor.com/wp-content/uploads/2022/11/blotter-reading-glen-arbor-wines-event.jpg
END:VEVENT
BEGIN:VEVENT
DTSTART;TZID=America/Detroit:20221214T173000
DTEND;TZID=America/Detroit:20221214T183000
DTSTAMP:20260424T143836
CREATED:20211004T141427Z
LAST-MODIFIED:20211004T141427Z
UID:10004443-1671039000-1671042600@www.visitglenarbor.com
SUMMARY:Yen Yoga at Nature
DESCRIPTION:Join us in an inspiring space for a community yoga class\, held weekly on Wednesday’s at 5:30 pm. Hosted at Nature in Maple City by Yen Yoga & Fitness. \nThis ia an all-level yoga flow class. Please bring your own yoga mat and practice social distancing. \nSign up to participate is required at yenyogafitness.com  You may sign up online up to 8 days in advance\, or feel free to call us at 231-421-5496
URL:https://www.visitglenarbor.com/event/yen-yoga-at-nature/2022-12-14/
LOCATION:Nature\, 2988 W Burdickville Rd\, Maple City\, MI\, 49664\, United States
CATEGORIES:Community Events,Kids + Family Friendly,Recreation
ATTACH;FMTTYPE=image/png:https://www.visitglenarbor.com/wp-content/uploads/2021/03/Green-Inspirational-Spring-Quote-Facebook-Post.png
ORGANIZER;CN="Nature - A Michigan Retreat":MAILTO:admin@naturemichigan.com
END:VEVENT
BEGIN:VEVENT
DTSTART;TZID=America/Detroit:20221215T180000
DTEND;TZID=America/Detroit:20221215T210000
DTSTAMP:20260424T143836
CREATED:20221121T183249Z
LAST-MODIFIED:20230126T202602Z
UID:10004699-1671127200-1671138000@www.visitglenarbor.com
SUMMARY:Blotter Reading/Game @ Glen Arbor Wines
DESCRIPTION:Join Darci Ricker at Glen Arbor Wines every Thursday for a fun weekly winter gathering. She presents a humorous reading of the (humorous) weekly Leelanau Enterprise Police Blotter calls. Stay for the infamous “Blotter Backstory” contest\, in which participants write the backstory/endings of the most humorous calls. Prizes are given for most creative!
URL:https://www.visitglenarbor.com/event/blotter-reading-game-glen-arbor-wines/2022-12-15/
LOCATION:Glen Arbor Wines
CATEGORIES:Local Business Event,Wine/Beer or Tasting Event
ATTACH;FMTTYPE=image/jpeg:https://www.visitglenarbor.com/wp-content/uploads/2022/11/blotter-reading-glen-arbor-wines-event.jpg
END:VEVENT
BEGIN:VEVENT
DTSTART;TZID=America/Detroit:20221217T100000
DTEND;TZID=America/Detroit:20221217T160000
DTSTAMP:20260424T143836
CREATED:20221018T165910Z
LAST-MODIFIED:20221215T173131Z
UID:10003883-1671271200-1671292800@www.visitglenarbor.com
SUMMARY:Shop & Sweets Saturday 2022
DESCRIPTION:Bring the family to shop local for the holidays while enjoying some festive treats\, activities and specials available at participating businesses in Glen Arbor. Shop & Sweets Saturday will take place on December 17th from 10am-4pm. Dressing in Ugly Sweaters encouraged! \nVIEW EVENT ON FACEBOOK \n\nPop into these participating businesses:\nLeelanau Coffee Roasting \nCottonseed Apparel \nCherry Republic \nGlen Lake Salon \nInn & Trail Gourmet \nNorthwoods Hardware \nCoastal  \nM22 Glen Arbor– offering sweet treats as well as M22 wine specials \nGlen Arbor Wines will be offering complimentary chocolate fondue by Mel & Fell from 12-4pm along with our Christmas Marketplace and a special “Take Your Pets Pic With Santa” opportunity. \n\nWant to participate and be added here? Questions about the event? Contact us at info@visitglenarbor.com
URL:https://www.visitglenarbor.com/event/shop-sweets-saturday-2022/
LOCATION:Downtown Glen Arbor\, Glen Arbor\, MI\, 49636\, United States
CATEGORIES:Food/Dining Event,Kids + Family Friendly,Local Business Event,Shopping
ATTACH;FMTTYPE=image/png:https://www.visitglenarbor.com/wp-content/uploads/2021/10/Shop-Sweets-Saturday-Glen-Arbor-Holiday-Events-e1671125394733.png
END:VEVENT
BEGIN:VEVENT
DTSTART;TZID=America/Detroit:20221217T130000
DTEND;TZID=America/Detroit:20221217T160000
DTSTAMP:20260424T143836
CREATED:20221121T150321Z
LAST-MODIFIED:20221121T150321Z
UID:10004727-1671282000-1671292800@www.visitglenarbor.com
SUMMARY:Pet Photos w/Santa
DESCRIPTION:In celebration of the Glen Arbor Chamber’s Shop & Sweets day\, bring your pet to Glen Arbor Wines to visit Santa and snap a pic from 1 to 4 p.m.! Also\, the last day of the Glen Arbor Wines Christmas mini market place and Mel & Fell (complimentary) chocolate fondue pop up.
URL:https://www.visitglenarbor.com/event/pet-photos-w-santa/
LOCATION:Glen Arbor Wines
CATEGORIES:Community Events
ATTACH;FMTTYPE=image/jpeg:https://www.visitglenarbor.com/wp-content/uploads/2022/11/download.jpg
ORGANIZER;CN="Glen Arbor Wines":MAILTO:Glenarborwines@gmail.com
END:VEVENT
BEGIN:VEVENT
DTSTART;TZID=America/Detroit:20221221T173000
DTEND;TZID=America/Detroit:20221221T183000
DTSTAMP:20260424T143836
CREATED:20211004T141427Z
LAST-MODIFIED:20211004T141427Z
UID:10004444-1671643800-1671647400@www.visitglenarbor.com
SUMMARY:Yen Yoga at Nature
DESCRIPTION:Join us in an inspiring space for a community yoga class\, held weekly on Wednesday’s at 5:30 pm. Hosted at Nature in Maple City by Yen Yoga & Fitness. \nThis ia an all-level yoga flow class. Please bring your own yoga mat and practice social distancing. \nSign up to participate is required at yenyogafitness.com  You may sign up online up to 8 days in advance\, or feel free to call us at 231-421-5496
URL:https://www.visitglenarbor.com/event/yen-yoga-at-nature/2022-12-21/
LOCATION:Nature\, 2988 W Burdickville Rd\, Maple City\, MI\, 49664\, United States
CATEGORIES:Community Events,Kids + Family Friendly,Recreation
ATTACH;FMTTYPE=image/png:https://www.visitglenarbor.com/wp-content/uploads/2021/03/Green-Inspirational-Spring-Quote-Facebook-Post.png
ORGANIZER;CN="Nature - A Michigan Retreat":MAILTO:admin@naturemichigan.com
END:VEVENT
BEGIN:VEVENT
DTSTART;TZID=America/Detroit:20221222T180000
DTEND;TZID=America/Detroit:20221222T210000
DTSTAMP:20260424T143836
CREATED:20221121T183249Z
LAST-MODIFIED:20230126T202602Z
UID:10004700-1671732000-1671742800@www.visitglenarbor.com
SUMMARY:Blotter Reading/Game @ Glen Arbor Wines
DESCRIPTION:Join Darci Ricker at Glen Arbor Wines every Thursday for a fun weekly winter gathering. She presents a humorous reading of the (humorous) weekly Leelanau Enterprise Police Blotter calls. Stay for the infamous “Blotter Backstory” contest\, in which participants write the backstory/endings of the most humorous calls. Prizes are given for most creative!
URL:https://www.visitglenarbor.com/event/blotter-reading-game-glen-arbor-wines/2022-12-22/
LOCATION:Glen Arbor Wines
CATEGORIES:Local Business Event,Wine/Beer or Tasting Event
ATTACH;FMTTYPE=image/jpeg:https://www.visitglenarbor.com/wp-content/uploads/2022/11/blotter-reading-glen-arbor-wines-event.jpg
END:VEVENT
BEGIN:VEVENT
DTSTART;TZID=America/Detroit:20221228T173000
DTEND;TZID=America/Detroit:20221228T183000
DTSTAMP:20260424T143836
CREATED:20211004T141427Z
LAST-MODIFIED:20211004T141427Z
UID:10004445-1672248600-1672252200@www.visitglenarbor.com
SUMMARY:Yen Yoga at Nature
DESCRIPTION:Join us in an inspiring space for a community yoga class\, held weekly on Wednesday’s at 5:30 pm. Hosted at Nature in Maple City by Yen Yoga & Fitness. \nThis ia an all-level yoga flow class. Please bring your own yoga mat and practice social distancing. \nSign up to participate is required at yenyogafitness.com  You may sign up online up to 8 days in advance\, or feel free to call us at 231-421-5496
URL:https://www.visitglenarbor.com/event/yen-yoga-at-nature/2022-12-28/
LOCATION:Nature\, 2988 W Burdickville Rd\, Maple City\, MI\, 49664\, United States
CATEGORIES:Community Events,Kids + Family Friendly,Recreation
ATTACH;FMTTYPE=image/png:https://www.visitglenarbor.com/wp-content/uploads/2021/03/Green-Inspirational-Spring-Quote-Facebook-Post.png
ORGANIZER;CN="Nature - A Michigan Retreat":MAILTO:admin@naturemichigan.com
END:VEVENT
BEGIN:VEVENT
DTSTART;TZID=America/Detroit:20221229T180000
DTEND;TZID=America/Detroit:20221229T210000
DTSTAMP:20260424T143836
CREATED:20221121T183249Z
LAST-MODIFIED:20230126T202602Z
UID:10004701-1672336800-1672347600@www.visitglenarbor.com
SUMMARY:Blotter Reading/Game @ Glen Arbor Wines
DESCRIPTION:Join Darci Ricker at Glen Arbor Wines every Thursday for a fun weekly winter gathering. She presents a humorous reading of the (humorous) weekly Leelanau Enterprise Police Blotter calls. Stay for the infamous “Blotter Backstory” contest\, in which participants write the backstory/endings of the most humorous calls. Prizes are given for most creative!
URL:https://www.visitglenarbor.com/event/blotter-reading-game-glen-arbor-wines/2022-12-29/
LOCATION:Glen Arbor Wines
CATEGORIES:Local Business Event,Wine/Beer or Tasting Event
ATTACH;FMTTYPE=image/jpeg:https://www.visitglenarbor.com/wp-content/uploads/2022/11/blotter-reading-glen-arbor-wines-event.jpg
END:VEVENT
BEGIN:VEVENT
DTSTART;TZID=America/Detroit:20221231T080000
DTEND;TZID=America/Detroit:20221231T120000
DTSTAMP:20260424T143836
CREATED:20221228T215038Z
LAST-MODIFIED:20221228T215113Z
UID:10004742-1672473600-1672488000@www.visitglenarbor.com
SUMMARY:New Year's Eve Chicken & Waffles Pop-up Brunch
DESCRIPTION:New Year’s Eve Chicken & Waffles Pop-up Brunch being held on Saturday\, December 31st\, 8am-Noonish at the Glen Arbor Bed & Breakfast! Yuummmm…..Need we say more?\n\nThe menu includes: Cinnamon Sugar Waffles\, Whipped Cream & Fruit\, Buttermilk Fried Chicken\, Waffle and Hot Honey\, Savory Cheddar Cornmeal Waffles with Poachie\, Coffee and Cider.\n \n\nCall or text Laura Cavender the Innkeeper with questions or to RSVP (231)631-3664. Please bring fancy brunch money; whatever seems fair/generous. The main focus on this brunch is fun and community. If you have no money\, please still come. All are welcome.
URL:https://www.visitglenarbor.com/event/gabb-new-years-eve-brunch/
LOCATION:Glen Arbor Bed & Breakfast\, 6548 Western Ave\, Glen Arbor\, MI\, 49636\, United States
CATEGORIES:Community Events,Food/Dining Event
ATTACH;FMTTYPE=image/jpeg:https://www.visitglenarbor.com/wp-content/uploads/2022/12/QniPaint_1.8.7652_1613917609830.jpg
ORGANIZER;CN="Glen Arbor Bed & Breakfast":MAILTO:innkeeper@glenarborbnb.com
END:VEVENT
END:VCALENDAR