BEGIN:VCALENDAR
VERSION:2.0
PRODID:-//Glen Lake Chamber of Commerce - ECPv6.15.20//NONSGML v1.0//EN
CALSCALE:GREGORIAN
METHOD:PUBLISH
X-WR-CALNAME:Glen Lake Chamber of Commerce
X-ORIGINAL-URL:https://www.visitglenarbor.com
X-WR-CALDESC:Events for Glen Lake Chamber of Commerce
REFRESH-INTERVAL;VALUE=DURATION:PT1H
X-Robots-Tag:noindex
X-PUBLISHED-TTL:PT1H
BEGIN:VTIMEZONE
TZID:America/Detroit
BEGIN:DAYLIGHT
TZOFFSETFROM:-0500
TZOFFSETTO:-0400
TZNAME:EDT
DTSTART:20210314T070000
END:DAYLIGHT
BEGIN:STANDARD
TZOFFSETFROM:-0400
TZOFFSETTO:-0500
TZNAME:EST
DTSTART:20211107T060000
END:STANDARD
BEGIN:DAYLIGHT
TZOFFSETFROM:-0500
TZOFFSETTO:-0400
TZNAME:EDT
DTSTART:20220313T070000
END:DAYLIGHT
BEGIN:STANDARD
TZOFFSETFROM:-0400
TZOFFSETTO:-0500
TZNAME:EST
DTSTART:20221106T060000
END:STANDARD
BEGIN:DAYLIGHT
TZOFFSETFROM:-0500
TZOFFSETTO:-0400
TZNAME:EDT
DTSTART:20230312T070000
END:DAYLIGHT
BEGIN:STANDARD
TZOFFSETFROM:-0400
TZOFFSETTO:-0500
TZNAME:EST
DTSTART:20231105T060000
END:STANDARD
END:VTIMEZONE
BEGIN:VEVENT
DTSTART;TZID=America/Detroit:20221005T173000
DTEND;TZID=America/Detroit:20221005T183000
DTSTAMP:20260425T124612
CREATED:20211004T141427Z
LAST-MODIFIED:20211004T141427Z
UID:10004433-1664991000-1664994600@www.visitglenarbor.com
SUMMARY:Yen Yoga at Nature
DESCRIPTION:Join us in an inspiring space for a community yoga class\, held weekly on Wednesday’s at 5:30 pm. Hosted at Nature in Maple City by Yen Yoga & Fitness. \nThis ia an all-level yoga flow class. Please bring your own yoga mat and practice social distancing. \nSign up to participate is required at yenyogafitness.com  You may sign up online up to 8 days in advance\, or feel free to call us at 231-421-5496
URL:https://www.visitglenarbor.com/event/yen-yoga-at-nature/2022-10-05/
LOCATION:Nature\, 2988 W Burdickville Rd\, Maple City\, MI\, 49664\, United States
CATEGORIES:Community Events,Kids + Family Friendly,Recreation
ATTACH;FMTTYPE=image/png:https://www.visitglenarbor.com/wp-content/uploads/2021/03/Green-Inspirational-Spring-Quote-Facebook-Post.png
ORGANIZER;CN="Nature - A Michigan Retreat":MAILTO:admin@naturemichigan.com
END:VEVENT
BEGIN:VEVENT
DTSTART;TZID=America/Detroit:20221012T173000
DTEND;TZID=America/Detroit:20221012T183000
DTSTAMP:20260425T124612
CREATED:20211004T141427Z
LAST-MODIFIED:20211004T141427Z
UID:10004434-1665595800-1665599400@www.visitglenarbor.com
SUMMARY:Yen Yoga at Nature
DESCRIPTION:Join us in an inspiring space for a community yoga class\, held weekly on Wednesday’s at 5:30 pm. Hosted at Nature in Maple City by Yen Yoga & Fitness. \nThis ia an all-level yoga flow class. Please bring your own yoga mat and practice social distancing. \nSign up to participate is required at yenyogafitness.com  You may sign up online up to 8 days in advance\, or feel free to call us at 231-421-5496
URL:https://www.visitglenarbor.com/event/yen-yoga-at-nature/2022-10-12/
LOCATION:Nature\, 2988 W Burdickville Rd\, Maple City\, MI\, 49664\, United States
CATEGORIES:Community Events,Kids + Family Friendly,Recreation
ATTACH;FMTTYPE=image/png:https://www.visitglenarbor.com/wp-content/uploads/2021/03/Green-Inspirational-Spring-Quote-Facebook-Post.png
ORGANIZER;CN="Nature - A Michigan Retreat":MAILTO:admin@naturemichigan.com
END:VEVENT
BEGIN:VEVENT
DTSTART;TZID=America/Detroit:20221019T173000
DTEND;TZID=America/Detroit:20221019T183000
DTSTAMP:20260425T124612
CREATED:20211004T141427Z
LAST-MODIFIED:20211004T141427Z
UID:10004435-1666200600-1666204200@www.visitglenarbor.com
SUMMARY:Yen Yoga at Nature
DESCRIPTION:Join us in an inspiring space for a community yoga class\, held weekly on Wednesday’s at 5:30 pm. Hosted at Nature in Maple City by Yen Yoga & Fitness. \nThis ia an all-level yoga flow class. Please bring your own yoga mat and practice social distancing. \nSign up to participate is required at yenyogafitness.com  You may sign up online up to 8 days in advance\, or feel free to call us at 231-421-5496
URL:https://www.visitglenarbor.com/event/yen-yoga-at-nature/2022-10-19/
LOCATION:Nature\, 2988 W Burdickville Rd\, Maple City\, MI\, 49664\, United States
CATEGORIES:Community Events,Kids + Family Friendly,Recreation
ATTACH;FMTTYPE=image/png:https://www.visitglenarbor.com/wp-content/uploads/2021/03/Green-Inspirational-Spring-Quote-Facebook-Post.png
ORGANIZER;CN="Nature - A Michigan Retreat":MAILTO:admin@naturemichigan.com
END:VEVENT
BEGIN:VEVENT
DTSTART;TZID=America/Detroit:20221026T173000
DTEND;TZID=America/Detroit:20221026T183000
DTSTAMP:20260425T124612
CREATED:20211004T141427Z
LAST-MODIFIED:20211004T141427Z
UID:10004436-1666805400-1666809000@www.visitglenarbor.com
SUMMARY:Yen Yoga at Nature
DESCRIPTION:Join us in an inspiring space for a community yoga class\, held weekly on Wednesday’s at 5:30 pm. Hosted at Nature in Maple City by Yen Yoga & Fitness. \nThis ia an all-level yoga flow class. Please bring your own yoga mat and practice social distancing. \nSign up to participate is required at yenyogafitness.com  You may sign up online up to 8 days in advance\, or feel free to call us at 231-421-5496
URL:https://www.visitglenarbor.com/event/yen-yoga-at-nature/2022-10-26/
LOCATION:Nature\, 2988 W Burdickville Rd\, Maple City\, MI\, 49664\, United States
CATEGORIES:Community Events,Kids + Family Friendly,Recreation
ATTACH;FMTTYPE=image/png:https://www.visitglenarbor.com/wp-content/uploads/2021/03/Green-Inspirational-Spring-Quote-Facebook-Post.png
ORGANIZER;CN="Nature - A Michigan Retreat":MAILTO:admin@naturemichigan.com
END:VEVENT
BEGIN:VEVENT
DTSTART;TZID=America/Detroit:20221027T193000
DTEND;TZID=America/Detroit:20221027T210000
DTSTAMP:20260425T124612
CREATED:20221018T174352Z
LAST-MODIFIED:20221018T174352Z
UID:10003885-1666899000-1666904400@www.visitglenarbor.com
SUMMARY:Anatomy of a Murder
DESCRIPTION:The Glen Arbor Players are very excited to announce the staging of our new play\, Anatomy of a Murder\, directed by Ron Smith. The play is based on a true story that took place in the Michigan Upper Peninsula in the 1950’s and was written by the defense attorney who actually worked the case and later became a Michigan Supreme Court Justice. \nMr. Smith was quoted as saying “the cast is one of the largest in our twelve year history as well as our most experienced with almost 300 years of collective stage experience. The play will be performed at the Glen Lake Church\, 4902 West Macfarlane\, Glen arbor. Play dates are October 27\, 28 and 29 th at 7:30pm. Admission is free. Goodwill donations are accepted and refreshments will be served. \nThe story is based on the defense of an army lieutenant who was accused of killing a bartender in cold blood who had allegedly raped his wife. The story was made into a movie in 1959 that starred James Stewart\, Lee Remick\, Ben Gazzara\, Eve Arden and George C. Scott. \nThe movie was awarded six (6) Academy Awards and has been lauded as “probably the finest pure trial movie ever made.” The US Library of Congress has preserved the film as being “culturally\, historically and aesthetically significant.”
URL:https://www.visitglenarbor.com/event/glen-arbor-players-anatomy-of-a-murder/2022-10-27/
LOCATION:Glen Lake Community Reformed Church\, 4902 W. MacFarlane Rd.\, Glen Arbor\, MI\, 49636\, United States
CATEGORIES:Recreation
ATTACH;FMTTYPE=image/jpeg:https://www.visitglenarbor.com/wp-content/uploads/2022/10/Anatomy_of_a_Murder_play-graphic.jpeg
ORGANIZER;CN="Glen Arbor Players":MAILTO:TeddyH@centurytel.net
END:VEVENT
BEGIN:VEVENT
DTSTART;TZID=America/Detroit:20221028T193000
DTEND;TZID=America/Detroit:20221028T210000
DTSTAMP:20260425T124612
CREATED:20221018T174352Z
LAST-MODIFIED:20221018T174352Z
UID:10003886-1666985400-1666990800@www.visitglenarbor.com
SUMMARY:Anatomy of a Murder
DESCRIPTION:The Glen Arbor Players are very excited to announce the staging of our new play\, Anatomy of a Murder\, directed by Ron Smith. The play is based on a true story that took place in the Michigan Upper Peninsula in the 1950’s and was written by the defense attorney who actually worked the case and later became a Michigan Supreme Court Justice. \nMr. Smith was quoted as saying “the cast is one of the largest in our twelve year history as well as our most experienced with almost 300 years of collective stage experience. The play will be performed at the Glen Lake Church\, 4902 West Macfarlane\, Glen arbor. Play dates are October 27\, 28 and 29 th at 7:30pm. Admission is free. Goodwill donations are accepted and refreshments will be served. \nThe story is based on the defense of an army lieutenant who was accused of killing a bartender in cold blood who had allegedly raped his wife. The story was made into a movie in 1959 that starred James Stewart\, Lee Remick\, Ben Gazzara\, Eve Arden and George C. Scott. \nThe movie was awarded six (6) Academy Awards and has been lauded as “probably the finest pure trial movie ever made.” The US Library of Congress has preserved the film as being “culturally\, historically and aesthetically significant.”
URL:https://www.visitglenarbor.com/event/glen-arbor-players-anatomy-of-a-murder/2022-10-28/
LOCATION:Glen Lake Community Reformed Church\, 4902 W. MacFarlane Rd.\, Glen Arbor\, MI\, 49636\, United States
CATEGORIES:Recreation
ATTACH;FMTTYPE=image/jpeg:https://www.visitglenarbor.com/wp-content/uploads/2022/10/Anatomy_of_a_Murder_play-graphic.jpeg
ORGANIZER;CN="Glen Arbor Players":MAILTO:TeddyH@centurytel.net
END:VEVENT
BEGIN:VEVENT
DTSTART;TZID=America/Detroit:20221029T193000
DTEND;TZID=America/Detroit:20221029T210000
DTSTAMP:20260425T124612
CREATED:20221018T174352Z
LAST-MODIFIED:20221018T174352Z
UID:10003887-1667071800-1667077200@www.visitglenarbor.com
SUMMARY:Anatomy of a Murder
DESCRIPTION:The Glen Arbor Players are very excited to announce the staging of our new play\, Anatomy of a Murder\, directed by Ron Smith. The play is based on a true story that took place in the Michigan Upper Peninsula in the 1950’s and was written by the defense attorney who actually worked the case and later became a Michigan Supreme Court Justice. \nMr. Smith was quoted as saying “the cast is one of the largest in our twelve year history as well as our most experienced with almost 300 years of collective stage experience. The play will be performed at the Glen Lake Church\, 4902 West Macfarlane\, Glen arbor. Play dates are October 27\, 28 and 29 th at 7:30pm. Admission is free. Goodwill donations are accepted and refreshments will be served. \nThe story is based on the defense of an army lieutenant who was accused of killing a bartender in cold blood who had allegedly raped his wife. The story was made into a movie in 1959 that starred James Stewart\, Lee Remick\, Ben Gazzara\, Eve Arden and George C. Scott. \nThe movie was awarded six (6) Academy Awards and has been lauded as “probably the finest pure trial movie ever made.” The US Library of Congress has preserved the film as being “culturally\, historically and aesthetically significant.”
URL:https://www.visitglenarbor.com/event/glen-arbor-players-anatomy-of-a-murder/2022-10-29/
LOCATION:Glen Lake Community Reformed Church\, 4902 W. MacFarlane Rd.\, Glen Arbor\, MI\, 49636\, United States
CATEGORIES:Recreation
ATTACH;FMTTYPE=image/jpeg:https://www.visitglenarbor.com/wp-content/uploads/2022/10/Anatomy_of_a_Murder_play-graphic.jpeg
ORGANIZER;CN="Glen Arbor Players":MAILTO:TeddyH@centurytel.net
END:VEVENT
BEGIN:VEVENT
DTSTART;TZID=America/Detroit:20221030T120000
DTEND;TZID=America/Detroit:20221030T150000
DTSTAMP:20260425T124612
CREATED:20220829T163641Z
LAST-MODIFIED:20220907T151156Z
UID:10004684-1667131200-1667142000@www.visitglenarbor.com
SUMMARY:Trick or Treating 2022
DESCRIPTION:Enjoy some family fun and come to Glen Arbor for daytime Trick or Treating in the business district. This year\, it will take place on Sunday\, October 30th from 12-3pm (or until the treats run out!) Dress in costume and invite your friends\, family and neighbors to Trick or Treat at participating open businesses. Open to the public\, Free to attend. We encourage you to “shop small and eat local\,” too. \n\nPlus\, bring your non-perishable panty and household goods for the local food bank. Donate your items in the trailer parked outside of Art’s Tavern. \n\nTake photos\, tag and share yours on social media with #glenarbortrickortreat
URL:https://www.visitglenarbor.com/event/trick-or-treat-glen-arbor-2022/
LOCATION:Downtown Glen Arbor\, Glen Arbor\, MI\, 49636\, United States
CATEGORIES:Community Events,Kids + Family Friendly,Local Business Event
ATTACH;FMTTYPE=image/jpeg:https://www.visitglenarbor.com/wp-content/uploads/2020/03/IMG_3448-e1507585832147.jpg
END:VEVENT
END:VCALENDAR