BEGIN:VCALENDAR
VERSION:2.0
PRODID:-//Glen Lake Chamber of Commerce - ECPv6.15.20//NONSGML v1.0//EN
CALSCALE:GREGORIAN
METHOD:PUBLISH
X-WR-CALNAME:Glen Lake Chamber of Commerce
X-ORIGINAL-URL:https://www.visitglenarbor.com
X-WR-CALDESC:Events for Glen Lake Chamber of Commerce
REFRESH-INTERVAL;VALUE=DURATION:PT1H
X-Robots-Tag:noindex
X-PUBLISHED-TTL:PT1H
BEGIN:VTIMEZONE
TZID:America/Detroit
BEGIN:DAYLIGHT
TZOFFSETFROM:-0500
TZOFFSETTO:-0400
TZNAME:EDT
DTSTART:20170312T070000
END:DAYLIGHT
BEGIN:STANDARD
TZOFFSETFROM:-0400
TZOFFSETTO:-0500
TZNAME:EST
DTSTART:20171105T060000
END:STANDARD
BEGIN:DAYLIGHT
TZOFFSETFROM:-0500
TZOFFSETTO:-0400
TZNAME:EDT
DTSTART:20180311T070000
END:DAYLIGHT
BEGIN:STANDARD
TZOFFSETFROM:-0400
TZOFFSETTO:-0500
TZNAME:EST
DTSTART:20181104T060000
END:STANDARD
BEGIN:DAYLIGHT
TZOFFSETFROM:-0500
TZOFFSETTO:-0400
TZNAME:EDT
DTSTART:20190310T070000
END:DAYLIGHT
BEGIN:STANDARD
TZOFFSETFROM:-0400
TZOFFSETTO:-0500
TZNAME:EST
DTSTART:20191103T060000
END:STANDARD
END:VTIMEZONE
BEGIN:VEVENT
DTSTART;TZID=America/Detroit:20181214T193000
DTEND;TZID=America/Detroit:20181214T210000
DTSTAMP:20260425T141513
CREATED:20181122T000918Z
LAST-MODIFIED:20181122T000918Z
UID:10003183-1544815800-1544821200@www.visitglenarbor.com
SUMMARY:The Bells of Saint Mary's Dec 14
DESCRIPTION:The Glen Arbor Players ring in the holidays with “The Bells of Saint Mary’s\,” a Christmas-time classic. Performances are December 14 + 15\, 7:30 pm at the Glen Lake Community Reformed Church\, 4902 W. MacFarlane Road\, Burdickville. \n“The Bells of Saint Mary’s” debuted in 1945 as a film drama produced and directed by Leo McCarey\, and starring Bing Crosby and Ingrid Bergman. The story centers on a priest and a nun\, who\, despite their good-natured rivalry\, try to save their school from being shut down. The Glen Arbor Players’ production is adapted from the 1947 radio script. GAP veteran player Ron Smith directs this production. \nThe performances are free. No reservations are required. The Glen Arbor Players is a project of the Glen Arbor Arts Center. For more information\, go to\nGlenArborArt.org\, and click on THEATER.
URL:https://www.visitglenarbor.com/event/the-bells-of-saint-marys-dec-14/
LOCATION:Glen Lake Community Reformed Church\, 4902 W MacFarlane Rd\, Glen Arbor\, MI\, 49636\, United States
ATTACH;FMTTYPE=:
END:VEVENT
BEGIN:VEVENT
DTSTART;TZID=America/Detroit:20181215T193000
DTEND;TZID=America/Detroit:20181215T210000
DTSTAMP:20260425T141513
CREATED:20181122T000940Z
LAST-MODIFIED:20181122T000940Z
UID:10003185-1544902200-1544907600@www.visitglenarbor.com
SUMMARY:The Bells of Saint Mary's
DESCRIPTION:The Glen Arbor Players ring in the holidays with “The Bells of Saint Mary’s\,” a Christmas-time classic. Performances are December 14 + 15\, 7:30 pm at the Glen Lake Community Reformed Church\, 4902 W. MacFarlane Road\, Burdickville. \n“The Bells of Saint Mary’s” debuted in 1945 as a film drama produced and directed by Leo McCarey\, and starring Bing Crosby and Ingrid Bergman. The story centers on a priest and a nun\, who\, despite their good-natured rivalry\, try to save their school from being shut down. The Glen Arbor Players’ production is adapted from the 1947 radio script. GAP veteran player Ron Smith directs this production. \nThe performances are free. No reservations are required. The Glen Arbor Players is a project of the Glen Arbor Arts Center. For more information\, go to\nGlenArborArt.org\, and click on THEATER.
URL:https://www.visitglenarbor.com/event/the-bells-of-saint-marys/
LOCATION:Glen Lake Community Reformed Church\, 4902 W MacFarlane Rd\, Glen Arbor\, MI\, 49636\, United States
ATTACH;FMTTYPE=:
END:VEVENT
END:VCALENDAR