BEGIN:VCALENDAR
VERSION:2.0
PRODID:-//Glen Lake Chamber of Commerce - ECPv6.15.19//NONSGML v1.0//EN
CALSCALE:GREGORIAN
METHOD:PUBLISH
X-WR-CALNAME:Glen Lake Chamber of Commerce
X-ORIGINAL-URL:https://www.visitglenarbor.com
X-WR-CALDESC:Events for Glen Lake Chamber of Commerce
REFRESH-INTERVAL;VALUE=DURATION:PT1H
X-Robots-Tag:noindex
X-PUBLISHED-TTL:PT1H
BEGIN:VTIMEZONE
TZID:America/Detroit
BEGIN:DAYLIGHT
TZOFFSETFROM:-0500
TZOFFSETTO:-0400
TZNAME:EDT
DTSTART:20220313T070000
END:DAYLIGHT
BEGIN:STANDARD
TZOFFSETFROM:-0400
TZOFFSETTO:-0500
TZNAME:EST
DTSTART:20221106T060000
END:STANDARD
BEGIN:DAYLIGHT
TZOFFSETFROM:-0500
TZOFFSETTO:-0400
TZNAME:EDT
DTSTART:20230312T070000
END:DAYLIGHT
BEGIN:STANDARD
TZOFFSETFROM:-0400
TZOFFSETTO:-0500
TZNAME:EST
DTSTART:20231105T060000
END:STANDARD
BEGIN:DAYLIGHT
TZOFFSETFROM:-0500
TZOFFSETTO:-0400
TZNAME:EDT
DTSTART:20240310T070000
END:DAYLIGHT
BEGIN:STANDARD
TZOFFSETFROM:-0400
TZOFFSETTO:-0500
TZNAME:EST
DTSTART:20241103T060000
END:STANDARD
END:VTIMEZONE
BEGIN:VEVENT
DTSTART;TZID=America/Detroit:20230511T170000
DTEND;TZID=America/Detroit:20230511T190000
DTSTAMP:20260419T113228
CREATED:20230418T180558Z
LAST-MODIFIED:20230502T173314Z
UID:10004815-1683824400-1683831600@www.visitglenarbor.com
SUMMARY:Chamber Connect: May 2023
DESCRIPTION:Come and meet your NEW Chamber Officers and Board Members!\nJoin us on May 11th from 5-7pm at M22 Glen Arbor’s wine patio for the first “Chamber Connect” of the season. Members of the community\, local businesses and organizations are invited to connect with the Glen Lake Chamber in a social hour. From learning about business updates and meeting new people\, Chamber Connect is a chance to cultivate conversations and support each other. \nFree to attend. Open to Chamber and Non-Chamber members. Already a member? You’re encouraged to attend and invite a non-member\, neighbor\, friend\, or colleague. Four events are planned throughout the 2023 season.
URL:https://www.visitglenarbor.com/event/chamber-connect-may-2023/
LOCATION:M22 Outdoor Wine Patio\, 6298 W. Western Ave\, Glen Arbor\, MI\, 49636\, United States
CATEGORIES:Chamber Events,Community Events,Wine/Beer or Tasting Event
ATTACH;FMTTYPE=image/jpeg:https://www.visitglenarbor.com/wp-content/uploads/2022/02/CRO5.29.18-67_wine-tasting-M22-glen-arbor-1-scaled-e1643918646526.jpg
END:VEVENT
END:VCALENDAR