BEGIN:VCALENDAR
VERSION:2.0
PRODID:-//Glen Lake Chamber of Commerce - ECPv6.15.19//NONSGML v1.0//EN
CALSCALE:GREGORIAN
METHOD:PUBLISH
X-ORIGINAL-URL:https://www.visitglenarbor.com
X-WR-CALDESC:Events for Glen Lake Chamber of Commerce
REFRESH-INTERVAL;VALUE=DURATION:PT1H
X-Robots-Tag:noindex
X-PUBLISHED-TTL:PT1H
BEGIN:VTIMEZONE
TZID:America/Detroit
BEGIN:DAYLIGHT
TZOFFSETFROM:-0500
TZOFFSETTO:-0400
TZNAME:EDT
DTSTART:20140309T070000
END:DAYLIGHT
BEGIN:STANDARD
TZOFFSETFROM:-0400
TZOFFSETTO:-0500
TZNAME:EST
DTSTART:20141102T060000
END:STANDARD
BEGIN:DAYLIGHT
TZOFFSETFROM:-0500
TZOFFSETTO:-0400
TZNAME:EDT
DTSTART:20150308T070000
END:DAYLIGHT
BEGIN:STANDARD
TZOFFSETFROM:-0400
TZOFFSETTO:-0500
TZNAME:EST
DTSTART:20151101T060000
END:STANDARD
BEGIN:DAYLIGHT
TZOFFSETFROM:-0500
TZOFFSETTO:-0400
TZNAME:EDT
DTSTART:20160313T070000
END:DAYLIGHT
BEGIN:STANDARD
TZOFFSETFROM:-0400
TZOFFSETTO:-0500
TZNAME:EST
DTSTART:20161106T060000
END:STANDARD
END:VTIMEZONE
BEGIN:VEVENT
DTSTART;TZID=America/Detroit:20150815T090000
DTEND;TZID=America/Detroit:20150815T110000
DTSTAMP:20260423T120637
CREATED:20150813T234507Z
LAST-MODIFIED:20200309T054712Z
UID:10002574-1439629200-1439636400@www.visitglenarbor.com
SUMMARY:Dune Dash
DESCRIPTION:Dune Dash – Saturday\, August 15 \nWant to help\, but don’t want to run/walk at the Dune Dash? No Problem –\nWe need volunteers to help at registration and as route marshals. Here is the contact info if you can help out: www.dunedash.com\, or contact TART Trails at info@traversetrails.org or 231-941-4300. \nTraverse Area Recreation and Transportation Trails (TART)\, Inc. is a proud partner of the 4th annual Dune Dash\, a 4-mile run/walk along the Sleeping Bear Heritage Trail (SBHT)\, to be held at 9 a.m. this Saturday\, August 15\, 2015 at the Sleeping Bear Dune Climb. The course showcases the trail\, which opened during summer of 2012 within the Sleeping Bear Dunes National Lakeshore. \nThe Dune Dash is organized by the creators of the Zombie Run\, with support from the Sleeping Bear Dunes National Lakeshore and TART Trails. According to Matt Ross\, the founder and coordinator of the event\, “If you are not familiar with the SBHT\, participating in the Dune Dash is the perfect time to experience and support the trail.”   \nThe event is on as scheduled despite last Sunday’s storm which knocked down hundreds of trees and rendered the trail impassable. The Friends of Sleeping Bear Dunes volunteer crews have been working with National Parks Service all week to clear the trail. The run/walk starts and finishes at the Dune Climb and follows the flat paved trail\, passing by rolling sand dunes and scenic forest before turning around near Glen Haven. The only stretch of the SBHT that remains closed is between Glen Haven and Glen Arbor which will not affect the event. \nAll registered participants will receive a t-shirt\, professionally timed results\, and refreshments. Awards will be given to the top three male and female finishers\, and age-group winners. Packet pick up and late registration will be held on Friday\, August 14th from 5pm-7pm at the Filling Station Microbrewery in Traverse City. There will be no day of registration (In accordance to federal law\, day of registration cannot take place within the Sleeping Bear Dunes National Lake Shore.) Registration ranges from $15-30 per person based on age and prices go up $5 after Thursday\, August 13th. \nProceeds from the event support the continued development of the Sleeping Bear Heritage Trail. The event has raised $7\,500 to date for trail support. For more information on the Dune Dash visit www.dunedash.com\, or contact TART Trails at info@traversetrails.org or 231-941-4300
URL:https://www.visitglenarbor.com/event/dune-dash/
LOCATION:Dune Climb\, 6478 S. Dune Highway\, Glen Arbor\, MI\, 49636\, United States
CATEGORIES:Community Events,Race,Recreation
ATTACH;FMTTYPE=image/png:https://www.visitglenarbor.com/wp-content/uploads/2020/03/Dune-Dash_4-mile-Run-walk_Glen-Arbor-MI.png
ORGANIZER;CN="TART Trails":MAILTO:info@traversetrails.org
END:VEVENT
END:VCALENDAR